BEGIN:VCALENDAR
VERSION:2.0
PRODID:-//Kentucky Cruises - ECPv6.6.3//NONSGML v1.0//EN
CALSCALE:GREGORIAN
METHOD:PUBLISH
X-ORIGINAL-URL:https://kentuckycruises.com
X-WR-CALDESC:Events for Kentucky Cruises
REFRESH-INTERVAL;VALUE=DURATION:PT1H
X-Robots-Tag:noindex
X-PUBLISHED-TTL:PT1H
BEGIN:VTIMEZONE
TZID:America/Kentucky/Louisville
BEGIN:DAYLIGHT
TZOFFSETFROM:-0500
TZOFFSETTO:-0400
TZNAME:EDT
DTSTART:20220313T070000
END:DAYLIGHT
BEGIN:STANDARD
TZOFFSETFROM:-0400
TZOFFSETTO:-0500
TZNAME:EST
DTSTART:20221106T060000
END:STANDARD
END:VTIMEZONE
BEGIN:VEVENT
DTSTART;TZID=America/Kentucky/Louisville:20220521T090000
DTEND;TZID=America/Kentucky/Louisville:20220521T120000
DTSTAMP:20260420T050404
CREATED:20220421T192811Z
LAST-MODIFIED:20220421T192811Z
UID:10010609-1653123600-1653134400@kentuckycruises.com
SUMMARY:Revs for Randy
DESCRIPTION:This past week lost someone very close to the car community. \nWe are finding a way to honor randy and the things he has done for the car community with also having respect for the place to let us use there location. \nThank you to Xscape theaters for letting us use there parking lot for this event. \nWe will use the auxiliary parking lot to the left of the theater so we are not blocking them from getting customers in. \nNo burnouts and/or excessive revving until you get onto public roads. \nhttps://www.facebook.com/events/288789870074063 \n 
URL:https://kentuckycruises.com/event/revs-for-randy/
LOCATION:Xscape Theatres Blankenbaker 16\, 12450 Sycamore Station Pl\, Louisville\, KY\, 40299\, United States
ATTACH;FMTTYPE=image/jpeg:https://kentuckycruises.com/wp-content/uploads/2022/04/277534562_1327576901090607_6829732927941677315_n.jpg
GEO:38.2224546;-85.5315303
X-APPLE-STRUCTURED-LOCATION;VALUE=URI;X-ADDRESS=Xscape Theatres Blankenbaker 16 12450 Sycamore Station Pl Louisville KY 40299 United States;X-APPLE-RADIUS=500;X-TITLE=12450 Sycamore Station Pl:geo:-85.5315303,38.2224546
END:VEVENT
END:VCALENDAR