BEGIN:VCALENDAR
VERSION:2.0
PRODID:-//Kentucky Cruises - ECPv6.6.3//NONSGML v1.0//EN
CALSCALE:GREGORIAN
METHOD:PUBLISH
X-WR-CALNAME:Kentucky Cruises
X-ORIGINAL-URL:https://kentuckycruises.com
X-WR-CALDESC:Events for Kentucky Cruises
REFRESH-INTERVAL;VALUE=DURATION:PT1H
X-Robots-Tag:noindex
X-PUBLISHED-TTL:PT1H
BEGIN:VTIMEZONE
TZID:America/Chicago
BEGIN:DAYLIGHT
TZOFFSETFROM:-0600
TZOFFSETTO:-0500
TZNAME:CDT
DTSTART:20210314T080000
END:DAYLIGHT
BEGIN:STANDARD
TZOFFSETFROM:-0500
TZOFFSETTO:-0600
TZNAME:CST
DTSTART:20211107T070000
END:STANDARD
END:VTIMEZONE
BEGIN:VEVENT
DTSTART;TZID=America/Chicago:20211107T110000
DTEND;TZID=America/Chicago:20211107T170000
DTSTAMP:20260425T225706
CREATED:20211021T024428Z
LAST-MODIFIED:20211021T024428Z
UID:10008101-1636282800-1636304400@kentuckycruises.com
SUMMARY:Benefit Car Show for Hannah Renai Benningfield ( Fuller)
DESCRIPTION:All American Camaro and Firebird Association along with Fat Monkey Garage is hosting a benefit for the family of Hannah Benningfield. 23 year old Hannah became a victim of domestic violence on August 26\, 2021. She was a beautiful young woman with a heart of gold and was a helping to hand to others whether she knew them or not. Hannah leaves behind 2 beautiful children ages 5 & 3. Hannah did not have any life insurance\, so all proceeds from this show will help her family pay for her final expenses and the care of her children. Showcasing cars\, trucks\, Jeeps\, motorcycles\, soapbox derby and dirt track stock cars\, this show is sponsored by Modern Welding of Owensboro\, KY. Trophies awarded will be sponsor’s choice. Wicked Ways Car Club will be assisting the show and will present unique hand constructed awards\, one for club participation and one for Wicked Ways choice. In addition to the show there will food trucks\, door prizes\, 50/50 pot and\, even though Halloween will be over\, candy is forever\, so there will also be trunk or treating so bring those kiddos!!! Show participants will pay a $20 entry fee\, all of which goes to the family. So bring those rides and the family out to support Hannah’s and bring some awareness to domestic violence. We look forward to seeing everyone! \nhttps://www.facebook.com/events/421337442949377 \nClick below to enlarge for details.
URL:https://kentuckycruises.com/event/benefit-car-show-for-hannah-renai-benningfield-fuller/
LOCATION:Windy Hollow Speedway\, 4731 Windy Hollow Rd\, Owensboro\, KY\, 42301\, United States
ATTACH;FMTTYPE=image/jpeg:https://kentuckycruises.com/wp-content/uploads/2021/10/245519862_3147720795460108_5393203714824170223_n.jpg
GEO:37.6678299;-87.2215422
X-APPLE-STRUCTURED-LOCATION;VALUE=URI;X-ADDRESS=Windy Hollow Speedway 4731 Windy Hollow Rd Owensboro KY 42301 United States;X-APPLE-RADIUS=500;X-TITLE=4731 Windy Hollow Rd:geo:-87.2215422,37.6678299
END:VEVENT
END:VCALENDAR