BEGIN:VCALENDAR
VERSION:2.0
PRODID:-//Kentucky Cruises - ECPv6.6.3//NONSGML v1.0//EN
CALSCALE:GREGORIAN
METHOD:PUBLISH
X-WR-CALNAME:Kentucky Cruises
X-ORIGINAL-URL:https://kentuckycruises.com
X-WR-CALDESC:Events for Kentucky Cruises
REFRESH-INTERVAL;VALUE=DURATION:PT1H
X-Robots-Tag:noindex
X-PUBLISHED-TTL:PT1H
BEGIN:VTIMEZONE
TZID:America/Kentucky/Louisville
BEGIN:DAYLIGHT
TZOFFSETFROM:-0500
TZOFFSETTO:-0400
TZNAME:EDT
DTSTART:20210314T070000
END:DAYLIGHT
BEGIN:STANDARD
TZOFFSETFROM:-0400
TZOFFSETTO:-0500
TZNAME:EST
DTSTART:20211107T060000
END:STANDARD
BEGIN:DAYLIGHT
TZOFFSETFROM:-0500
TZOFFSETTO:-0400
TZNAME:EDT
DTSTART:20220313T070000
END:DAYLIGHT
BEGIN:STANDARD
TZOFFSETFROM:-0400
TZOFFSETTO:-0500
TZNAME:EST
DTSTART:20221106T060000
END:STANDARD
END:VTIMEZONE
BEGIN:VEVENT
DTSTART;TZID=America/Kentucky/Louisville:20220820T100000
DTEND;TZID=America/Kentucky/Louisville:20220820T140000
DTSTAMP:20260424T164306
CREATED:20220722T194722Z
LAST-MODIFIED:20220722T194722Z
UID:10010825-1660989600-1661004000@kentuckycruises.com
SUMMARY:WHITE MILLS DAYS CAR SHOW
DESCRIPTION:Annual car show at the Christian camp in beautiful White Mills KY. Best in show\, Best early and late BOP Chevy\, Ford\, Mopar\, best truck\, import\, ratrod\, Camaro\, Mustang other and original. Plus top 50.
URL:https://kentuckycruises.com/event/white-mills-days-car-show-9/
LOCATION:White Mills Christian Camp\, 154 Old Kentucky 84\, White Mills\, KY\, 42788\, United States
ATTACH;FMTTYPE=image/jpeg:https://kentuckycruises.com/wp-content/uploads/2022/07/car-show-2022-FLYER.jpg
ORGANIZER;CN="WHITE MILLS CIVIC LEGUE":MAILTO:bobrisner01@gmail.com
GEO:37.5553288;-86.0312162
X-APPLE-STRUCTURED-LOCATION;VALUE=URI;X-ADDRESS=White Mills Christian Camp 154 Old Kentucky 84 White Mills KY 42788 United States;X-APPLE-RADIUS=500;X-TITLE=154 Old Kentucky 84:geo:-86.0312162,37.5553288
END:VEVENT
BEGIN:VEVENT
DTSTART;TZID=America/Kentucky/Louisville:20210821T100000
DTEND;TZID=America/Kentucky/Louisville:20210821T170000
DTSTAMP:20260424T164306
CREATED:20210430T025930Z
LAST-MODIFIED:20210819T153325Z
UID:10009541-1629540000-1629565200@kentuckycruises.com
SUMMARY:White Mills Days Car Show
DESCRIPTION:Car show entry fee $20 \nClick below to enlarge for details and contact info.
URL:https://kentuckycruises.com/event/white-mills-days-car-show-8/
LOCATION:White Mills Christian Camp\, 154 Old Kentucky 84\, White Mills\, KY\, 42788\, United States
ATTACH;FMTTYPE=image/jpeg:https://kentuckycruises.com/wp-content/uploads/2021/05/160036827_2884269701851146_8664769431239214258_n.jpg
GEO:37.5553288;-86.0312162
X-APPLE-STRUCTURED-LOCATION;VALUE=URI;X-ADDRESS=White Mills Christian Camp 154 Old Kentucky 84 White Mills KY 42788 United States;X-APPLE-RADIUS=500;X-TITLE=154 Old Kentucky 84:geo:-86.0312162,37.5553288
END:VEVENT
END:VCALENDAR