BEGIN:VCALENDAR
VERSION:2.0
PRODID:-//Kentucky Cruises - ECPv6.6.3//NONSGML v1.0//EN
CALSCALE:GREGORIAN
METHOD:PUBLISH
X-ORIGINAL-URL:https://kentuckycruises.com
X-WR-CALDESC:Events for Kentucky Cruises
REFRESH-INTERVAL;VALUE=DURATION:PT1H
X-Robots-Tag:noindex
X-PUBLISHED-TTL:PT1H
BEGIN:VTIMEZONE
TZID:America/Kentucky/Louisville
BEGIN:DAYLIGHT
TZOFFSETFROM:-0500
TZOFFSETTO:-0400
TZNAME:EDT
DTSTART:20210314T070000
END:DAYLIGHT
BEGIN:STANDARD
TZOFFSETFROM:-0400
TZOFFSETTO:-0500
TZNAME:EST
DTSTART:20211107T060000
END:STANDARD
END:VTIMEZONE
BEGIN:VEVENT
DTSTART;TZID=America/Kentucky/Louisville:20210909T190000
DTEND;TZID=America/Kentucky/Louisville:20210909T220000
DTSTAMP:20260421T062305
CREATED:20210819T032107Z
LAST-MODIFIED:20210903T023758Z
UID:10009970-1631214000-1631224800@kentuckycruises.com
SUMMARY:Beers & Gears
DESCRIPTION:Springfield Township Beer Garden at The Grove Event Center Patio \n9158 Winton Road \nThursday\, September 9\, 2021 \n7-10p.m. \nMusic by Don’t Tell Steve\, Unplugged \nCraft Beer by Brinks Brewery \nFood Trucks: Kabobske Mediterranean and Granny’s Goodies on the Go \nBring your car to the Cruise In or simply relax under the lights of our new beer garden at The Grove Event Center patio to see the cars\, listen to acoustic music and catch up with old friends. Each night will feature a different brewery and food truck. Corn hole and games will be set up for fun. \nCraft beer by Brink Brewery will be on tap. Seltzer and non-alcoholic beverages will be available. \nRainout Hotline: (513) 522-2108 Option 4 \nLink for car registration: https://signup.com/go/XzDpfMB \nSee our Facebook event page https://www.facebook.com/events/579209053441172/
URL:https://kentuckycruises.com/event/beers-gears/
LOCATION:The Grove Event Center\, 9158 Winton Rd Building B\, Cincinnati\, OH\, 45231\, United States
ATTACH;FMTTYPE=image/jpeg:https://kentuckycruises.com/wp-content/uploads/2021/08/229571415_1658556264349411_758471068012675964_n.jpg
GEO:39.2324723;-84.509223
X-APPLE-STRUCTURED-LOCATION;VALUE=URI;X-ADDRESS=The Grove Event Center 9158 Winton Rd Building B Cincinnati OH 45231 United States;X-APPLE-RADIUS=500;X-TITLE=9158 Winton Rd Building B:geo:-84.509223,39.2324723
END:VEVENT
END:VCALENDAR