BEGIN:VCALENDAR
VERSION:2.0
PRODID:-//Kentucky Cruises - ECPv6.6.3//NONSGML v1.0//EN
CALSCALE:GREGORIAN
METHOD:PUBLISH
X-WR-CALNAME:Kentucky Cruises
X-ORIGINAL-URL:https://kentuckycruises.com
X-WR-CALDESC:Events for Kentucky Cruises
REFRESH-INTERVAL;VALUE=DURATION:PT1H
X-Robots-Tag:noindex
X-PUBLISHED-TTL:PT1H
BEGIN:VTIMEZONE
TZID:America/Kentucky/Louisville
BEGIN:DAYLIGHT
TZOFFSETFROM:-0500
TZOFFSETTO:-0400
TZNAME:EDT
DTSTART:20220313T070000
END:DAYLIGHT
BEGIN:STANDARD
TZOFFSETFROM:-0400
TZOFFSETTO:-0500
TZNAME:EST
DTSTART:20221106T060000
END:STANDARD
END:VTIMEZONE
BEGIN:VEVENT
DTSTART;TZID=America/Kentucky/Louisville:20220402T120000
DTEND;TZID=America/Kentucky/Louisville:20220402T230000
DTSTAMP:20260425T203325
CREATED:20220401T034027Z
LAST-MODIFIED:20220401T034211Z
UID:10010452-1648900800-1648940400@kentuckycruises.com
SUMMARY:Season Opening Car Show
DESCRIPTION:The Grand Re-Opening of the Stanford Drive In. Come celebrate with us!\n*Shopping with our vendors\,\n*Car show at 2:00\n*1st place prize $500 2nd $300 3rd $100\n*Car entry $20\nAwards at 6:00pm\n*New menu at the concession stand featuring Kentucky Darling Meats all day!\n*Movie at dusk (TO BE ANNOUNCED SOON)\n\nhttps://www.facebook.com/events/1633933600302848
URL:https://kentuckycruises.com/event/season-opening-car-show/
LOCATION:Stanford Drive In\, 1645 KY-78\, Stanford\, KY\, 40484\, United States
ATTACH;FMTTYPE=image/jpeg:https://kentuckycruises.com/wp-content/uploads/2022/03/277457718_3174181306182544_8662871367029629487_n.jpg
GEO:37.5207673;-84.6912811
X-APPLE-STRUCTURED-LOCATION;VALUE=URI;X-ADDRESS=Stanford Drive In 1645 KY-78 Stanford KY 40484 United States;X-APPLE-RADIUS=500;X-TITLE=1645 KY-78:geo:-84.6912811,37.5207673
END:VEVENT
END:VCALENDAR