BEGIN:VCALENDAR
VERSION:2.0
PRODID:-//Kentucky Cruises - ECPv6.6.3//NONSGML v1.0//EN
CALSCALE:GREGORIAN
METHOD:PUBLISH
X-WR-CALNAME:Kentucky Cruises
X-ORIGINAL-URL:https://kentuckycruises.com
X-WR-CALDESC:Events for Kentucky Cruises
REFRESH-INTERVAL;VALUE=DURATION:PT1H
X-Robots-Tag:noindex
X-PUBLISHED-TTL:PT1H
BEGIN:VTIMEZONE
TZID:America/Kentucky/Louisville
BEGIN:DAYLIGHT
TZOFFSETFROM:-0500
TZOFFSETTO:-0400
TZNAME:EDT
DTSTART:20220313T070000
END:DAYLIGHT
BEGIN:STANDARD
TZOFFSETFROM:-0400
TZOFFSETTO:-0500
TZNAME:EST
DTSTART:20221106T060000
END:STANDARD
END:VTIMEZONE
BEGIN:VEVENT
DTSTART;TZID=America/Kentucky/Louisville:20221001T090000
DTEND;TZID=America/Kentucky/Louisville:20221001T150000
DTSTAMP:20260421T234636
CREATED:20220821T064739Z
LAST-MODIFIED:20220821T064739Z
UID:10010835-1664614800-1664636400@kentuckycruises.com
SUMMARY:St. Paul's Car\, Truck and Bike Show
DESCRIPTION:
URL:https://kentuckycruises.com/event/st-pauls-car-truck-and-bike-show/
LOCATION:St Paul Catholic School\, 6901 Dixie Hwy\, Pleasure Ridge Park\, KY\, 40258\, United States
ATTACH;FMTTYPE=image/jpeg:https://kentuckycruises.com/wp-content/uploads/2022/08/299414491_10219380510094931_6513678460147456385_n.jpg
GEO:38.1500966;-85.8365058
X-APPLE-STRUCTURED-LOCATION;VALUE=URI;X-ADDRESS=St Paul Catholic School 6901 Dixie Hwy Pleasure Ridge Park KY 40258 United States;X-APPLE-RADIUS=500;X-TITLE=6901 Dixie Hwy:geo:-85.8365058,38.1500966
END:VEVENT
END:VCALENDAR