BEGIN:VCALENDAR
VERSION:2.0
PRODID:-//Kentucky Cruises - ECPv6.6.3//NONSGML v1.0//EN
CALSCALE:GREGORIAN
METHOD:PUBLISH
X-WR-CALNAME:Kentucky Cruises
X-ORIGINAL-URL:https://kentuckycruises.com
X-WR-CALDESC:Events for Kentucky Cruises
REFRESH-INTERVAL;VALUE=DURATION:PT1H
X-Robots-Tag:noindex
X-PUBLISHED-TTL:PT1H
BEGIN:VTIMEZONE
TZID:America/Kentucky/Louisville
BEGIN:DAYLIGHT
TZOFFSETFROM:-0500
TZOFFSETTO:-0400
TZNAME:EDT
DTSTART:20230312T070000
END:DAYLIGHT
BEGIN:STANDARD
TZOFFSETFROM:-0400
TZOFFSETTO:-0500
TZNAME:EST
DTSTART:20231105T060000
END:STANDARD
END:VTIMEZONE
BEGIN:VEVENT
DTSTART;TZID=America/Kentucky/Louisville:20231021T080000
DTEND;TZID=America/Kentucky/Louisville:20231021T150000
DTSTAMP:20260422T175613
CREATED:20230616T051501Z
LAST-MODIFIED:20230616T051501Z
UID:10011320-1697875200-1697900400@kentuckycruises.com
SUMMARY:St. Pauls 2nd Annual Car/Truck Show
DESCRIPTION:St. Pauls 2nd Annual Car/Truck Show \nWhen: Saturday October 21\, 2023 \nTime: 9 AM – 3 PM\, Awards at 2:30 PM \nAddress: St. Paul Catholic School \n\n6901 Dixie Hwy\, Pleasure Ridge Park\, KY 40258\n\nCar Show Registration Information: \nRegistration: $20 begins at 8 AM \nAwards for top 25 & people’s choice. Awards will be given at 2:30 PM. \nThere will also be food for sale andChoice. \nMore information call (502) 526-1332 \nNo club colors \n 
URL:https://kentuckycruises.com/event/st-pauls-2nd-annual-car-truck-show/
LOCATION:St. Paul Catholic School\, 6901 Dixie Hwy\, Pleasure Ridge Park\, KY\, 40258\, United States
ATTACH;FMTTYPE=image/jpeg:https://kentuckycruises.com/wp-content/uploads/2023/06/FB_IMG_1679362595199.jpg
GEO:38.1501097;-85.8364911
X-APPLE-STRUCTURED-LOCATION;VALUE=URI;X-ADDRESS=St. Paul Catholic School 6901 Dixie Hwy Pleasure Ridge Park KY 40258 United States;X-APPLE-RADIUS=500;X-TITLE=6901 Dixie Hwy:geo:-85.8364911,38.1501097
END:VEVENT
END:VCALENDAR