BEGIN:VCALENDAR
VERSION:2.0
PRODID:-//Kentucky Cruises - ECPv6.6.3//NONSGML v1.0//EN
CALSCALE:GREGORIAN
METHOD:PUBLISH
X-ORIGINAL-URL:https://kentuckycruises.com
X-WR-CALDESC:Events for Kentucky Cruises
REFRESH-INTERVAL;VALUE=DURATION:PT1H
X-Robots-Tag:noindex
X-PUBLISHED-TTL:PT1H
BEGIN:VTIMEZONE
TZID:America/Kentucky/Louisville
BEGIN:DAYLIGHT
TZOFFSETFROM:-0500
TZOFFSETTO:-0400
TZNAME:EDT
DTSTART:20220313T070000
END:DAYLIGHT
BEGIN:STANDARD
TZOFFSETFROM:-0400
TZOFFSETTO:-0500
TZNAME:EST
DTSTART:20221106T060000
END:STANDARD
END:VTIMEZONE
BEGIN:VEVENT
DTSTART;TZID=America/Kentucky/Louisville:20221011T180000
DTEND;TZID=America/Kentucky/Louisville:20221011T210000
DTSTAMP:20260422T073810
CREATED:20220513T045815Z
LAST-MODIFIED:20220513T045859Z
UID:10008553-1665511200-1665522000@kentuckycruises.com
SUMMARY:Torque\, Tacos\, & Tunes
DESCRIPTION:
URL:https://kentuckycruises.com/event/torque-tacos-tunes/2022-10-11/
LOCATION:Sissy’s Taco Trailer\, 580 N Bardstown Rd\, Mt Washington\, KY\, 40047\, United States
ATTACH;FMTTYPE=image/jpeg:https://kentuckycruises.com/wp-content/uploads/2022/05/280286920_10227623962041465_245648530260104525_n.jpg
GEO:38.0529473;-85.5474178
X-APPLE-STRUCTURED-LOCATION;VALUE=URI;X-ADDRESS=Sissy’s Taco Trailer 580 N Bardstown Rd Mt Washington KY 40047 United States;X-APPLE-RADIUS=500;X-TITLE=580 N Bardstown Rd:geo:-85.5474178,38.0529473
END:VEVENT
BEGIN:VEVENT
DTSTART;TZID=America/Kentucky/Louisville:20220913T180000
DTEND;TZID=America/Kentucky/Louisville:20220913T210000
DTSTAMP:20260422T073810
CREATED:20220513T045815Z
LAST-MODIFIED:20220513T045859Z
UID:10008552-1663092000-1663102800@kentuckycruises.com
SUMMARY:Torque\, Tacos\, & Tunes
DESCRIPTION:
URL:https://kentuckycruises.com/event/torque-tacos-tunes/2022-09-13/
LOCATION:Sissy’s Taco Trailer\, 580 N Bardstown Rd\, Mt Washington\, KY\, 40047\, United States
ATTACH;FMTTYPE=image/jpeg:https://kentuckycruises.com/wp-content/uploads/2022/05/280286920_10227623962041465_245648530260104525_n.jpg
GEO:38.0529473;-85.5474178
X-APPLE-STRUCTURED-LOCATION;VALUE=URI;X-ADDRESS=Sissy’s Taco Trailer 580 N Bardstown Rd Mt Washington KY 40047 United States;X-APPLE-RADIUS=500;X-TITLE=580 N Bardstown Rd:geo:-85.5474178,38.0529473
END:VEVENT
BEGIN:VEVENT
DTSTART;TZID=America/Kentucky/Louisville:20220809T180000
DTEND;TZID=America/Kentucky/Louisville:20220809T210000
DTSTAMP:20260422T073810
CREATED:20220513T045815Z
LAST-MODIFIED:20220513T045859Z
UID:10008551-1660068000-1660078800@kentuckycruises.com
SUMMARY:Torque\, Tacos\, & Tunes
DESCRIPTION:
URL:https://kentuckycruises.com/event/torque-tacos-tunes/2022-08-09/
LOCATION:Sissy’s Taco Trailer\, 580 N Bardstown Rd\, Mt Washington\, KY\, 40047\, United States
ATTACH;FMTTYPE=image/jpeg:https://kentuckycruises.com/wp-content/uploads/2022/05/280286920_10227623962041465_245648530260104525_n.jpg
GEO:38.0529473;-85.5474178
X-APPLE-STRUCTURED-LOCATION;VALUE=URI;X-ADDRESS=Sissy’s Taco Trailer 580 N Bardstown Rd Mt Washington KY 40047 United States;X-APPLE-RADIUS=500;X-TITLE=580 N Bardstown Rd:geo:-85.5474178,38.0529473
END:VEVENT
BEGIN:VEVENT
DTSTART;TZID=America/Kentucky/Louisville:20220712T180000
DTEND;TZID=America/Kentucky/Louisville:20220712T210000
DTSTAMP:20260422T073810
CREATED:20220513T045815Z
LAST-MODIFIED:20220513T045859Z
UID:10008550-1657648800-1657659600@kentuckycruises.com
SUMMARY:Torque\, Tacos\, & Tunes
DESCRIPTION:
URL:https://kentuckycruises.com/event/torque-tacos-tunes/2022-07-12/
LOCATION:Sissy’s Taco Trailer\, 580 N Bardstown Rd\, Mt Washington\, KY\, 40047\, United States
ATTACH;FMTTYPE=image/jpeg:https://kentuckycruises.com/wp-content/uploads/2022/05/280286920_10227623962041465_245648530260104525_n.jpg
GEO:38.0529473;-85.5474178
X-APPLE-STRUCTURED-LOCATION;VALUE=URI;X-ADDRESS=Sissy’s Taco Trailer 580 N Bardstown Rd Mt Washington KY 40047 United States;X-APPLE-RADIUS=500;X-TITLE=580 N Bardstown Rd:geo:-85.5474178,38.0529473
END:VEVENT
BEGIN:VEVENT
DTSTART;TZID=America/Kentucky/Louisville:20220614T180000
DTEND;TZID=America/Kentucky/Louisville:20220614T210000
DTSTAMP:20260422T073810
CREATED:20220513T045815Z
LAST-MODIFIED:20220513T045859Z
UID:10008549-1655229600-1655240400@kentuckycruises.com
SUMMARY:Torque\, Tacos\, & Tunes
DESCRIPTION:
URL:https://kentuckycruises.com/event/torque-tacos-tunes/2022-06-14/
LOCATION:Sissy’s Taco Trailer\, 580 N Bardstown Rd\, Mt Washington\, KY\, 40047\, United States
ATTACH;FMTTYPE=image/jpeg:https://kentuckycruises.com/wp-content/uploads/2022/05/280286920_10227623962041465_245648530260104525_n.jpg
GEO:38.0529473;-85.5474178
X-APPLE-STRUCTURED-LOCATION;VALUE=URI;X-ADDRESS=Sissy’s Taco Trailer 580 N Bardstown Rd Mt Washington KY 40047 United States;X-APPLE-RADIUS=500;X-TITLE=580 N Bardstown Rd:geo:-85.5474178,38.0529473
END:VEVENT
END:VCALENDAR