BEGIN:VCALENDAR
VERSION:2.0
PRODID:-//Kentucky Cruises - ECPv6.6.3//NONSGML v1.0//EN
CALSCALE:GREGORIAN
METHOD:PUBLISH
X-WR-CALNAME:Kentucky Cruises
X-ORIGINAL-URL:https://kentuckycruises.com
X-WR-CALDESC:Events for Kentucky Cruises
REFRESH-INTERVAL;VALUE=DURATION:PT1H
X-Robots-Tag:noindex
X-PUBLISHED-TTL:PT1H
BEGIN:VTIMEZONE
TZID:America/Kentucky/Louisville
BEGIN:DAYLIGHT
TZOFFSETFROM:-0500
TZOFFSETTO:-0400
TZNAME:EDT
DTSTART:20220313T070000
END:DAYLIGHT
BEGIN:STANDARD
TZOFFSETFROM:-0400
TZOFFSETTO:-0500
TZNAME:EST
DTSTART:20221106T060000
END:STANDARD
END:VTIMEZONE
BEGIN:VEVENT
DTSTART;TZID=America/Kentucky/Louisville:20220604T100000
DTEND;TZID=America/Kentucky/Louisville:20220604T150000
DTSTAMP:20260425T145543
CREATED:20220223T065344Z
LAST-MODIFIED:20220427T024211Z
UID:10008309-1654336800-1654354800@kentuckycruises.com
SUMMARY:Shepherdsville Elementary Car and Craft Show
DESCRIPTION:Shepherdsville Elementary will be hosting a Craft/Vendor Fair on Saturday June 4\, 2022 10AM-3PM at Shepherdsville Elementary\, 527 West Blue Lick Rd.\n\nThe Vendors will be set up outside across our covered porch and throughout our parking lot.\n\nVendors can bring open sided tents\, etc for their 10×10 space. In the event of rain\, we will move the event inside\, into the cafeteria\, etc.\n\nSee attachments for car show details. Rain or shine event.\n\n\n\nPlease complete the Google form below to register. Payment is due immediately following registration\, by cash or check brought to\, or mailed to Traci Gould\,  Shepherdsville Elementary\, 527 West Blue Lick Rd\, Shepherdsville\, KY 40165.\n\n\n\nProceeds from the craft/car show benefits the Shepherdsville Elementary Family Resource Center.\n\n\n\nPlease see attached fliers for more information.\n\n\n\nHere is the google link to register!\n\n\n\nhttps://docs.google.com/…/1FAIpQLScRmcFuRd4…/viewform…\n\n\n\nYou may also print the hard copy attached and mail with payment instead.\n\n\n\nPlease call me with any questions. 502 869-7012
URL:https://kentuckycruises.com/event/shepherdsville-elementary-car-and-craft-show/
LOCATION:Shepherdsville Elementary\, 527 West Blue Lick Rd.\, Shepherdsville\, KY\, 40165\, United States
ATTACH;FMTTYPE=image/jpeg:https://kentuckycruises.com/wp-content/uploads/2022/02/274708340_102n.jpg
GEO:37.9966083;-85.7189724
X-APPLE-STRUCTURED-LOCATION;VALUE=URI;X-ADDRESS=Shepherdsville Elementary 527 West Blue Lick Rd. Shepherdsville KY 40165 United States;X-APPLE-RADIUS=500;X-TITLE=527 West Blue Lick Rd.:geo:-85.7189724,37.9966083
END:VEVENT
END:VCALENDAR