BEGIN:VCALENDAR
VERSION:2.0
PRODID:-//Kentucky Cruises - ECPv6.6.3//NONSGML v1.0//EN
CALSCALE:GREGORIAN
METHOD:PUBLISH
X-WR-CALNAME:Kentucky Cruises
X-ORIGINAL-URL:https://kentuckycruises.com
X-WR-CALDESC:Events for Kentucky Cruises
REFRESH-INTERVAL;VALUE=DURATION:PT1H
X-Robots-Tag:noindex
X-PUBLISHED-TTL:PT1H
BEGIN:VTIMEZONE
TZID:America/Kentucky/Louisville
BEGIN:DAYLIGHT
TZOFFSETFROM:-0500
TZOFFSETTO:-0400
TZNAME:EDT
DTSTART:20210314T070000
END:DAYLIGHT
BEGIN:STANDARD
TZOFFSETFROM:-0400
TZOFFSETTO:-0500
TZNAME:EST
DTSTART:20211107T060000
END:STANDARD
BEGIN:DAYLIGHT
TZOFFSETFROM:-0500
TZOFFSETTO:-0400
TZNAME:EDT
DTSTART:20220313T070000
END:DAYLIGHT
BEGIN:STANDARD
TZOFFSETFROM:-0400
TZOFFSETTO:-0500
TZNAME:EST
DTSTART:20221106T060000
END:STANDARD
END:VTIMEZONE
BEGIN:VEVENT
DTSTART;TZID=America/Kentucky/Louisville:20220521T090000
DTEND;TZID=America/Kentucky/Louisville:20220521T160000
DTSTAMP:20260421T032348
CREATED:20220304T003845Z
LAST-MODIFIED:20220304T003845Z
UID:10008324-1653123600-1653148800@kentuckycruises.com
SUMMARY:YMCA Caring For Kids Car Show
DESCRIPTION:If you have a classic car\, truck\, motorcycle\, modern marvel\, or unique vehicle to bring to the show\, then we want you there.\nThere will be dash plaques to the first 50 entries\, awards for our top vehicles\, and other great prizes awarded throughout the day.\nFood and drinks will be available for purchase all day.\nAll proceeds raised will go to funding our youth sport and summer camp programs.\nIn case of rain\, the event will be scheduled for Sunday\, May 22nd.\nPlease give us a call for more information.\nRegistration can be online\, in person\, or over the phone. Phone (812) 752-9622\n\nEvent Date: Saturday\, May 21st Registration begins at 9:00AM\nAwards begin at 2:00PM\nCost is $20.00 for car/truck\nMotorcycle: $15.00\n\nhttps://www.facebook.com/events/527922118525817
URL:https://kentuckycruises.com/event/ymca-caring-for-kids-car-show/
LOCATION:Scott County Family YMCA\, 805 W Community Way\, Scottsburg\, IN\, 47170\, United States
ATTACH;FMTTYPE=image/jpeg:https://kentuckycruises.com/wp-content/uploads/2022/03/274081636_5026551254069744_8783817353453133866_n.jpg
GEO:38.7003321;-85.79173
X-APPLE-STRUCTURED-LOCATION;VALUE=URI;X-ADDRESS=Scott County Family YMCA 805 W Community Way Scottsburg IN 47170 United States;X-APPLE-RADIUS=500;X-TITLE=805 W Community Way:geo:-85.79173,38.7003321
END:VEVENT
BEGIN:VEVENT
DTSTART;TZID=America/Kentucky/Louisville:20210522T090000
DTEND;TZID=America/Kentucky/Louisville:20210522T150000
DTSTAMP:20260421T032348
CREATED:20210428T013101Z
LAST-MODIFIED:20210428T013101Z
UID:10007512-1621674000-1621695600@kentuckycruises.com
SUMMARY:Caring For Kids Car Show
DESCRIPTION:1st Annual Caring For Kids Car Show at the Scott County Family YMCA.\n\nIf you have a classic car\, truck\, motorcycle\, modern marvel\, or a unique vehicle to bring to the show\, then when want you there.\n\nThere will be dash plaques for the first 50 registrations\, awards for our top vehicles\, and other great prizes awarded throughout the day. There will also be a food truck and live music available all day.\n\nAll proceeds raised will go to funding our youth sports and summer camp programs.\n\nIn case of rain\, the event will be held the next day\, Sunday\, May 23rd from 9am-3pm.\n\nPre-Registration: Cost is $20 (Car/Truck) or $15 Motorcycle\n\nDay of Event: Cost $25 (Car/Truck) or $20 Motorcycle\n\nPlease see our flyer for more details and contact information
URL:https://kentuckycruises.com/event/caring-for-kids-car-show/
LOCATION:Scott County Family YMCA\, 805 W Community Way\, Scottsburg\, IN\, 47170\, United States
ATTACH;FMTTYPE=image/jpeg:https://kentuckycruises.com/wp-content/uploads/2021/04/154490899_10159087568314420_2686258033294327594_n.jpg
GEO:38.7003321;-85.79173
X-APPLE-STRUCTURED-LOCATION;VALUE=URI;X-ADDRESS=Scott County Family YMCA 805 W Community Way Scottsburg IN 47170 United States;X-APPLE-RADIUS=500;X-TITLE=805 W Community Way:geo:-85.79173,38.7003321
END:VEVENT
END:VCALENDAR