BEGIN:VCALENDAR
VERSION:2.0
PRODID:-//Kentucky Cruises - ECPv6.6.3//NONSGML v1.0//EN
CALSCALE:GREGORIAN
METHOD:PUBLISH
X-WR-CALNAME:Kentucky Cruises
X-ORIGINAL-URL:https://kentuckycruises.com
X-WR-CALDESC:Events for Kentucky Cruises
REFRESH-INTERVAL;VALUE=DURATION:PT1H
X-Robots-Tag:noindex
X-PUBLISHED-TTL:PT1H
BEGIN:VTIMEZONE
TZID:America/Kentucky/Louisville
BEGIN:DAYLIGHT
TZOFFSETFROM:-0500
TZOFFSETTO:-0400
TZNAME:EDT
DTSTART:20230312T070000
END:DAYLIGHT
BEGIN:STANDARD
TZOFFSETFROM:-0400
TZOFFSETTO:-0500
TZNAME:EST
DTSTART:20231105T060000
END:STANDARD
END:VTIMEZONE
BEGIN:VEVENT
DTSTART;TZID=America/Kentucky/Louisville:20230521T130000
DTEND;TZID=America/Kentucky/Louisville:20230521T150000
DTSTAMP:20260423T161749
CREATED:20230512T044705Z
LAST-MODIFIED:20230512T044705Z
UID:10011191-1684674000-1684681200@kentuckycruises.com
SUMMARY:Sanders Ridge Health Campus Car Show
DESCRIPTION:
URL:https://kentuckycruises.com/event/sanders-ridge-health-campus-car-show/
LOCATION:Sanders Ridge Health Campus\, 119 E Sanders Ln\, Mt Washington\, KY\, 40047\, United States
ATTACH;FMTTYPE=image/jpeg:https://kentuckycruises.com/wp-content/uploads/2023/05/sanders_ridge_23.jpg
GEO:38.0592479;-85.509191
X-APPLE-STRUCTURED-LOCATION;VALUE=URI;X-ADDRESS=Sanders Ridge Health Campus 119 E Sanders Ln Mt Washington KY 40047 United States;X-APPLE-RADIUS=500;X-TITLE=119 E Sanders Ln:geo:-85.509191,38.0592479
END:VEVENT
END:VCALENDAR