BEGIN:VCALENDAR
VERSION:2.0
PRODID:-//Kentucky Cruises - ECPv6.6.3//NONSGML v1.0//EN
CALSCALE:GREGORIAN
METHOD:PUBLISH
X-WR-CALNAME:Kentucky Cruises
X-ORIGINAL-URL:https://kentuckycruises.com
X-WR-CALDESC:Events for Kentucky Cruises
REFRESH-INTERVAL;VALUE=DURATION:PT1H
X-Robots-Tag:noindex
X-PUBLISHED-TTL:PT1H
BEGIN:VTIMEZONE
TZID:America/Kentucky/Louisville
BEGIN:DAYLIGHT
TZOFFSETFROM:-0500
TZOFFSETTO:-0400
TZNAME:EDT
DTSTART:20230312T070000
END:DAYLIGHT
BEGIN:STANDARD
TZOFFSETFROM:-0400
TZOFFSETTO:-0500
TZNAME:EST
DTSTART:20231105T060000
END:STANDARD
END:VTIMEZONE
BEGIN:VEVENT
DTSTART;TZID=America/Kentucky/Louisville:20230415T200000
DTEND;TZID=America/Kentucky/Louisville:20230415T230000
DTSTAMP:20260423T212350
CREATED:20230326T032721Z
LAST-MODIFIED:20230326T032721Z
UID:10008791-1681588800-1681599600@kentuckycruises.com
SUMMARY:Truck Meet
DESCRIPTION:
URL:https://kentuckycruises.com/event/truck-meet/
LOCATION:River Falls Mall\, 951 E. Lewis & Clark Pkwy\, Clarksville\, IN\, 47129\, United States
ATTACH;FMTTYPE=image/jpeg:https://kentuckycruises.com/wp-content/uploads/2023/03/roberts_truck_meet_23.jpg
GEO:38.3195894;-85.7607646
X-APPLE-STRUCTURED-LOCATION;VALUE=URI;X-ADDRESS=River Falls Mall 951 E. Lewis & Clark Pkwy Clarksville IN 47129 United States;X-APPLE-RADIUS=500;X-TITLE=951 E. Lewis & Clark Pkwy:geo:-85.7607646,38.3195894
END:VEVENT
END:VCALENDAR