BEGIN:VCALENDAR
VERSION:2.0
PRODID:-//Kentucky Cruises - ECPv6.6.3//NONSGML v1.0//EN
CALSCALE:GREGORIAN
METHOD:PUBLISH
X-ORIGINAL-URL:https://kentuckycruises.com
X-WR-CALDESC:Events for Kentucky Cruises
REFRESH-INTERVAL;VALUE=DURATION:PT1H
X-Robots-Tag:noindex
X-PUBLISHED-TTL:PT1H
BEGIN:VTIMEZONE
TZID:America/Kentucky/Louisville
BEGIN:DAYLIGHT
TZOFFSETFROM:-0500
TZOFFSETTO:-0400
TZNAME:EDT
DTSTART:20220313T070000
END:DAYLIGHT
BEGIN:STANDARD
TZOFFSETFROM:-0400
TZOFFSETTO:-0500
TZNAME:EST
DTSTART:20221106T060000
END:STANDARD
END:VTIMEZONE
BEGIN:VEVENT
DTSTART;TZID=America/Kentucky/Louisville:20221014T170000
DTEND;TZID=America/Kentucky/Louisville:20221014T210000
DTSTAMP:20260420T050055
CREATED:20220526T003032Z
LAST-MODIFIED:20220526T003032Z
UID:10008595-1665766800-1665781200@kentuckycruises.com
SUMMARY:Cruise N’ on the Square
DESCRIPTION:Located on the Historic Salem Square. Is our monthly 2nd Friday of the month Cruise in. \nThis month we will hand out dash Plaques up to 75 cars! food options! \nYou will want use the detours around 56 and 135 stoplight will be closed . See you there! \nAfterwards cruise on out for Friday night Street fights at Salem Motorsports park! Where you can park your Ryde in the pits
URL:https://kentuckycruises.com/event/cruise-n-on-the-square/2022-10-14/
LOCATION:Public Square – Salem\, Public Square\, Salem\, IN\, 47167\, United States
ATTACH;FMTTYPE=image/jpeg:https://kentuckycruises.com/wp-content/uploads/2022/05/283991365_5004512906270182_1907258728845235559_n.jpg
GEO:38.60533;-86.1007488
X-APPLE-STRUCTURED-LOCATION;VALUE=URI;X-ADDRESS=Public Square – Salem Public Square Salem IN 47167 United States;X-APPLE-RADIUS=500;X-TITLE=Public Square:geo:-86.1007488,38.60533
END:VEVENT
BEGIN:VEVENT
DTSTART;TZID=America/Kentucky/Louisville:20221014T170000
DTEND;TZID=America/Kentucky/Louisville:20221014T210000
DTSTAMP:20260420T050055
CREATED:20220406T034518Z
LAST-MODIFIED:20220406T035646Z
UID:10008452-1665766800-1665781200@kentuckycruises.com
SUMMARY:Cruise N’ Square - Salem
DESCRIPTION:April 8th is the kickoff for our monthly Salem Square Cruise N’ ranging from 50~75 Cars each month . With food options and restrooms.\nAs the sun falls behind the buildings of the public square\, Cruisers are invited to enjoy drag racing at the local 1/8th no prep track @salemmotorsportspark on FB\n\nhttps://www.facebook.com/events/346597227427835
URL:https://kentuckycruises.com/event/cruise-n-square-salem/2022-10-14/
LOCATION:Public Square – Salem\, Public Square\, Salem\, IN\, 47167\, United States
ATTACH;FMTTYPE=image/jpeg:https://kentuckycruises.com/wp-content/uploads/2022/04/277680112_4863601220361352_6264613592907135046_n.jpg
GEO:38.60533;-86.1007488
X-APPLE-STRUCTURED-LOCATION;VALUE=URI;X-ADDRESS=Public Square – Salem Public Square Salem IN 47167 United States;X-APPLE-RADIUS=500;X-TITLE=Public Square:geo:-86.1007488,38.60533
END:VEVENT
BEGIN:VEVENT
DTSTART;TZID=America/Kentucky/Louisville:20220909T170000
DTEND;TZID=America/Kentucky/Louisville:20220909T210000
DTSTAMP:20260420T050055
CREATED:20220526T003032Z
LAST-MODIFIED:20220526T003032Z
UID:10008594-1662742800-1662757200@kentuckycruises.com
SUMMARY:Cruise N’ on the Square
DESCRIPTION:Located on the Historic Salem Square. Is our monthly 2nd Friday of the month Cruise in. \nThis month we will hand out dash Plaques up to 75 cars! food options! \nYou will want use the detours around 56 and 135 stoplight will be closed . See you there! \nAfterwards cruise on out for Friday night Street fights at Salem Motorsports park! Where you can park your Ryde in the pits
URL:https://kentuckycruises.com/event/cruise-n-on-the-square/2022-09-09/
LOCATION:Public Square – Salem\, Public Square\, Salem\, IN\, 47167\, United States
ATTACH;FMTTYPE=image/jpeg:https://kentuckycruises.com/wp-content/uploads/2022/05/283991365_5004512906270182_1907258728845235559_n.jpg
GEO:38.60533;-86.1007488
X-APPLE-STRUCTURED-LOCATION;VALUE=URI;X-ADDRESS=Public Square – Salem Public Square Salem IN 47167 United States;X-APPLE-RADIUS=500;X-TITLE=Public Square:geo:-86.1007488,38.60533
END:VEVENT
BEGIN:VEVENT
DTSTART;TZID=America/Kentucky/Louisville:20220909T170000
DTEND;TZID=America/Kentucky/Louisville:20220909T210000
DTSTAMP:20260420T050055
CREATED:20220406T034518Z
LAST-MODIFIED:20220406T035646Z
UID:10008451-1662742800-1662757200@kentuckycruises.com
SUMMARY:Cruise N’ Square - Salem
DESCRIPTION:April 8th is the kickoff for our monthly Salem Square Cruise N’ ranging from 50~75 Cars each month . With food options and restrooms.\nAs the sun falls behind the buildings of the public square\, Cruisers are invited to enjoy drag racing at the local 1/8th no prep track @salemmotorsportspark on FB\n\nhttps://www.facebook.com/events/346597227427835
URL:https://kentuckycruises.com/event/cruise-n-square-salem/2022-09-09/
LOCATION:Public Square – Salem\, Public Square\, Salem\, IN\, 47167\, United States
ATTACH;FMTTYPE=image/jpeg:https://kentuckycruises.com/wp-content/uploads/2022/04/277680112_4863601220361352_6264613592907135046_n.jpg
GEO:38.60533;-86.1007488
X-APPLE-STRUCTURED-LOCATION;VALUE=URI;X-ADDRESS=Public Square – Salem Public Square Salem IN 47167 United States;X-APPLE-RADIUS=500;X-TITLE=Public Square:geo:-86.1007488,38.60533
END:VEVENT
BEGIN:VEVENT
DTSTART;TZID=America/Kentucky/Louisville:20220812T170000
DTEND;TZID=America/Kentucky/Louisville:20220812T210000
DTSTAMP:20260420T050055
CREATED:20220526T003032Z
LAST-MODIFIED:20220526T003032Z
UID:10008593-1660323600-1660338000@kentuckycruises.com
SUMMARY:Cruise N’ on the Square
DESCRIPTION:Located on the Historic Salem Square. Is our monthly 2nd Friday of the month Cruise in. \nThis month we will hand out dash Plaques up to 75 cars! food options! \nYou will want use the detours around 56 and 135 stoplight will be closed . See you there! \nAfterwards cruise on out for Friday night Street fights at Salem Motorsports park! Where you can park your Ryde in the pits
URL:https://kentuckycruises.com/event/cruise-n-on-the-square/2022-08-12/
LOCATION:Public Square – Salem\, Public Square\, Salem\, IN\, 47167\, United States
ATTACH;FMTTYPE=image/jpeg:https://kentuckycruises.com/wp-content/uploads/2022/05/283991365_5004512906270182_1907258728845235559_n.jpg
GEO:38.60533;-86.1007488
X-APPLE-STRUCTURED-LOCATION;VALUE=URI;X-ADDRESS=Public Square – Salem Public Square Salem IN 47167 United States;X-APPLE-RADIUS=500;X-TITLE=Public Square:geo:-86.1007488,38.60533
END:VEVENT
BEGIN:VEVENT
DTSTART;TZID=America/Kentucky/Louisville:20220812T170000
DTEND;TZID=America/Kentucky/Louisville:20220812T210000
DTSTAMP:20260420T050055
CREATED:20220406T034518Z
LAST-MODIFIED:20220406T035646Z
UID:10008450-1660323600-1660338000@kentuckycruises.com
SUMMARY:Cruise N’ Square - Salem
DESCRIPTION:April 8th is the kickoff for our monthly Salem Square Cruise N’ ranging from 50~75 Cars each month . With food options and restrooms.\nAs the sun falls behind the buildings of the public square\, Cruisers are invited to enjoy drag racing at the local 1/8th no prep track @salemmotorsportspark on FB\n\nhttps://www.facebook.com/events/346597227427835
URL:https://kentuckycruises.com/event/cruise-n-square-salem/2022-08-12/
LOCATION:Public Square – Salem\, Public Square\, Salem\, IN\, 47167\, United States
ATTACH;FMTTYPE=image/jpeg:https://kentuckycruises.com/wp-content/uploads/2022/04/277680112_4863601220361352_6264613592907135046_n.jpg
GEO:38.60533;-86.1007488
X-APPLE-STRUCTURED-LOCATION;VALUE=URI;X-ADDRESS=Public Square – Salem Public Square Salem IN 47167 United States;X-APPLE-RADIUS=500;X-TITLE=Public Square:geo:-86.1007488,38.60533
END:VEVENT
BEGIN:VEVENT
DTSTART;TZID=America/Kentucky/Louisville:20220708T170000
DTEND;TZID=America/Kentucky/Louisville:20220708T210000
DTSTAMP:20260420T050055
CREATED:20220526T003032Z
LAST-MODIFIED:20220526T003032Z
UID:10008592-1657299600-1657314000@kentuckycruises.com
SUMMARY:Cruise N’ on the Square
DESCRIPTION:Located on the Historic Salem Square. Is our monthly 2nd Friday of the month Cruise in. \nThis month we will hand out dash Plaques up to 75 cars! food options! \nYou will want use the detours around 56 and 135 stoplight will be closed . See you there! \nAfterwards cruise on out for Friday night Street fights at Salem Motorsports park! Where you can park your Ryde in the pits
URL:https://kentuckycruises.com/event/cruise-n-on-the-square/2022-07-08/
LOCATION:Public Square – Salem\, Public Square\, Salem\, IN\, 47167\, United States
ATTACH;FMTTYPE=image/jpeg:https://kentuckycruises.com/wp-content/uploads/2022/05/283991365_5004512906270182_1907258728845235559_n.jpg
GEO:38.60533;-86.1007488
X-APPLE-STRUCTURED-LOCATION;VALUE=URI;X-ADDRESS=Public Square – Salem Public Square Salem IN 47167 United States;X-APPLE-RADIUS=500;X-TITLE=Public Square:geo:-86.1007488,38.60533
END:VEVENT
BEGIN:VEVENT
DTSTART;TZID=America/Kentucky/Louisville:20220708T170000
DTEND;TZID=America/Kentucky/Louisville:20220708T210000
DTSTAMP:20260420T050055
CREATED:20220406T034518Z
LAST-MODIFIED:20220406T035646Z
UID:10008449-1657299600-1657314000@kentuckycruises.com
SUMMARY:Cruise N’ Square - Salem
DESCRIPTION:April 8th is the kickoff for our monthly Salem Square Cruise N’ ranging from 50~75 Cars each month . With food options and restrooms.\nAs the sun falls behind the buildings of the public square\, Cruisers are invited to enjoy drag racing at the local 1/8th no prep track @salemmotorsportspark on FB\n\nhttps://www.facebook.com/events/346597227427835
URL:https://kentuckycruises.com/event/cruise-n-square-salem/2022-07-08/
LOCATION:Public Square – Salem\, Public Square\, Salem\, IN\, 47167\, United States
ATTACH;FMTTYPE=image/jpeg:https://kentuckycruises.com/wp-content/uploads/2022/04/277680112_4863601220361352_6264613592907135046_n.jpg
GEO:38.60533;-86.1007488
X-APPLE-STRUCTURED-LOCATION;VALUE=URI;X-ADDRESS=Public Square – Salem Public Square Salem IN 47167 United States;X-APPLE-RADIUS=500;X-TITLE=Public Square:geo:-86.1007488,38.60533
END:VEVENT
BEGIN:VEVENT
DTSTART;TZID=America/Kentucky/Louisville:20220610T170000
DTEND;TZID=America/Kentucky/Louisville:20220610T210000
DTSTAMP:20260420T050055
CREATED:20220526T003032Z
LAST-MODIFIED:20220526T003032Z
UID:10008591-1654880400-1654894800@kentuckycruises.com
SUMMARY:Cruise N’ on the Square
DESCRIPTION:Located on the Historic Salem Square. Is our monthly 2nd Friday of the month Cruise in. \nThis month we will hand out dash Plaques up to 75 cars! food options! \nYou will want use the detours around 56 and 135 stoplight will be closed . See you there! \nAfterwards cruise on out for Friday night Street fights at Salem Motorsports park! Where you can park your Ryde in the pits
URL:https://kentuckycruises.com/event/cruise-n-on-the-square/2022-06-10/
LOCATION:Public Square – Salem\, Public Square\, Salem\, IN\, 47167\, United States
ATTACH;FMTTYPE=image/jpeg:https://kentuckycruises.com/wp-content/uploads/2022/05/283991365_5004512906270182_1907258728845235559_n.jpg
GEO:38.60533;-86.1007488
X-APPLE-STRUCTURED-LOCATION;VALUE=URI;X-ADDRESS=Public Square – Salem Public Square Salem IN 47167 United States;X-APPLE-RADIUS=500;X-TITLE=Public Square:geo:-86.1007488,38.60533
END:VEVENT
BEGIN:VEVENT
DTSTART;TZID=America/Kentucky/Louisville:20220610T170000
DTEND;TZID=America/Kentucky/Louisville:20220610T210000
DTSTAMP:20260420T050055
CREATED:20220406T034518Z
LAST-MODIFIED:20220406T035646Z
UID:10008448-1654880400-1654894800@kentuckycruises.com
SUMMARY:Cruise N’ Square - Salem
DESCRIPTION:April 8th is the kickoff for our monthly Salem Square Cruise N’ ranging from 50~75 Cars each month . With food options and restrooms.\nAs the sun falls behind the buildings of the public square\, Cruisers are invited to enjoy drag racing at the local 1/8th no prep track @salemmotorsportspark on FB\n\nhttps://www.facebook.com/events/346597227427835
URL:https://kentuckycruises.com/event/cruise-n-square-salem/2022-06-10/
LOCATION:Public Square – Salem\, Public Square\, Salem\, IN\, 47167\, United States
ATTACH;FMTTYPE=image/jpeg:https://kentuckycruises.com/wp-content/uploads/2022/04/277680112_4863601220361352_6264613592907135046_n.jpg
GEO:38.60533;-86.1007488
X-APPLE-STRUCTURED-LOCATION;VALUE=URI;X-ADDRESS=Public Square – Salem Public Square Salem IN 47167 United States;X-APPLE-RADIUS=500;X-TITLE=Public Square:geo:-86.1007488,38.60533
END:VEVENT
BEGIN:VEVENT
DTSTART;TZID=America/Kentucky/Louisville:20220513T170000
DTEND;TZID=America/Kentucky/Louisville:20220513T210000
DTSTAMP:20260420T050055
CREATED:20220406T034518Z
LAST-MODIFIED:20220406T035646Z
UID:10008447-1652461200-1652475600@kentuckycruises.com
SUMMARY:Cruise N’ Square - Salem
DESCRIPTION:April 8th is the kickoff for our monthly Salem Square Cruise N’ ranging from 50~75 Cars each month . With food options and restrooms.\nAs the sun falls behind the buildings of the public square\, Cruisers are invited to enjoy drag racing at the local 1/8th no prep track @salemmotorsportspark on FB\n\nhttps://www.facebook.com/events/346597227427835
URL:https://kentuckycruises.com/event/cruise-n-square-salem/2022-05-13/
LOCATION:Public Square – Salem\, Public Square\, Salem\, IN\, 47167\, United States
ATTACH;FMTTYPE=image/jpeg:https://kentuckycruises.com/wp-content/uploads/2022/04/277680112_4863601220361352_6264613592907135046_n.jpg
GEO:38.60533;-86.1007488
X-APPLE-STRUCTURED-LOCATION;VALUE=URI;X-ADDRESS=Public Square – Salem Public Square Salem IN 47167 United States;X-APPLE-RADIUS=500;X-TITLE=Public Square:geo:-86.1007488,38.60533
END:VEVENT
BEGIN:VEVENT
DTSTART;TZID=America/Kentucky/Louisville:20220408T170000
DTEND;TZID=America/Kentucky/Louisville:20220408T210000
DTSTAMP:20260420T050055
CREATED:20220406T034518Z
LAST-MODIFIED:20220406T035646Z
UID:10008446-1649437200-1649451600@kentuckycruises.com
SUMMARY:Cruise N’ Square - Salem
DESCRIPTION:April 8th is the kickoff for our monthly Salem Square Cruise N’ ranging from 50~75 Cars each month . With food options and restrooms.\nAs the sun falls behind the buildings of the public square\, Cruisers are invited to enjoy drag racing at the local 1/8th no prep track @salemmotorsportspark on FB\n\nhttps://www.facebook.com/events/346597227427835
URL:https://kentuckycruises.com/event/cruise-n-square-salem/2022-04-08/
LOCATION:Public Square – Salem\, Public Square\, Salem\, IN\, 47167\, United States
ATTACH;FMTTYPE=image/jpeg:https://kentuckycruises.com/wp-content/uploads/2022/04/277680112_4863601220361352_6264613592907135046_n.jpg
GEO:38.60533;-86.1007488
X-APPLE-STRUCTURED-LOCATION;VALUE=URI;X-ADDRESS=Public Square – Salem Public Square Salem IN 47167 United States;X-APPLE-RADIUS=500;X-TITLE=Public Square:geo:-86.1007488,38.60533
END:VEVENT
END:VCALENDAR