BEGIN:VCALENDAR
VERSION:2.0
PRODID:-//Kentucky Cruises - ECPv6.6.3//NONSGML v1.0//EN
CALSCALE:GREGORIAN
METHOD:PUBLISH
X-WR-CALNAME:Kentucky Cruises
X-ORIGINAL-URL:https://kentuckycruises.com
X-WR-CALDESC:Events for Kentucky Cruises
REFRESH-INTERVAL;VALUE=DURATION:PT1H
X-Robots-Tag:noindex
X-PUBLISHED-TTL:PT1H
BEGIN:VTIMEZONE
TZID:America/Kentucky/Louisville
BEGIN:DAYLIGHT
TZOFFSETFROM:-0500
TZOFFSETTO:-0400
TZNAME:EDT
DTSTART:20220313T070000
END:DAYLIGHT
BEGIN:STANDARD
TZOFFSETFROM:-0400
TZOFFSETTO:-0500
TZNAME:EST
DTSTART:20221106T060000
END:STANDARD
END:VTIMEZONE
BEGIN:VEVENT
DTSTART;TZID=America/Kentucky/Louisville:20221001T090000
DTEND;TZID=America/Kentucky/Louisville:20221001T170000
DTSTAMP:20260425T133106
CREATED:20220707T030223Z
LAST-MODIFIED:20220707T030223Z
UID:10010772-1664614800-1664643600@kentuckycruises.com
SUMMARY:Village Fest Car Show
DESCRIPTION:
URL:https://kentuckycruises.com/event/village-fest-car-show-2/
LOCATION:Paint Lick\, KY\, Paint Lick\, KY\, United States
ATTACH;FMTTYPE=image/jpeg:https://kentuckycruises.com/wp-content/uploads/2022/07/290505714_10159821162157302_8028547911333559861_n.jpg
GEO:37.6167483;-84.4093797
END:VEVENT
END:VCALENDAR