BEGIN:VCALENDAR
VERSION:2.0
PRODID:-//Kentucky Cruises - ECPv6.6.3//NONSGML v1.0//EN
CALSCALE:GREGORIAN
METHOD:PUBLISH
X-ORIGINAL-URL:https://kentuckycruises.com
X-WR-CALDESC:Events for Kentucky Cruises
REFRESH-INTERVAL;VALUE=DURATION:PT1H
X-Robots-Tag:noindex
X-PUBLISHED-TTL:PT1H
BEGIN:VTIMEZONE
TZID:America/Kentucky/Louisville
BEGIN:DAYLIGHT
TZOFFSETFROM:-0500
TZOFFSETTO:-0400
TZNAME:EDT
DTSTART:20210314T070000
END:DAYLIGHT
BEGIN:STANDARD
TZOFFSETFROM:-0400
TZOFFSETTO:-0500
TZNAME:EST
DTSTART:20211107T060000
END:STANDARD
END:VTIMEZONE
BEGIN:VEVENT
DTSTART;TZID=America/Kentucky/Louisville:20210821T100000
DTEND;TZID=America/Kentucky/Louisville:20210821T140000
DTSTAMP:20260423T132936
CREATED:20210501T050919Z
LAST-MODIFIED:20210501T051031Z
UID:10009569-1629540000-1629554400@kentuckycruises.com
SUMMARY:Pioneer Days Big Jack Pearson Car Show
DESCRIPTION:Old Fort Harrod State Park\n100 S College St\nHarrodsburg\, KY 40330 \nHosted by the Central KY Hot Rodders. \nRegistration is $15 and is Open to All Vehicles. With Awards for Multiple Categories. \nThere will be Drawings for Give-a-ways and a there will also be a Food Truck on Site. \nFor more information call (859) 314-1401 or email to ckhotrodders@gmail.com \nCheck the Facebook Event page for updates.  www.facebook.com/events/1110565779454908/ \nClick the flyer below for more info
URL:https://kentuckycruises.com/event/pioneer-days-big-jack-pearson-car-show/
LOCATION:Old Fort Harrod State Park\, 100 S College St\, Harrodsburg\, KY\, 40330\, United States
ATTACH;FMTTYPE=image/jpeg:https://kentuckycruises.com/wp-content/uploads/2021/05/176901084_3925870970831738_8660806697042763588_n.jpg
GEO:37.7624621;-84.8460288
X-APPLE-STRUCTURED-LOCATION;VALUE=URI;X-ADDRESS=Old Fort Harrod State Park 100 S College St Harrodsburg KY 40330 United States;X-APPLE-RADIUS=500;X-TITLE=100 S College St:geo:-84.8460288,37.7624621
END:VEVENT
END:VCALENDAR