BEGIN:VCALENDAR
VERSION:2.0
PRODID:-//Kentucky Cruises - ECPv6.6.3//NONSGML v1.0//EN
CALSCALE:GREGORIAN
METHOD:PUBLISH
X-WR-CALNAME:Kentucky Cruises
X-ORIGINAL-URL:https://kentuckycruises.com
X-WR-CALDESC:Events for Kentucky Cruises
REFRESH-INTERVAL;VALUE=DURATION:PT1H
X-Robots-Tag:noindex
X-PUBLISHED-TTL:PT1H
BEGIN:VTIMEZONE
TZID:America/Kentucky/Louisville
BEGIN:DAYLIGHT
TZOFFSETFROM:-0500
TZOFFSETTO:-0400
TZNAME:EDT
DTSTART:20210314T070000
END:DAYLIGHT
BEGIN:STANDARD
TZOFFSETFROM:-0400
TZOFFSETTO:-0500
TZNAME:EST
DTSTART:20211107T060000
END:STANDARD
END:VTIMEZONE
BEGIN:VEVENT
DTSTART;TZID=America/Kentucky/Louisville:20211009T180000
DTEND;TZID=America/Kentucky/Louisville:20211009T210000
DTSTAMP:20260421T103311
CREATED:20210428T034152Z
LAST-MODIFIED:20210428T034212Z
UID:10009337-1633802400-1633813200@kentuckycruises.com
SUMMARY:Old Bridge General Store 2 Cruise
DESCRIPTION:Located on 127 In Salvisa\,KY\,  Every 2nd Saturday 6-9 PM  thru October\n\nEnjoy Great Food\, Great Cars and Trucks\,  Music\, and Door Prizes. Plenty of Parking.\n\nCheck our Facebook Page for more Information and Rain Cancellations.
URL:https://kentuckycruises.com/event/old-bridge-general-store-2-cruise/2021-10-09/
LOCATION:Old Bridge General Store 2\, 101 Dory Drive\, Salvisa\, KY\, 40372\, United States
ATTACH;FMTTYPE=image/jpeg:https://kentuckycruises.com/wp-content/uploads/2021/04/41250560_348674202542010_6084198139768602624_n.jpg
GEO:37.9140778;-84.8615575
X-APPLE-STRUCTURED-LOCATION;VALUE=URI;X-ADDRESS=Old Bridge General Store 2 101 Dory Drive Salvisa KY 40372 United States;X-APPLE-RADIUS=500;X-TITLE=101 Dory Drive:geo:-84.8615575,37.9140778
END:VEVENT
BEGIN:VEVENT
DTSTART;TZID=America/Kentucky/Louisville:20210911T180000
DTEND;TZID=America/Kentucky/Louisville:20210911T210000
DTSTAMP:20260421T103311
CREATED:20210428T034152Z
LAST-MODIFIED:20210428T034212Z
UID:10009336-1631383200-1631394000@kentuckycruises.com
SUMMARY:Old Bridge General Store 2 Cruise
DESCRIPTION:Located on 127 In Salvisa\,KY\,  Every 2nd Saturday 6-9 PM  thru October\n\nEnjoy Great Food\, Great Cars and Trucks\,  Music\, and Door Prizes. Plenty of Parking.\n\nCheck our Facebook Page for more Information and Rain Cancellations.
URL:https://kentuckycruises.com/event/old-bridge-general-store-2-cruise/2021-09-11/
LOCATION:Old Bridge General Store 2\, 101 Dory Drive\, Salvisa\, KY\, 40372\, United States
ATTACH;FMTTYPE=image/jpeg:https://kentuckycruises.com/wp-content/uploads/2021/04/41250560_348674202542010_6084198139768602624_n.jpg
GEO:37.9140778;-84.8615575
X-APPLE-STRUCTURED-LOCATION;VALUE=URI;X-ADDRESS=Old Bridge General Store 2 101 Dory Drive Salvisa KY 40372 United States;X-APPLE-RADIUS=500;X-TITLE=101 Dory Drive:geo:-84.8615575,37.9140778
END:VEVENT
BEGIN:VEVENT
DTSTART;TZID=America/Kentucky/Louisville:20210814T180000
DTEND;TZID=America/Kentucky/Louisville:20210814T210000
DTSTAMP:20260421T103311
CREATED:20210428T034152Z
LAST-MODIFIED:20210428T034212Z
UID:10009335-1628964000-1628974800@kentuckycruises.com
SUMMARY:Old Bridge General Store 2 Cruise
DESCRIPTION:Located on 127 In Salvisa\,KY\,  Every 2nd Saturday 6-9 PM  thru October\n\nEnjoy Great Food\, Great Cars and Trucks\,  Music\, and Door Prizes. Plenty of Parking.\n\nCheck our Facebook Page for more Information and Rain Cancellations.
URL:https://kentuckycruises.com/event/old-bridge-general-store-2-cruise/2021-08-14/
LOCATION:Old Bridge General Store 2\, 101 Dory Drive\, Salvisa\, KY\, 40372\, United States
ATTACH;FMTTYPE=image/jpeg:https://kentuckycruises.com/wp-content/uploads/2021/04/41250560_348674202542010_6084198139768602624_n.jpg
GEO:37.9140778;-84.8615575
X-APPLE-STRUCTURED-LOCATION;VALUE=URI;X-ADDRESS=Old Bridge General Store 2 101 Dory Drive Salvisa KY 40372 United States;X-APPLE-RADIUS=500;X-TITLE=101 Dory Drive:geo:-84.8615575,37.9140778
END:VEVENT
BEGIN:VEVENT
DTSTART;TZID=America/Kentucky/Louisville:20210710T180000
DTEND;TZID=America/Kentucky/Louisville:20210710T210000
DTSTAMP:20260421T103311
CREATED:20210428T034152Z
LAST-MODIFIED:20210428T034212Z
UID:10009334-1625940000-1625950800@kentuckycruises.com
SUMMARY:Old Bridge General Store 2 Cruise
DESCRIPTION:Located on 127 In Salvisa\,KY\,  Every 2nd Saturday 6-9 PM  thru October\n\nEnjoy Great Food\, Great Cars and Trucks\,  Music\, and Door Prizes. Plenty of Parking.\n\nCheck our Facebook Page for more Information and Rain Cancellations.
URL:https://kentuckycruises.com/event/old-bridge-general-store-2-cruise/2021-07-10/
LOCATION:Old Bridge General Store 2\, 101 Dory Drive\, Salvisa\, KY\, 40372\, United States
ATTACH;FMTTYPE=image/jpeg:https://kentuckycruises.com/wp-content/uploads/2021/04/41250560_348674202542010_6084198139768602624_n.jpg
GEO:37.9140778;-84.8615575
X-APPLE-STRUCTURED-LOCATION;VALUE=URI;X-ADDRESS=Old Bridge General Store 2 101 Dory Drive Salvisa KY 40372 United States;X-APPLE-RADIUS=500;X-TITLE=101 Dory Drive:geo:-84.8615575,37.9140778
END:VEVENT
BEGIN:VEVENT
DTSTART;TZID=America/Kentucky/Louisville:20210612T180000
DTEND;TZID=America/Kentucky/Louisville:20210612T210000
DTSTAMP:20260421T103311
CREATED:20210428T034152Z
LAST-MODIFIED:20210428T034212Z
UID:10009333-1623520800-1623531600@kentuckycruises.com
SUMMARY:Old Bridge General Store 2 Cruise
DESCRIPTION:Located on 127 In Salvisa\,KY\,  Every 2nd Saturday 6-9 PM  thru October\n\nEnjoy Great Food\, Great Cars and Trucks\,  Music\, and Door Prizes. Plenty of Parking.\n\nCheck our Facebook Page for more Information and Rain Cancellations.
URL:https://kentuckycruises.com/event/old-bridge-general-store-2-cruise/2021-06-12/
LOCATION:Old Bridge General Store 2\, 101 Dory Drive\, Salvisa\, KY\, 40372\, United States
ATTACH;FMTTYPE=image/jpeg:https://kentuckycruises.com/wp-content/uploads/2021/04/41250560_348674202542010_6084198139768602624_n.jpg
GEO:37.9140778;-84.8615575
X-APPLE-STRUCTURED-LOCATION;VALUE=URI;X-ADDRESS=Old Bridge General Store 2 101 Dory Drive Salvisa KY 40372 United States;X-APPLE-RADIUS=500;X-TITLE=101 Dory Drive:geo:-84.8615575,37.9140778
END:VEVENT
BEGIN:VEVENT
DTSTART;TZID=America/Kentucky/Louisville:20210508T180000
DTEND;TZID=America/Kentucky/Louisville:20210508T210000
DTSTAMP:20260421T103311
CREATED:20210428T034152Z
LAST-MODIFIED:20210428T034212Z
UID:10009332-1620496800-1620507600@kentuckycruises.com
SUMMARY:Old Bridge General Store 2 Cruise
DESCRIPTION:Located on 127 In Salvisa\,KY\,  Every 2nd Saturday 6-9 PM  thru October\n\nEnjoy Great Food\, Great Cars and Trucks\,  Music\, and Door Prizes. Plenty of Parking.\n\nCheck our Facebook Page for more Information and Rain Cancellations.
URL:https://kentuckycruises.com/event/old-bridge-general-store-2-cruise/2021-05-08/
LOCATION:Old Bridge General Store 2\, 101 Dory Drive\, Salvisa\, KY\, 40372\, United States
ATTACH;FMTTYPE=image/jpeg:https://kentuckycruises.com/wp-content/uploads/2021/04/41250560_348674202542010_6084198139768602624_n.jpg
GEO:37.9140778;-84.8615575
X-APPLE-STRUCTURED-LOCATION;VALUE=URI;X-ADDRESS=Old Bridge General Store 2 101 Dory Drive Salvisa KY 40372 United States;X-APPLE-RADIUS=500;X-TITLE=101 Dory Drive:geo:-84.8615575,37.9140778
END:VEVENT
END:VCALENDAR