BEGIN:VCALENDAR
VERSION:2.0
PRODID:-//Kentucky Cruises - ECPv6.6.3//NONSGML v1.0//EN
CALSCALE:GREGORIAN
METHOD:PUBLISH
X-WR-CALNAME:Kentucky Cruises
X-ORIGINAL-URL:https://kentuckycruises.com
X-WR-CALDESC:Events for Kentucky Cruises
REFRESH-INTERVAL;VALUE=DURATION:PT1H
X-Robots-Tag:noindex
X-PUBLISHED-TTL:PT1H
BEGIN:VTIMEZONE
TZID:America/Kentucky/Louisville
BEGIN:DAYLIGHT
TZOFFSETFROM:-0500
TZOFFSETTO:-0400
TZNAME:EDT
DTSTART:20210314T070000
END:DAYLIGHT
BEGIN:STANDARD
TZOFFSETFROM:-0400
TZOFFSETTO:-0500
TZNAME:EST
DTSTART:20211107T060000
END:STANDARD
BEGIN:DAYLIGHT
TZOFFSETFROM:-0500
TZOFFSETTO:-0400
TZNAME:EDT
DTSTART:20220313T070000
END:DAYLIGHT
BEGIN:STANDARD
TZOFFSETFROM:-0400
TZOFFSETTO:-0500
TZNAME:EST
DTSTART:20221106T060000
END:STANDARD
BEGIN:DAYLIGHT
TZOFFSETFROM:-0500
TZOFFSETTO:-0400
TZNAME:EDT
DTSTART:20230312T070000
END:DAYLIGHT
BEGIN:STANDARD
TZOFFSETFROM:-0400
TZOFFSETTO:-0500
TZNAME:EST
DTSTART:20231105T060000
END:STANDARD
END:VTIMEZONE
BEGIN:VEVENT
DTSTART;TZID=America/Kentucky/Louisville:20230617T090000
DTEND;TZID=America/Kentucky/Louisville:20230617T150000
DTSTAMP:20260423T040331
CREATED:20230614T054403Z
LAST-MODIFIED:20230617T030750Z
UID:10011339-1686992400-1687014000@kentuckycruises.com
SUMMARY:Father's Day Car Show at Okolona Christan Church
DESCRIPTION:Father’s Day Car Show \nWhen: Saturday June 17\,2023 \nTime: 9 AM – 3 PM\, Awards at 3 PM \nAddress: Okolona Christian Church \n10801 Faithful Way\, Louisville\, KY 40229 \nCar Show Registration Information: \nTo show your car it is $20 at the gate. Door Prizes throughout the day. Awards will be given at 3:00 pm. \nAll cars\, trucks\, and bikes are welcome. There will also be food for sale and music. \n \n 
URL:https://kentuckycruises.com/event/fathers-day-car-show-at-okolona-christan-church/
LOCATION:Okolona Christian Church\, 10801 Faithful Way\, Louisville\, KY\, 40229\, United States
ATTACH;FMTTYPE=image/jpeg:https://kentuckycruises.com/wp-content/uploads/2023/06/FB_IMG_1686624982862.jpg
GEO:38.0946636;-85.6673553
X-APPLE-STRUCTURED-LOCATION;VALUE=URI;X-ADDRESS=Okolona Christian Church 10801 Faithful Way Louisville KY 40229 United States;X-APPLE-RADIUS=500;X-TITLE=10801 Faithful Way:geo:-85.6673553,38.0946636
END:VEVENT
BEGIN:VEVENT
DTSTART;TZID=America/Kentucky/Louisville:20220618T090000
DTEND;TZID=America/Kentucky/Louisville:20220618T150000
DTSTAMP:20260423T040331
CREATED:20220214T044512Z
LAST-MODIFIED:20220214T044656Z
UID:10008164-1655542800-1655564400@kentuckycruises.com
SUMMARY:Father's Day Car Show
DESCRIPTION:Okolona Christian Church\n10801 Faithful Way\nLouisville\, KY 40229 \nCars\, Trucks & Bikes\nFood Trucks\, Music\, Door Prizes & Awards \nRegistration:\n$20 to show\nAwards at 3pm \nProceeds go to help Okolona Christian Church local outreach efforts \nFor more information TEXT “carshow” to 502-289-1387 \nokolonacc.org \nClick on flyer below for more information.
URL:https://kentuckycruises.com/event/fathers-day-car-show-4/
LOCATION:Okolona Christian Church\, 10801 Faithful Way\, Louisville\, KY\, 40229\, United States
ATTACH;FMTTYPE=image/jpeg:https://kentuckycruises.com/wp-content/uploads/2022/02/OCC_22.jpg
GEO:38.0946636;-85.6673553
X-APPLE-STRUCTURED-LOCATION;VALUE=URI;X-ADDRESS=Okolona Christian Church 10801 Faithful Way Louisville KY 40229 United States;X-APPLE-RADIUS=500;X-TITLE=10801 Faithful Way:geo:-85.6673553,38.0946636
END:VEVENT
BEGIN:VEVENT
DTSTART;TZID=America/Kentucky/Louisville:20210821T100000
DTEND;TZID=America/Kentucky/Louisville:20210821T150000
DTSTAMP:20260423T040331
CREATED:20210614T171649Z
LAST-MODIFIED:20210618T145815Z
UID:10007885-1629540000-1629558000@kentuckycruises.com
SUMMARY:AMVETS Patriot Car Truck & Bike Show
DESCRIPTION:13th Annual \nAugust 21st\n10AM – 3PM \nRain Date September 11th \nRegistration $20 \nVendor Fee $25 \nContact Karen Hasting or email amvets61ky@gmail.com \nSee our Facebook page  www.facebook.com/amvets61KY \nSee our Facebook event page www.facebook.com/events/325242842526260 \nAMVETS Post #61\n9405 Smyrna Pkwy.\nLouisville\, KY 40229\n502-968-2161 \nClick below to enlarge for details.
URL:https://kentuckycruises.com/event/amvets-patriot-car-truck-bike-show-2/
LOCATION:Okolona Christian Church\, 10801 Faithful Way\, Louisville\, KY\, 40229\, United States
ATTACH;FMTTYPE=image/jpeg:https://kentuckycruises.com/wp-content/uploads/2021/06/195321613_4543602489000996_1359948409038415344_n.jpg
GEO:38.0946636;-85.6673553
X-APPLE-STRUCTURED-LOCATION;VALUE=URI;X-ADDRESS=Okolona Christian Church 10801 Faithful Way Louisville KY 40229 United States;X-APPLE-RADIUS=500;X-TITLE=10801 Faithful Way:geo:-85.6673553,38.0946636
END:VEVENT
BEGIN:VEVENT
DTSTART;TZID=America/Kentucky/Louisville:20210619T090000
DTEND;TZID=America/Kentucky/Louisville:20210619T160000
DTSTAMP:20260423T040331
CREATED:20210429T220951Z
LAST-MODIFIED:20210614T170531Z
UID:10009547-1624093200-1624118400@kentuckycruises.com
SUMMARY:Father's Day Car Show
DESCRIPTION:Okolona Christian Church\n10801 Faithful Way\nLouisville\, KY 40229 \nCars\, Trucks & Bikes\nFood Trucks\, Music\, Door Prizes & Awards \nRegistration:\n$15 Single vehicle\n$20 Father & Child combo\nAwards at 3pm \nProceeds go to help Okolona Christian Church local outreach efforts \nFor more information TEXT “carshow” to 502-289-1387 \nokolonacc.org \nClick on flyer below for more information.
URL:https://kentuckycruises.com/event/fathers-day-car-show-3/
LOCATION:Okolona Christian Church\, 10801 Faithful Way\, Louisville\, KY\, 40229\, United States
ATTACH;FMTTYPE=image/jpeg:https://kentuckycruises.com/wp-content/uploads/2021/04/336eface5a417e0efbb2aec85519292a.jpg
GEO:38.0946636;-85.6673553
X-APPLE-STRUCTURED-LOCATION;VALUE=URI;X-ADDRESS=Okolona Christian Church 10801 Faithful Way Louisville KY 40229 United States;X-APPLE-RADIUS=500;X-TITLE=10801 Faithful Way:geo:-85.6673553,38.0946636
END:VEVENT
END:VCALENDAR