BEGIN:VCALENDAR
VERSION:2.0
PRODID:-//Kentucky Cruises - ECPv6.6.3//NONSGML v1.0//EN
CALSCALE:GREGORIAN
METHOD:PUBLISH
X-ORIGINAL-URL:https://kentuckycruises.com
X-WR-CALDESC:Events for Kentucky Cruises
REFRESH-INTERVAL;VALUE=DURATION:PT1H
X-Robots-Tag:noindex
X-PUBLISHED-TTL:PT1H
BEGIN:VTIMEZONE
TZID:America/Kentucky/Louisville
BEGIN:DAYLIGHT
TZOFFSETFROM:-0500
TZOFFSETTO:-0400
TZNAME:EDT
DTSTART:20210314T070000
END:DAYLIGHT
BEGIN:STANDARD
TZOFFSETFROM:-0400
TZOFFSETTO:-0500
TZNAME:EST
DTSTART:20211107T060000
END:STANDARD
BEGIN:DAYLIGHT
TZOFFSETFROM:-0500
TZOFFSETTO:-0400
TZNAME:EDT
DTSTART:20220313T070000
END:DAYLIGHT
BEGIN:STANDARD
TZOFFSETFROM:-0400
TZOFFSETTO:-0500
TZNAME:EST
DTSTART:20221106T060000
END:STANDARD
BEGIN:DAYLIGHT
TZOFFSETFROM:-0500
TZOFFSETTO:-0400
TZNAME:EDT
DTSTART:20230312T070000
END:DAYLIGHT
BEGIN:STANDARD
TZOFFSETFROM:-0400
TZOFFSETTO:-0500
TZNAME:EST
DTSTART:20231105T060000
END:STANDARD
END:VTIMEZONE
BEGIN:VEVENT
DTSTART;VALUE=DATE:20230603
DTEND;VALUE=DATE:20230604
DTSTAMP:20260421T062930
CREATED:20230524T015256Z
LAST-MODIFIED:20230524T015256Z
UID:10011329-1685750400-1685836799@kentuckycruises.com
SUMMARY:Kentucky Foxbody Stampede
DESCRIPTION:Kentucky Foxbody Car Show and Racing at Ohio Valley Dragway. Car show and racing on Saturday 6/3/23. Come Friday night. Test and tune\, camping available. It’s Mustang night on Saturday. Bring your Mustang and spectator is free entry. Awards\,  plaques and Cash to be won! Bring your Fox or any Mustang and have some fun! \n \n 
URL:https://kentuckycruises.com/event/kentucky-foxbody-stampede/
LOCATION:Ohio Valley Dragway\, 17150 Dixie Hwy\, West Point\, KY\, 40177\, United States
ATTACH;FMTTYPE=image/jpeg:https://kentuckycruises.com/wp-content/uploads/2023/05/347107061_781113036761271_6149136126335470962_n.jpg
ORGANIZER;CN="Kentucky Foxbody":MAILTO:rickmcquown@gmail.com
GEO:38.0062615;-85.9336917
X-APPLE-STRUCTURED-LOCATION;VALUE=URI;X-ADDRESS=Ohio Valley Dragway 17150 Dixie Hwy West Point KY 40177 United States;X-APPLE-RADIUS=500;X-TITLE=17150 Dixie Hwy:geo:-85.9336917,38.0062615
END:VEVENT
BEGIN:VEVENT
DTSTART;TZID=America/Kentucky/Louisville:20211022T180000
DTEND;TZID=America/Kentucky/Louisville:20211022T220000
DTSTAMP:20260421T062930
CREATED:20210512T001822Z
LAST-MODIFIED:20210512T001822Z
UID:10007767-1634925600-1634940000@kentuckycruises.com
SUMMARY:Friday Night Street Car Shootout
DESCRIPTION:Ohio Valley Dragway\n17150 Dixie Hwy\nWest Point\, KY 40177 \nFor full season schedule please see our website.  ohiovalleydragway.com/main/drupal-7.66/content/schedule \nClick flyer below to enlarge for details.
URL:https://kentuckycruises.com/event/friday-night-street-car-shootout/2021-10-22/
LOCATION:Ohio Valley Dragway\, 17150 Dixie Hwy\, West Point\, KY\, 40177\, United States
ATTACH;FMTTYPE=image/jpeg:https://kentuckycruises.com/wp-content/uploads/2021/05/184680334_3325078410928618_2244587259162742839_n.jpg
GEO:38.0062615;-85.9336917
X-APPLE-STRUCTURED-LOCATION;VALUE=URI;X-ADDRESS=Ohio Valley Dragway 17150 Dixie Hwy West Point KY 40177 United States;X-APPLE-RADIUS=500;X-TITLE=17150 Dixie Hwy:geo:-85.9336917,38.0062615
END:VEVENT
BEGIN:VEVENT
DTSTART;TZID=America/Kentucky/Louisville:20210903T180000
DTEND;TZID=America/Kentucky/Louisville:20210903T220000
DTSTAMP:20260421T062930
CREATED:20210512T001822Z
LAST-MODIFIED:20210512T001822Z
UID:10007766-1630692000-1630706400@kentuckycruises.com
SUMMARY:Friday Night Street Car Shootout
DESCRIPTION:Ohio Valley Dragway\n17150 Dixie Hwy\nWest Point\, KY 40177 \nFor full season schedule please see our website.  ohiovalleydragway.com/main/drupal-7.66/content/schedule \nClick flyer below to enlarge for details.
URL:https://kentuckycruises.com/event/friday-night-street-car-shootout/2021-09-03/
LOCATION:Ohio Valley Dragway\, 17150 Dixie Hwy\, West Point\, KY\, 40177\, United States
ATTACH;FMTTYPE=image/jpeg:https://kentuckycruises.com/wp-content/uploads/2021/05/184680334_3325078410928618_2244587259162742839_n.jpg
GEO:38.0062615;-85.9336917
X-APPLE-STRUCTURED-LOCATION;VALUE=URI;X-ADDRESS=Ohio Valley Dragway 17150 Dixie Hwy West Point KY 40177 United States;X-APPLE-RADIUS=500;X-TITLE=17150 Dixie Hwy:geo:-85.9336917,38.0062615
END:VEVENT
BEGIN:VEVENT
DTSTART;TZID=America/Kentucky/Louisville:20210806T180000
DTEND;TZID=America/Kentucky/Louisville:20210806T220000
DTSTAMP:20260421T062930
CREATED:20210512T001822Z
LAST-MODIFIED:20210512T001822Z
UID:10007765-1628272800-1628287200@kentuckycruises.com
SUMMARY:Friday Night Street Car Shootout
DESCRIPTION:Ohio Valley Dragway\n17150 Dixie Hwy\nWest Point\, KY 40177 \nFor full season schedule please see our website.  ohiovalleydragway.com/main/drupal-7.66/content/schedule \nClick flyer below to enlarge for details.
URL:https://kentuckycruises.com/event/friday-night-street-car-shootout/2021-08-06/
LOCATION:Ohio Valley Dragway\, 17150 Dixie Hwy\, West Point\, KY\, 40177\, United States
ATTACH;FMTTYPE=image/jpeg:https://kentuckycruises.com/wp-content/uploads/2021/05/184680334_3325078410928618_2244587259162742839_n.jpg
GEO:38.0062615;-85.9336917
X-APPLE-STRUCTURED-LOCATION;VALUE=URI;X-ADDRESS=Ohio Valley Dragway 17150 Dixie Hwy West Point KY 40177 United States;X-APPLE-RADIUS=500;X-TITLE=17150 Dixie Hwy:geo:-85.9336917,38.0062615
END:VEVENT
BEGIN:VEVENT
DTSTART;TZID=America/Kentucky/Louisville:20210702T180000
DTEND;TZID=America/Kentucky/Louisville:20210702T220000
DTSTAMP:20260421T062930
CREATED:20210512T001822Z
LAST-MODIFIED:20210512T001822Z
UID:10007764-1625248800-1625263200@kentuckycruises.com
SUMMARY:Friday Night Street Car Shootout
DESCRIPTION:Ohio Valley Dragway\n17150 Dixie Hwy\nWest Point\, KY 40177 \nFor full season schedule please see our website.  ohiovalleydragway.com/main/drupal-7.66/content/schedule \nClick flyer below to enlarge for details.
URL:https://kentuckycruises.com/event/friday-night-street-car-shootout/2021-07-02/
LOCATION:Ohio Valley Dragway\, 17150 Dixie Hwy\, West Point\, KY\, 40177\, United States
ATTACH;FMTTYPE=image/jpeg:https://kentuckycruises.com/wp-content/uploads/2021/05/184680334_3325078410928618_2244587259162742839_n.jpg
GEO:38.0062615;-85.9336917
X-APPLE-STRUCTURED-LOCATION;VALUE=URI;X-ADDRESS=Ohio Valley Dragway 17150 Dixie Hwy West Point KY 40177 United States;X-APPLE-RADIUS=500;X-TITLE=17150 Dixie Hwy:geo:-85.9336917,38.0062615
END:VEVENT
BEGIN:VEVENT
DTSTART;TZID=America/Kentucky/Louisville:20210611T180000
DTEND;TZID=America/Kentucky/Louisville:20210611T220000
DTSTAMP:20260421T062930
CREATED:20210512T001822Z
LAST-MODIFIED:20210512T001822Z
UID:10007763-1623434400-1623448800@kentuckycruises.com
SUMMARY:Friday Night Street Car Shootout
DESCRIPTION:Ohio Valley Dragway\n17150 Dixie Hwy\nWest Point\, KY 40177 \nFor full season schedule please see our website.  ohiovalleydragway.com/main/drupal-7.66/content/schedule \nClick flyer below to enlarge for details.
URL:https://kentuckycruises.com/event/friday-night-street-car-shootout/2021-06-11/
LOCATION:Ohio Valley Dragway\, 17150 Dixie Hwy\, West Point\, KY\, 40177\, United States
ATTACH;FMTTYPE=image/jpeg:https://kentuckycruises.com/wp-content/uploads/2021/05/184680334_3325078410928618_2244587259162742839_n.jpg
GEO:38.0062615;-85.9336917
X-APPLE-STRUCTURED-LOCATION;VALUE=URI;X-ADDRESS=Ohio Valley Dragway 17150 Dixie Hwy West Point KY 40177 United States;X-APPLE-RADIUS=500;X-TITLE=17150 Dixie Hwy:geo:-85.9336917,38.0062615
END:VEVENT
BEGIN:VEVENT
DTSTART;TZID=America/Kentucky/Louisville:20210603T080000
DTEND;TZID=America/Kentucky/Louisville:20210606T170000
DTSTAMP:20260421T062930
CREATED:20210526T194951Z
LAST-MODIFIED:20210526T195009Z
UID:10007840-1622707200-1622998800@kentuckycruises.com
SUMMARY:Derby City 50K
DESCRIPTION:See flyer below for details.
URL:https://kentuckycruises.com/event/derby-city-50k/
LOCATION:Ohio Valley Dragway\, 17150 Dixie Hwy\, West Point\, KY\, 40177\, United States
GEO:38.0062615;-85.9336917
X-APPLE-STRUCTURED-LOCATION;VALUE=URI;X-ADDRESS=Ohio Valley Dragway 17150 Dixie Hwy West Point KY 40177 United States;X-APPLE-RADIUS=500;X-TITLE=17150 Dixie Hwy:geo:-85.9336917,38.0062615
END:VEVENT
BEGIN:VEVENT
DTSTART;TZID=America/Kentucky/Louisville:20210514T180000
DTEND;TZID=America/Kentucky/Louisville:20210514T220000
DTSTAMP:20260421T062930
CREATED:20210512T001822Z
LAST-MODIFIED:20210512T001822Z
UID:10007762-1621015200-1621029600@kentuckycruises.com
SUMMARY:Friday Night Street Car Shootout
DESCRIPTION:Ohio Valley Dragway\n17150 Dixie Hwy\nWest Point\, KY 40177 \nFor full season schedule please see our website.  ohiovalleydragway.com/main/drupal-7.66/content/schedule \nClick flyer below to enlarge for details.
URL:https://kentuckycruises.com/event/friday-night-street-car-shootout/2021-05-14/
LOCATION:Ohio Valley Dragway\, 17150 Dixie Hwy\, West Point\, KY\, 40177\, United States
ATTACH;FMTTYPE=image/jpeg:https://kentuckycruises.com/wp-content/uploads/2021/05/184680334_3325078410928618_2244587259162742839_n.jpg
GEO:38.0062615;-85.9336917
X-APPLE-STRUCTURED-LOCATION;VALUE=URI;X-ADDRESS=Ohio Valley Dragway 17150 Dixie Hwy West Point KY 40177 United States;X-APPLE-RADIUS=500;X-TITLE=17150 Dixie Hwy:geo:-85.9336917,38.0062615
END:VEVENT
BEGIN:VEVENT
DTSTART;TZID=America/Kentucky/Louisville:20210409T180000
DTEND;TZID=America/Kentucky/Louisville:20210409T220000
DTSTAMP:20260421T062930
CREATED:20210512T001822Z
LAST-MODIFIED:20210512T001822Z
UID:10007761-1617991200-1618005600@kentuckycruises.com
SUMMARY:Friday Night Street Car Shootout
DESCRIPTION:Ohio Valley Dragway\n17150 Dixie Hwy\nWest Point\, KY 40177 \nFor full season schedule please see our website.  ohiovalleydragway.com/main/drupal-7.66/content/schedule \nClick flyer below to enlarge for details.
URL:https://kentuckycruises.com/event/friday-night-street-car-shootout/2021-04-09/
LOCATION:Ohio Valley Dragway\, 17150 Dixie Hwy\, West Point\, KY\, 40177\, United States
ATTACH;FMTTYPE=image/jpeg:https://kentuckycruises.com/wp-content/uploads/2021/05/184680334_3325078410928618_2244587259162742839_n.jpg
GEO:38.0062615;-85.9336917
X-APPLE-STRUCTURED-LOCATION;VALUE=URI;X-ADDRESS=Ohio Valley Dragway 17150 Dixie Hwy West Point KY 40177 United States;X-APPLE-RADIUS=500;X-TITLE=17150 Dixie Hwy:geo:-85.9336917,38.0062615
END:VEVENT
END:VCALENDAR