BEGIN:VCALENDAR
VERSION:2.0
PRODID:-//Kentucky Cruises - ECPv6.6.3//NONSGML v1.0//EN
CALSCALE:GREGORIAN
METHOD:PUBLISH
X-ORIGINAL-URL:https://kentuckycruises.com
X-WR-CALDESC:Events for Kentucky Cruises
REFRESH-INTERVAL;VALUE=DURATION:PT1H
X-Robots-Tag:noindex
X-PUBLISHED-TTL:PT1H
BEGIN:VTIMEZONE
TZID:America/Kentucky/Louisville
BEGIN:DAYLIGHT
TZOFFSETFROM:-0500
TZOFFSETTO:-0400
TZNAME:EDT
DTSTART:20210314T070000
END:DAYLIGHT
BEGIN:STANDARD
TZOFFSETFROM:-0400
TZOFFSETTO:-0500
TZNAME:EST
DTSTART:20211107T060000
END:STANDARD
END:VTIMEZONE
BEGIN:VEVENT
DTSTART;TZID=America/Kentucky/Louisville:20211009T170000
DTEND;TZID=America/Kentucky/Louisville:20211009T210000
DTSTAMP:20260422T055505
CREATED:20210503T000530Z
LAST-MODIFIED:20210503T000530Z
UID:10009647-1633798800-1633813200@kentuckycruises.com
SUMMARY:Oak Grove Casino Cruise In
DESCRIPTION:Oak Grove Casino\n777 Winners Way\nOak Grove\, KY\, 42262 \nfrom 5-9PM \nEvery 2nd Saturday from April through October. \nHosted by the Memory Lane Cruisers. \nCheck our Facebook page for updates.  www.facebook.com/MemoryLaneCruisers
URL:https://kentuckycruises.com/event/oak-grove-casino-cruise-in/2021-10-09/
LOCATION:Oak Grove Casino\, 777 Winners Way\, Oak Grove\, KY\, 42262\, United States
ATTACH;FMTTYPE=image/jpeg:https://kentuckycruises.com/wp-content/uploads/2021/05/180363087_3991674880922916_1595485007973100362_n.jpg
GEO:36.6585617;-87.4392776
X-APPLE-STRUCTURED-LOCATION;VALUE=URI;X-ADDRESS=Oak Grove Casino 777 Winners Way Oak Grove KY 42262 United States;X-APPLE-RADIUS=500;X-TITLE=777 Winners Way:geo:-87.4392776,36.6585617
END:VEVENT
BEGIN:VEVENT
DTSTART;TZID=America/Kentucky/Louisville:20211002T080000
DTEND;TZID=America/Kentucky/Louisville:20211002T130000
DTSTAMP:20260422T055505
CREATED:20210608T162750Z
LAST-MODIFIED:20210608T162750Z
UID:10009801-1633161600-1633179600@kentuckycruises.com
SUMMARY:Autumn Run Car Show
DESCRIPTION:Oak Grove Casino\n777 Winners Way\nOak Grove\, KY  42262 \nWelcome all Classic cars\, Muscle Cars\, Street Rods\, Trucks\, Rat Rods\, Street tuners\, Motorcycles and Projects in Progress. \nOctober 2\n8AM – 1PM \nRegistration: 8:00am – Noon. \nEach vehicle will be Judged! \nFee BY DONATION\, Spectators FREE. \nDash plaques to the 1st 100 Entries\, TOP 25 Awards\, 12 Classes plus Best of Show. \nProceeds from this show will benefit “Camp Rainbow” and “Big Brothers / Big Sisters of Clarksville. \nFor more information\, call Bob Merrill 575-680-0717 or Becky Merrill 575-680-0396. \nClick below to enlarge for details.
URL:https://kentuckycruises.com/event/autumn-run-car-show/
LOCATION:Oak Grove Casino\, 777 Winners Way\, Oak Grove\, KY\, 42262\, United States
ATTACH;FMTTYPE=image/jpeg:https://kentuckycruises.com/wp-content/uploads/2021/06/October-2-Memory-Lane-Cruisers-CarShow.jpg
GEO:36.6585617;-87.4392776
X-APPLE-STRUCTURED-LOCATION;VALUE=URI;X-ADDRESS=Oak Grove Casino 777 Winners Way Oak Grove KY 42262 United States;X-APPLE-RADIUS=500;X-TITLE=777 Winners Way:geo:-87.4392776,36.6585617
END:VEVENT
BEGIN:VEVENT
DTSTART;TZID=America/Kentucky/Louisville:20210911T170000
DTEND;TZID=America/Kentucky/Louisville:20210911T210000
DTSTAMP:20260422T055505
CREATED:20210503T000530Z
LAST-MODIFIED:20210503T000530Z
UID:10009646-1631379600-1631394000@kentuckycruises.com
SUMMARY:Oak Grove Casino Cruise In
DESCRIPTION:Oak Grove Casino\n777 Winners Way\nOak Grove\, KY\, 42262 \nfrom 5-9PM \nEvery 2nd Saturday from April through October. \nHosted by the Memory Lane Cruisers. \nCheck our Facebook page for updates.  www.facebook.com/MemoryLaneCruisers
URL:https://kentuckycruises.com/event/oak-grove-casino-cruise-in/2021-09-11/
LOCATION:Oak Grove Casino\, 777 Winners Way\, Oak Grove\, KY\, 42262\, United States
ATTACH;FMTTYPE=image/jpeg:https://kentuckycruises.com/wp-content/uploads/2021/05/180363087_3991674880922916_1595485007973100362_n.jpg
GEO:36.6585617;-87.4392776
X-APPLE-STRUCTURED-LOCATION;VALUE=URI;X-ADDRESS=Oak Grove Casino 777 Winners Way Oak Grove KY 42262 United States;X-APPLE-RADIUS=500;X-TITLE=777 Winners Way:geo:-87.4392776,36.6585617
END:VEVENT
BEGIN:VEVENT
DTSTART;TZID=America/Kentucky/Louisville:20210814T170000
DTEND;TZID=America/Kentucky/Louisville:20210814T210000
DTSTAMP:20260422T055505
CREATED:20210503T000530Z
LAST-MODIFIED:20210503T000530Z
UID:10009645-1628960400-1628974800@kentuckycruises.com
SUMMARY:Oak Grove Casino Cruise In
DESCRIPTION:Oak Grove Casino\n777 Winners Way\nOak Grove\, KY\, 42262 \nfrom 5-9PM \nEvery 2nd Saturday from April through October. \nHosted by the Memory Lane Cruisers. \nCheck our Facebook page for updates.  www.facebook.com/MemoryLaneCruisers
URL:https://kentuckycruises.com/event/oak-grove-casino-cruise-in/2021-08-14/
LOCATION:Oak Grove Casino\, 777 Winners Way\, Oak Grove\, KY\, 42262\, United States
ATTACH;FMTTYPE=image/jpeg:https://kentuckycruises.com/wp-content/uploads/2021/05/180363087_3991674880922916_1595485007973100362_n.jpg
GEO:36.6585617;-87.4392776
X-APPLE-STRUCTURED-LOCATION;VALUE=URI;X-ADDRESS=Oak Grove Casino 777 Winners Way Oak Grove KY 42262 United States;X-APPLE-RADIUS=500;X-TITLE=777 Winners Way:geo:-87.4392776,36.6585617
END:VEVENT
BEGIN:VEVENT
DTSTART;TZID=America/Kentucky/Louisville:20210710T170000
DTEND;TZID=America/Kentucky/Louisville:20210710T210000
DTSTAMP:20260422T055505
CREATED:20210503T000530Z
LAST-MODIFIED:20210503T000530Z
UID:10009644-1625936400-1625950800@kentuckycruises.com
SUMMARY:Oak Grove Casino Cruise In
DESCRIPTION:Oak Grove Casino\n777 Winners Way\nOak Grove\, KY\, 42262 \nfrom 5-9PM \nEvery 2nd Saturday from April through October. \nHosted by the Memory Lane Cruisers. \nCheck our Facebook page for updates.  www.facebook.com/MemoryLaneCruisers
URL:https://kentuckycruises.com/event/oak-grove-casino-cruise-in/2021-07-10/
LOCATION:Oak Grove Casino\, 777 Winners Way\, Oak Grove\, KY\, 42262\, United States
ATTACH;FMTTYPE=image/jpeg:https://kentuckycruises.com/wp-content/uploads/2021/05/180363087_3991674880922916_1595485007973100362_n.jpg
GEO:36.6585617;-87.4392776
X-APPLE-STRUCTURED-LOCATION;VALUE=URI;X-ADDRESS=Oak Grove Casino 777 Winners Way Oak Grove KY 42262 United States;X-APPLE-RADIUS=500;X-TITLE=777 Winners Way:geo:-87.4392776,36.6585617
END:VEVENT
BEGIN:VEVENT
DTSTART;TZID=America/Kentucky/Louisville:20210612T170000
DTEND;TZID=America/Kentucky/Louisville:20210612T210000
DTSTAMP:20260422T055505
CREATED:20210503T000530Z
LAST-MODIFIED:20210503T000530Z
UID:10009643-1623517200-1623531600@kentuckycruises.com
SUMMARY:Oak Grove Casino Cruise In
DESCRIPTION:Oak Grove Casino\n777 Winners Way\nOak Grove\, KY\, 42262 \nfrom 5-9PM \nEvery 2nd Saturday from April through October. \nHosted by the Memory Lane Cruisers. \nCheck our Facebook page for updates.  www.facebook.com/MemoryLaneCruisers
URL:https://kentuckycruises.com/event/oak-grove-casino-cruise-in/2021-06-12/
LOCATION:Oak Grove Casino\, 777 Winners Way\, Oak Grove\, KY\, 42262\, United States
ATTACH;FMTTYPE=image/jpeg:https://kentuckycruises.com/wp-content/uploads/2021/05/180363087_3991674880922916_1595485007973100362_n.jpg
GEO:36.6585617;-87.4392776
X-APPLE-STRUCTURED-LOCATION;VALUE=URI;X-ADDRESS=Oak Grove Casino 777 Winners Way Oak Grove KY 42262 United States;X-APPLE-RADIUS=500;X-TITLE=777 Winners Way:geo:-87.4392776,36.6585617
END:VEVENT
BEGIN:VEVENT
DTSTART;TZID=America/Kentucky/Louisville:20210508T170000
DTEND;TZID=America/Kentucky/Louisville:20210508T210000
DTSTAMP:20260422T055505
CREATED:20210503T000530Z
LAST-MODIFIED:20210503T000530Z
UID:10009642-1620493200-1620507600@kentuckycruises.com
SUMMARY:Oak Grove Casino Cruise In
DESCRIPTION:Oak Grove Casino\n777 Winners Way\nOak Grove\, KY\, 42262 \nfrom 5-9PM \nEvery 2nd Saturday from April through October. \nHosted by the Memory Lane Cruisers. \nCheck our Facebook page for updates.  www.facebook.com/MemoryLaneCruisers
URL:https://kentuckycruises.com/event/oak-grove-casino-cruise-in/2021-05-08/
LOCATION:Oak Grove Casino\, 777 Winners Way\, Oak Grove\, KY\, 42262\, United States
ATTACH;FMTTYPE=image/jpeg:https://kentuckycruises.com/wp-content/uploads/2021/05/180363087_3991674880922916_1595485007973100362_n.jpg
GEO:36.6585617;-87.4392776
X-APPLE-STRUCTURED-LOCATION;VALUE=URI;X-ADDRESS=Oak Grove Casino 777 Winners Way Oak Grove KY 42262 United States;X-APPLE-RADIUS=500;X-TITLE=777 Winners Way:geo:-87.4392776,36.6585617
END:VEVENT
BEGIN:VEVENT
DTSTART;TZID=America/Kentucky/Louisville:20210410T170000
DTEND;TZID=America/Kentucky/Louisville:20210410T210000
DTSTAMP:20260422T055505
CREATED:20210503T000530Z
LAST-MODIFIED:20210503T000530Z
UID:10009641-1618074000-1618088400@kentuckycruises.com
SUMMARY:Oak Grove Casino Cruise In
DESCRIPTION:Oak Grove Casino\n777 Winners Way\nOak Grove\, KY\, 42262 \nfrom 5-9PM \nEvery 2nd Saturday from April through October. \nHosted by the Memory Lane Cruisers. \nCheck our Facebook page for updates.  www.facebook.com/MemoryLaneCruisers
URL:https://kentuckycruises.com/event/oak-grove-casino-cruise-in/2021-04-10/
LOCATION:Oak Grove Casino\, 777 Winners Way\, Oak Grove\, KY\, 42262\, United States
ATTACH;FMTTYPE=image/jpeg:https://kentuckycruises.com/wp-content/uploads/2021/05/180363087_3991674880922916_1595485007973100362_n.jpg
GEO:36.6585617;-87.4392776
X-APPLE-STRUCTURED-LOCATION;VALUE=URI;X-ADDRESS=Oak Grove Casino 777 Winners Way Oak Grove KY 42262 United States;X-APPLE-RADIUS=500;X-TITLE=777 Winners Way:geo:-87.4392776,36.6585617
END:VEVENT
END:VCALENDAR