BEGIN:VCALENDAR
VERSION:2.0
PRODID:-//Kentucky Cruises - ECPv6.6.3//NONSGML v1.0//EN
CALSCALE:GREGORIAN
METHOD:PUBLISH
X-ORIGINAL-URL:https://kentuckycruises.com
X-WR-CALDESC:Events for Kentucky Cruises
REFRESH-INTERVAL;VALUE=DURATION:PT1H
X-Robots-Tag:noindex
X-PUBLISHED-TTL:PT1H
BEGIN:VTIMEZONE
TZID:America/Kentucky/Louisville
BEGIN:DAYLIGHT
TZOFFSETFROM:-0500
TZOFFSETTO:-0400
TZNAME:EDT
DTSTART:20210314T070000
END:DAYLIGHT
BEGIN:STANDARD
TZOFFSETFROM:-0400
TZOFFSETTO:-0500
TZNAME:EST
DTSTART:20211107T060000
END:STANDARD
END:VTIMEZONE
BEGIN:VEVENT
DTSTART;TZID=America/Kentucky/Louisville:20210911T140000
DTEND;TZID=America/Kentucky/Louisville:20210911T200000
DTSTAMP:20260421T233810
CREATED:20210911T135150Z
LAST-MODIFIED:20210911T135150Z
UID:10010054-1631368800-1631390400@kentuckycruises.com
SUMMARY:Heroes and Horsepower Car Show
DESCRIPTION:Click below to enlarge for details
URL:https://kentuckycruises.com/event/heroes-and-horsepower-car-show/
LOCATION:Muhlenberg County Courthouse\, 100 S Main St\, Greenville\, KY\, 42345\, United States
ATTACH;FMTTYPE=image/jpeg:https://kentuckycruises.com/wp-content/uploads/2021/09/241626577_4708670029164583_1703198894627174919_n.jpg
GEO:37.2007046;-87.1779668
X-APPLE-STRUCTURED-LOCATION;VALUE=URI;X-ADDRESS=Muhlenberg County Courthouse 100 S Main St Greenville KY 42345 United States;X-APPLE-RADIUS=500;X-TITLE=100 S Main St:geo:-87.1779668,37.2007046
END:VEVENT
END:VCALENDAR