BEGIN:VCALENDAR
VERSION:2.0
PRODID:-//Kentucky Cruises - ECPv6.6.3//NONSGML v1.0//EN
CALSCALE:GREGORIAN
METHOD:PUBLISH
X-WR-CALNAME:Kentucky Cruises
X-ORIGINAL-URL:https://kentuckycruises.com
X-WR-CALDESC:Events for Kentucky Cruises
REFRESH-INTERVAL;VALUE=DURATION:PT1H
X-Robots-Tag:noindex
X-PUBLISHED-TTL:PT1H
BEGIN:VTIMEZONE
TZID:America/Kentucky/Louisville
BEGIN:DAYLIGHT
TZOFFSETFROM:-0500
TZOFFSETTO:-0400
TZNAME:EDT
DTSTART:20220313T070000
END:DAYLIGHT
BEGIN:STANDARD
TZOFFSETFROM:-0400
TZOFFSETTO:-0500
TZNAME:EST
DTSTART:20221106T060000
END:STANDARD
END:VTIMEZONE
BEGIN:VEVENT
DTSTART;TZID=America/Kentucky/Louisville:20221008T180000
DTEND;TZID=America/Kentucky/Louisville:20221008T210000
DTSTAMP:20260422T073745
CREATED:20220707T023739Z
LAST-MODIFIED:20220707T023739Z
UID:10010764-1665252000-1665262800@kentuckycruises.com
SUMMARY:Wheels & Reels
DESCRIPTION:Come out to Wheels and Reels. Top 3 trophies will be handed out again. We had right at 150 cars last month and I’m looking to beat that this month. I’ll post the link to this page in the comments. Please share the post and the group page so we can grow this show. I LOVE seeing all the killer rides come out.\nThank y’all for the support.\n\nhttps://www.facebook.com/groups/270087585139939
URL:https://kentuckycruises.com/event/wheels-reels/2022-10-08/
LOCATION:Movie Tavern Brannon Crossing\, 150 Langley Dr\,\, Nicholasville\, KY\, 40356\, United States
ATTACH;FMTTYPE=image/jpeg:https://kentuckycruises.com/wp-content/uploads/2022/07/263715880_10227262931224030_3850740436661881812_n.jpg
GEO:37.9525263;-84.527953
X-APPLE-STRUCTURED-LOCATION;VALUE=URI;X-ADDRESS=Movie Tavern Brannon Crossing 150 Langley Dr Nicholasville KY 40356 United States;X-APPLE-RADIUS=500;X-TITLE=150 Langley Dr\,:geo:-84.527953,37.9525263
END:VEVENT
BEGIN:VEVENT
DTSTART;TZID=America/Kentucky/Louisville:20220910T180000
DTEND;TZID=America/Kentucky/Louisville:20220910T210000
DTSTAMP:20260422T073745
CREATED:20220707T023739Z
LAST-MODIFIED:20220707T023739Z
UID:10010763-1662832800-1662843600@kentuckycruises.com
SUMMARY:Wheels & Reels
DESCRIPTION:Come out to Wheels and Reels. Top 3 trophies will be handed out again. We had right at 150 cars last month and I’m looking to beat that this month. I’ll post the link to this page in the comments. Please share the post and the group page so we can grow this show. I LOVE seeing all the killer rides come out.\nThank y’all for the support.\n\nhttps://www.facebook.com/groups/270087585139939
URL:https://kentuckycruises.com/event/wheels-reels/2022-09-10/
LOCATION:Movie Tavern Brannon Crossing\, 150 Langley Dr\,\, Nicholasville\, KY\, 40356\, United States
ATTACH;FMTTYPE=image/jpeg:https://kentuckycruises.com/wp-content/uploads/2022/07/263715880_10227262931224030_3850740436661881812_n.jpg
GEO:37.9525263;-84.527953
X-APPLE-STRUCTURED-LOCATION;VALUE=URI;X-ADDRESS=Movie Tavern Brannon Crossing 150 Langley Dr Nicholasville KY 40356 United States;X-APPLE-RADIUS=500;X-TITLE=150 Langley Dr\,:geo:-84.527953,37.9525263
END:VEVENT
BEGIN:VEVENT
DTSTART;TZID=America/Kentucky/Louisville:20220813T180000
DTEND;TZID=America/Kentucky/Louisville:20220813T210000
DTSTAMP:20260422T073745
CREATED:20220707T023739Z
LAST-MODIFIED:20220707T023739Z
UID:10010762-1660413600-1660424400@kentuckycruises.com
SUMMARY:Wheels & Reels
DESCRIPTION:Come out to Wheels and Reels. Top 3 trophies will be handed out again. We had right at 150 cars last month and I’m looking to beat that this month. I’ll post the link to this page in the comments. Please share the post and the group page so we can grow this show. I LOVE seeing all the killer rides come out.\nThank y’all for the support.\n\nhttps://www.facebook.com/groups/270087585139939
URL:https://kentuckycruises.com/event/wheels-reels/2022-08-13/
LOCATION:Movie Tavern Brannon Crossing\, 150 Langley Dr\,\, Nicholasville\, KY\, 40356\, United States
ATTACH;FMTTYPE=image/jpeg:https://kentuckycruises.com/wp-content/uploads/2022/07/263715880_10227262931224030_3850740436661881812_n.jpg
GEO:37.9525263;-84.527953
X-APPLE-STRUCTURED-LOCATION;VALUE=URI;X-ADDRESS=Movie Tavern Brannon Crossing 150 Langley Dr Nicholasville KY 40356 United States;X-APPLE-RADIUS=500;X-TITLE=150 Langley Dr\,:geo:-84.527953,37.9525263
END:VEVENT
BEGIN:VEVENT
DTSTART;TZID=America/Kentucky/Louisville:20220709T180000
DTEND;TZID=America/Kentucky/Louisville:20220709T210000
DTSTAMP:20260422T073745
CREATED:20220707T023739Z
LAST-MODIFIED:20220707T023739Z
UID:10010761-1657389600-1657400400@kentuckycruises.com
SUMMARY:Wheels & Reels
DESCRIPTION:Come out to Wheels and Reels. Top 3 trophies will be handed out again. We had right at 150 cars last month and I’m looking to beat that this month. I’ll post the link to this page in the comments. Please share the post and the group page so we can grow this show. I LOVE seeing all the killer rides come out.\nThank y’all for the support.\n\nhttps://www.facebook.com/groups/270087585139939
URL:https://kentuckycruises.com/event/wheels-reels/2022-07-09/
LOCATION:Movie Tavern Brannon Crossing\, 150 Langley Dr\,\, Nicholasville\, KY\, 40356\, United States
ATTACH;FMTTYPE=image/jpeg:https://kentuckycruises.com/wp-content/uploads/2022/07/263715880_10227262931224030_3850740436661881812_n.jpg
GEO:37.9525263;-84.527953
X-APPLE-STRUCTURED-LOCATION;VALUE=URI;X-ADDRESS=Movie Tavern Brannon Crossing 150 Langley Dr Nicholasville KY 40356 United States;X-APPLE-RADIUS=500;X-TITLE=150 Langley Dr\,:geo:-84.527953,37.9525263
END:VEVENT
END:VCALENDAR