BEGIN:VCALENDAR
VERSION:2.0
PRODID:-//Kentucky Cruises - ECPv6.6.3//NONSGML v1.0//EN
CALSCALE:GREGORIAN
METHOD:PUBLISH
X-ORIGINAL-URL:https://kentuckycruises.com
X-WR-CALDESC:Events for Kentucky Cruises
REFRESH-INTERVAL;VALUE=DURATION:PT1H
X-Robots-Tag:noindex
X-PUBLISHED-TTL:PT1H
BEGIN:VTIMEZONE
TZID:America/Kentucky/Louisville
BEGIN:DAYLIGHT
TZOFFSETFROM:-0500
TZOFFSETTO:-0400
TZNAME:EDT
DTSTART:20220313T070000
END:DAYLIGHT
BEGIN:STANDARD
TZOFFSETFROM:-0400
TZOFFSETTO:-0500
TZNAME:EST
DTSTART:20221106T060000
END:STANDARD
END:VTIMEZONE
BEGIN:VEVENT
DTSTART;TZID=America/Kentucky/Louisville:20220917T100000
DTEND;TZID=America/Kentucky/Louisville:20220917T160000
DTSTAMP:20260421T224724
CREATED:20220830T214025Z
LAST-MODIFIED:20220830T214025Z
UID:10008686-1663408800-1663430400@kentuckycruises.com
SUMMARY:Skyler Pennington Memorial Car Show
DESCRIPTION:Come join us for the Skyler Pennington Memorial Car Show on September 17th 2022 from 10am to 4pm. \nAlso visit out Facebook page Skyler Pennington Memorial. Hope to see you there.  https://www.facebook.com/Skylerpenningtonmemorial/ \nhttps://www.facebook.com/events/3114429065435434
URL:https://kentuckycruises.com/event/skyler-pennington-memorial-car-show-2/
LOCATION:Morgan Central Elementary School\, 3201 Highway 460 W\, West Liberty\, KY\, 41472\, United States
ATTACH;FMTTYPE=image/jpeg:https://kentuckycruises.com/wp-content/uploads/2022/08/299748964_2147642222084743_8456687359488871611_n.jpg
GEO:37.8807726;-83.2924787
X-APPLE-STRUCTURED-LOCATION;VALUE=URI;X-ADDRESS=Morgan Central Elementary School 3201 Highway 460 W West Liberty KY 41472 United States;X-APPLE-RADIUS=500;X-TITLE=3201 Highway 460 W:geo:-83.2924787,37.8807726
END:VEVENT
END:VCALENDAR