BEGIN:VCALENDAR
VERSION:2.0
PRODID:-//Kentucky Cruises - ECPv6.6.3//NONSGML v1.0//EN
CALSCALE:GREGORIAN
METHOD:PUBLISH
X-ORIGINAL-URL:https://kentuckycruises.com
X-WR-CALDESC:Events for Kentucky Cruises
REFRESH-INTERVAL;VALUE=DURATION:PT1H
X-Robots-Tag:noindex
X-PUBLISHED-TTL:PT1H
BEGIN:VTIMEZONE
TZID:America/Kentucky/Louisville
BEGIN:DAYLIGHT
TZOFFSETFROM:-0500
TZOFFSETTO:-0400
TZNAME:EDT
DTSTART:20220313T070000
END:DAYLIGHT
BEGIN:STANDARD
TZOFFSETFROM:-0400
TZOFFSETTO:-0500
TZNAME:EST
DTSTART:20221106T060000
END:STANDARD
BEGIN:DAYLIGHT
TZOFFSETFROM:-0500
TZOFFSETTO:-0400
TZNAME:EDT
DTSTART:20230312T070000
END:DAYLIGHT
BEGIN:STANDARD
TZOFFSETFROM:-0400
TZOFFSETTO:-0500
TZNAME:EST
DTSTART:20231105T060000
END:STANDARD
END:VTIMEZONE
BEGIN:VEVENT
DTSTART;VALUE=DATE:20230603
DTEND;VALUE=DATE:20230604
DTSTAMP:20260421T064249
CREATED:20230129T071501Z
LAST-MODIFIED:20230129T071501Z
UID:10008710-1685750400-1685836799@kentuckycruises.com
SUMMARY:22nd Annual “Cruisin for the Crusade” car show
DESCRIPTION:Kentuckiana Corvette club is doing the 22nd Annual Cruisin for the WHAS Crusade for Children car show. Indoor food area. Live Auction\, many great items\, fun judging\, Lots of awards. 50/50 drawing. See attached flyer for more information.
URL:https://kentuckycruises.com/event/22nd-annual-cruisin-for-the-crusade-car-show/
LOCATION:Moose Lodge 5\, 4615 Fegenbush Ln\, Louisville\, KY\, 40228\, United States
ATTACH;FMTTYPE=image/jpeg:https://kentuckycruises.com/wp-content/uploads/2023/01/CRUSADE-CAR-SHOW2023-Copy-scaled.jpg
GEO:38.1817539;-85.6370235
X-APPLE-STRUCTURED-LOCATION;VALUE=URI;X-ADDRESS=Moose Lodge 5 4615 Fegenbush Ln Louisville KY 40228 United States;X-APPLE-RADIUS=500;X-TITLE=4615 Fegenbush Ln:geo:-85.6370235,38.1817539
END:VEVENT
BEGIN:VEVENT
DTSTART;TZID=America/Kentucky/Louisville:20230513T090000
DTEND;TZID=America/Kentucky/Louisville:20230513T130000
DTSTAMP:20260421T064249
CREATED:20230326T053133Z
LAST-MODIFIED:20230326T053133Z
UID:10011062-1683968400-1683982800@kentuckycruises.com
SUMMARY:Cruisin' To Cure Cystic Fibrosis Car\, Truck and Bike Show
DESCRIPTION:Come out\, bring your cars and help us raise money to cure cystic fibrosis!\nLive & silent auctions\nFood and drinks (including alcohol) will be for sale!
URL:https://kentuckycruises.com/event/cruisin-to-cure-cystic-fibrosis-car-truck-and-bike-show/
LOCATION:Moose Lodge 5\, 4615 Fegenbush Ln\, Louisville\, KY\, 40228\, United States
ATTACH;FMTTYPE=image/jpeg:https://kentuckycruises.com/wp-content/uploads/2023/03/cruisin_to_cure_23.jpg
GEO:38.1817539;-85.6370235
X-APPLE-STRUCTURED-LOCATION;VALUE=URI;X-ADDRESS=Moose Lodge 5 4615 Fegenbush Ln Louisville KY 40228 United States;X-APPLE-RADIUS=500;X-TITLE=4615 Fegenbush Ln:geo:-85.6370235,38.1817539
END:VEVENT
BEGIN:VEVENT
DTSTART;TZID=America/Kentucky/Louisville:20221015T090000
DTEND;TZID=America/Kentucky/Louisville:20221015T160000
DTSTAMP:20260421T064249
CREATED:20210503T043141Z
LAST-MODIFIED:20220518T031720Z
UID:10009664-1665824400-1665849600@kentuckycruises.com
SUMMARY:Cruisin' To Cure Cystic Fibrosis
DESCRIPTION:Come out\, bring your cars and help us raise money to cure cystic fibrosis!\nFree shirt to the first 100 cars registered.\n$20 to register your car! Free to attend!\nLive & silent auctions\, 50/50 raffle\nFood and drinks (including alcohol) will be for sale!
URL:https://kentuckycruises.com/event/cruisin-to-cure-cystic-fibrosis/
LOCATION:Moose Lodge 5\, 4615 Fegenbush Ln\, Louisville\, KY\, 40228\, United States
ATTACH;FMTTYPE=image/jpeg:https://kentuckycruises.com/wp-content/uploads/2021/05/281845868_2142656512552437_2890961664167709879_n.jpg
GEO:38.1817539;-85.6370235
X-APPLE-STRUCTURED-LOCATION;VALUE=URI;X-ADDRESS=Moose Lodge 5 4615 Fegenbush Ln Louisville KY 40228 United States;X-APPLE-RADIUS=500;X-TITLE=4615 Fegenbush Ln:geo:-85.6370235,38.1817539
END:VEVENT
BEGIN:VEVENT
DTSTART;TZID=America/Kentucky/Louisville:20220604T090000
DTEND;TZID=America/Kentucky/Louisville:20220604T160000
DTSTAMP:20260421T064249
CREATED:20220202T031101Z
LAST-MODIFIED:20220202T031101Z
UID:10008119-1654333200-1654358400@kentuckycruises.com
SUMMARY:21st Cruisin for the Crusade Car show
DESCRIPTION:June 4\, 2022\, Kentuckiana Corvette Club together with Moose Lodge #5 are doing the 21st Cruisin for the Crusade open car show. Show is located at Moose Lodge Number 5\, 4615 Fegenbush Lane\, Louisville\, Kentucky. Many awards\, Fun Judging\, 50/50 drawing\, Indoor Air Conditioned Food area. 9:00 AM to 4:PM\, Registration closes at 1:00 PM. \nAll proceeds go directly to WHAS Crusade for Children.
URL:https://kentuckycruises.com/event/21st-cruisin-for-the-crusade-car-show/
LOCATION:Moose Lodge 5\, 4615 Fegenbush Ln\, Louisville\, KY\, 40228\, United States
ATTACH;FMTTYPE=image/jpeg:https://kentuckycruises.com/wp-content/uploads/2022/01/Crusade-flyer-2022-scaled.jpg
GEO:38.1817539;-85.6370235
X-APPLE-STRUCTURED-LOCATION;VALUE=URI;X-ADDRESS=Moose Lodge 5 4615 Fegenbush Ln Louisville KY 40228 United States;X-APPLE-RADIUS=500;X-TITLE=4615 Fegenbush Ln:geo:-85.6370235,38.1817539
END:VEVENT
END:VCALENDAR