BEGIN:VCALENDAR
VERSION:2.0
PRODID:-//Kentucky Cruises - ECPv6.6.3//NONSGML v1.0//EN
CALSCALE:GREGORIAN
METHOD:PUBLISH
X-WR-CALNAME:Kentucky Cruises
X-ORIGINAL-URL:https://kentuckycruises.com
X-WR-CALDESC:Events for Kentucky Cruises
REFRESH-INTERVAL;VALUE=DURATION:PT1H
X-Robots-Tag:noindex
X-PUBLISHED-TTL:PT1H
BEGIN:VTIMEZONE
TZID:America/Kentucky/Louisville
BEGIN:DAYLIGHT
TZOFFSETFROM:-0500
TZOFFSETTO:-0400
TZNAME:EDT
DTSTART:20220313T070000
END:DAYLIGHT
BEGIN:STANDARD
TZOFFSETFROM:-0400
TZOFFSETTO:-0500
TZNAME:EST
DTSTART:20221106T060000
END:STANDARD
END:VTIMEZONE
BEGIN:VEVENT
DTSTART;TZID=America/Kentucky/Louisville:20220604T090000
DTEND;TZID=America/Kentucky/Louisville:20220604T140000
DTSTAMP:20260419T174109
CREATED:20220411T035758Z
LAST-MODIFIED:20220411T035812Z
UID:10010462-1654333200-1654351200@kentuckycruises.com
SUMMARY:Monroe County Falcon Band Car Show
DESCRIPTION:
URL:https://kentuckycruises.com/event/monroe-county-falcon-band-car-show/
LOCATION:Monroe County High School\, 755 Old Mulkey Rd\, Tompkinsville\, KY\, 42167\, United States
ATTACH;FMTTYPE=image/jpeg:https://kentuckycruises.com/wp-content/uploads/2022/04/278334650_10221618377032083_359830751113281345_n.jpg
GEO:36.692793;-85.7022462
X-APPLE-STRUCTURED-LOCATION;VALUE=URI;X-ADDRESS=Monroe County High School 755 Old Mulkey Rd Tompkinsville KY 42167 United States;X-APPLE-RADIUS=500;X-TITLE=755 Old Mulkey Rd:geo:-85.7022462,36.692793
END:VEVENT
END:VCALENDAR