BEGIN:VCALENDAR
VERSION:2.0
PRODID:-//Kentucky Cruises - ECPv6.6.3//NONSGML v1.0//EN
CALSCALE:GREGORIAN
METHOD:PUBLISH
X-ORIGINAL-URL:https://kentuckycruises.com
X-WR-CALDESC:Events for Kentucky Cruises
REFRESH-INTERVAL;VALUE=DURATION:PT1H
X-Robots-Tag:noindex
X-PUBLISHED-TTL:PT1H
BEGIN:VTIMEZONE
TZID:America/Kentucky/Louisville
BEGIN:DAYLIGHT
TZOFFSETFROM:-0500
TZOFFSETTO:-0400
TZNAME:EDT
DTSTART:20210314T070000
END:DAYLIGHT
BEGIN:STANDARD
TZOFFSETFROM:-0400
TZOFFSETTO:-0500
TZNAME:EST
DTSTART:20211107T060000
END:STANDARD
END:VTIMEZONE
BEGIN:VEVENT
DTSTART;TZID=America/Kentucky/Louisville:20211031T150000
DTEND;TZID=America/Kentucky/Louisville:20211031T210000
DTSTAMP:20260420T183830
CREATED:20210822T231501Z
LAST-MODIFIED:20210822T232035Z
UID:10009992-1635692400-1635714000@kentuckycruises.com
SUMMARY:Cruise In at MG's
DESCRIPTION:CALLING ALL CAR/TRUCK CLUBS IN THE LOUISVILLE and surrounding areas. \nMGS PRIMETIME cafe would like to announce\, Starting this Sunday will be CRUISE INS starting at 3pm Eastern. \nOpen mic Stand up Comedy starts at 4pm inside stage. each Sunday will Feature a Car/Truck CLUB. Bikes and RatRods WELCOME. \nCome see us. and once we get past 20 Cars WE BUST THE LOCKS on a 70\,000 sq Ft blacktop parking lot with a 20’ outdoor Stage. If you have a Car club looking for a great SUNDAY hangout come on out. \n\n\n7017 Global Dr\, Louisville\, KY 40258 \nTurn off of Greenbelt can’t miss us!!! \nSee our Facebook page for updates. https://www.facebook.com/MGsPrimeTimeCafe
URL:https://kentuckycruises.com/event/cruise-in-at-mgs/2021-10-31/
LOCATION:MGs Primetime Cafe\, 7017 Global Dr.\, Louisville\, KY\, 40258\, United States
ATTACH;FMTTYPE=image/jpeg:https://kentuckycruises.com/wp-content/uploads/2021/08/240240508_10219358068053473_3448841051512315165_n.jpg
GEO:38.1406825;-85.8881366
X-APPLE-STRUCTURED-LOCATION;VALUE=URI;X-ADDRESS=MGs Primetime Cafe 7017 Global Dr. Louisville KY 40258 United States;X-APPLE-RADIUS=500;X-TITLE=7017 Global Dr.:geo:-85.8881366,38.1406825
END:VEVENT
BEGIN:VEVENT
DTSTART;TZID=America/Kentucky/Louisville:20211024T150000
DTEND;TZID=America/Kentucky/Louisville:20211024T210000
DTSTAMP:20260420T183830
CREATED:20210822T231501Z
LAST-MODIFIED:20210822T232035Z
UID:10009991-1635087600-1635109200@kentuckycruises.com
SUMMARY:Cruise In at MG's
DESCRIPTION:CALLING ALL CAR/TRUCK CLUBS IN THE LOUISVILLE and surrounding areas. \nMGS PRIMETIME cafe would like to announce\, Starting this Sunday will be CRUISE INS starting at 3pm Eastern. \nOpen mic Stand up Comedy starts at 4pm inside stage. each Sunday will Feature a Car/Truck CLUB. Bikes and RatRods WELCOME. \nCome see us. and once we get past 20 Cars WE BUST THE LOCKS on a 70\,000 sq Ft blacktop parking lot with a 20’ outdoor Stage. If you have a Car club looking for a great SUNDAY hangout come on out. \n\n\n7017 Global Dr\, Louisville\, KY 40258 \nTurn off of Greenbelt can’t miss us!!! \nSee our Facebook page for updates. https://www.facebook.com/MGsPrimeTimeCafe
URL:https://kentuckycruises.com/event/cruise-in-at-mgs/2021-10-24/
LOCATION:MGs Primetime Cafe\, 7017 Global Dr.\, Louisville\, KY\, 40258\, United States
ATTACH;FMTTYPE=image/jpeg:https://kentuckycruises.com/wp-content/uploads/2021/08/240240508_10219358068053473_3448841051512315165_n.jpg
GEO:38.1406825;-85.8881366
X-APPLE-STRUCTURED-LOCATION;VALUE=URI;X-ADDRESS=MGs Primetime Cafe 7017 Global Dr. Louisville KY 40258 United States;X-APPLE-RADIUS=500;X-TITLE=7017 Global Dr.:geo:-85.8881366,38.1406825
END:VEVENT
BEGIN:VEVENT
DTSTART;TZID=America/Kentucky/Louisville:20211017T150000
DTEND;TZID=America/Kentucky/Louisville:20211017T210000
DTSTAMP:20260420T183830
CREATED:20210822T231501Z
LAST-MODIFIED:20210822T232035Z
UID:10009990-1634482800-1634504400@kentuckycruises.com
SUMMARY:Cruise In at MG's
DESCRIPTION:CALLING ALL CAR/TRUCK CLUBS IN THE LOUISVILLE and surrounding areas. \nMGS PRIMETIME cafe would like to announce\, Starting this Sunday will be CRUISE INS starting at 3pm Eastern. \nOpen mic Stand up Comedy starts at 4pm inside stage. each Sunday will Feature a Car/Truck CLUB. Bikes and RatRods WELCOME. \nCome see us. and once we get past 20 Cars WE BUST THE LOCKS on a 70\,000 sq Ft blacktop parking lot with a 20’ outdoor Stage. If you have a Car club looking for a great SUNDAY hangout come on out. \n\n\n7017 Global Dr\, Louisville\, KY 40258 \nTurn off of Greenbelt can’t miss us!!! \nSee our Facebook page for updates. https://www.facebook.com/MGsPrimeTimeCafe
URL:https://kentuckycruises.com/event/cruise-in-at-mgs/2021-10-17/
LOCATION:MGs Primetime Cafe\, 7017 Global Dr.\, Louisville\, KY\, 40258\, United States
ATTACH;FMTTYPE=image/jpeg:https://kentuckycruises.com/wp-content/uploads/2021/08/240240508_10219358068053473_3448841051512315165_n.jpg
GEO:38.1406825;-85.8881366
X-APPLE-STRUCTURED-LOCATION;VALUE=URI;X-ADDRESS=MGs Primetime Cafe 7017 Global Dr. Louisville KY 40258 United States;X-APPLE-RADIUS=500;X-TITLE=7017 Global Dr.:geo:-85.8881366,38.1406825
END:VEVENT
BEGIN:VEVENT
DTSTART;TZID=America/Kentucky/Louisville:20211010T150000
DTEND;TZID=America/Kentucky/Louisville:20211010T210000
DTSTAMP:20260420T183830
CREATED:20210822T231501Z
LAST-MODIFIED:20210822T232035Z
UID:10009989-1633878000-1633899600@kentuckycruises.com
SUMMARY:Cruise In at MG's
DESCRIPTION:CALLING ALL CAR/TRUCK CLUBS IN THE LOUISVILLE and surrounding areas. \nMGS PRIMETIME cafe would like to announce\, Starting this Sunday will be CRUISE INS starting at 3pm Eastern. \nOpen mic Stand up Comedy starts at 4pm inside stage. each Sunday will Feature a Car/Truck CLUB. Bikes and RatRods WELCOME. \nCome see us. and once we get past 20 Cars WE BUST THE LOCKS on a 70\,000 sq Ft blacktop parking lot with a 20’ outdoor Stage. If you have a Car club looking for a great SUNDAY hangout come on out. \n\n\n7017 Global Dr\, Louisville\, KY 40258 \nTurn off of Greenbelt can’t miss us!!! \nSee our Facebook page for updates. https://www.facebook.com/MGsPrimeTimeCafe
URL:https://kentuckycruises.com/event/cruise-in-at-mgs/2021-10-10/
LOCATION:MGs Primetime Cafe\, 7017 Global Dr.\, Louisville\, KY\, 40258\, United States
ATTACH;FMTTYPE=image/jpeg:https://kentuckycruises.com/wp-content/uploads/2021/08/240240508_10219358068053473_3448841051512315165_n.jpg
GEO:38.1406825;-85.8881366
X-APPLE-STRUCTURED-LOCATION;VALUE=URI;X-ADDRESS=MGs Primetime Cafe 7017 Global Dr. Louisville KY 40258 United States;X-APPLE-RADIUS=500;X-TITLE=7017 Global Dr.:geo:-85.8881366,38.1406825
END:VEVENT
BEGIN:VEVENT
DTSTART;TZID=America/Kentucky/Louisville:20211003T150000
DTEND;TZID=America/Kentucky/Louisville:20211003T210000
DTSTAMP:20260420T183830
CREATED:20210822T231501Z
LAST-MODIFIED:20210822T232035Z
UID:10009988-1633273200-1633294800@kentuckycruises.com
SUMMARY:Cruise In at MG's
DESCRIPTION:CALLING ALL CAR/TRUCK CLUBS IN THE LOUISVILLE and surrounding areas. \nMGS PRIMETIME cafe would like to announce\, Starting this Sunday will be CRUISE INS starting at 3pm Eastern. \nOpen mic Stand up Comedy starts at 4pm inside stage. each Sunday will Feature a Car/Truck CLUB. Bikes and RatRods WELCOME. \nCome see us. and once we get past 20 Cars WE BUST THE LOCKS on a 70\,000 sq Ft blacktop parking lot with a 20’ outdoor Stage. If you have a Car club looking for a great SUNDAY hangout come on out. \n\n\n7017 Global Dr\, Louisville\, KY 40258 \nTurn off of Greenbelt can’t miss us!!! \nSee our Facebook page for updates. https://www.facebook.com/MGsPrimeTimeCafe
URL:https://kentuckycruises.com/event/cruise-in-at-mgs/2021-10-03/
LOCATION:MGs Primetime Cafe\, 7017 Global Dr.\, Louisville\, KY\, 40258\, United States
ATTACH;FMTTYPE=image/jpeg:https://kentuckycruises.com/wp-content/uploads/2021/08/240240508_10219358068053473_3448841051512315165_n.jpg
GEO:38.1406825;-85.8881366
X-APPLE-STRUCTURED-LOCATION;VALUE=URI;X-ADDRESS=MGs Primetime Cafe 7017 Global Dr. Louisville KY 40258 United States;X-APPLE-RADIUS=500;X-TITLE=7017 Global Dr.:geo:-85.8881366,38.1406825
END:VEVENT
BEGIN:VEVENT
DTSTART;TZID=America/Kentucky/Louisville:20211002T110000
DTEND;TZID=America/Kentucky/Louisville:20211002T150000
DTSTAMP:20260420T183830
CREATED:20210903T023627Z
LAST-MODIFIED:20210929T011304Z
UID:10008059-1633172400-1633186800@kentuckycruises.com
SUMMARY:Rattober Ratrod Show
DESCRIPTION:https://www.facebook.com/events/3049664401932275/ \nClick below to enlarge for details
URL:https://kentuckycruises.com/event/rattober-ratrod-show/
LOCATION:MGs Primetime Cafe\, 7017 Global Dr.\, Louisville\, KY\, 40258\, United States
ATTACH;FMTTYPE=image/jpeg:https://kentuckycruises.com/wp-content/uploads/2021/09/240992249_4246898475401942_6243245095084751353_n.jpg
GEO:38.1406825;-85.8881366
X-APPLE-STRUCTURED-LOCATION;VALUE=URI;X-ADDRESS=MGs Primetime Cafe 7017 Global Dr. Louisville KY 40258 United States;X-APPLE-RADIUS=500;X-TITLE=7017 Global Dr.:geo:-85.8881366,38.1406825
END:VEVENT
BEGIN:VEVENT
DTSTART;TZID=America/Kentucky/Louisville:20210926T150000
DTEND;TZID=America/Kentucky/Louisville:20210926T210000
DTSTAMP:20260420T183830
CREATED:20210822T231501Z
LAST-MODIFIED:20210822T232035Z
UID:10009987-1632668400-1632690000@kentuckycruises.com
SUMMARY:Cruise In at MG's
DESCRIPTION:CALLING ALL CAR/TRUCK CLUBS IN THE LOUISVILLE and surrounding areas. \nMGS PRIMETIME cafe would like to announce\, Starting this Sunday will be CRUISE INS starting at 3pm Eastern. \nOpen mic Stand up Comedy starts at 4pm inside stage. each Sunday will Feature a Car/Truck CLUB. Bikes and RatRods WELCOME. \nCome see us. and once we get past 20 Cars WE BUST THE LOCKS on a 70\,000 sq Ft blacktop parking lot with a 20’ outdoor Stage. If you have a Car club looking for a great SUNDAY hangout come on out. \n\n\n7017 Global Dr\, Louisville\, KY 40258 \nTurn off of Greenbelt can’t miss us!!! \nSee our Facebook page for updates. https://www.facebook.com/MGsPrimeTimeCafe
URL:https://kentuckycruises.com/event/cruise-in-at-mgs/2021-09-26/
LOCATION:MGs Primetime Cafe\, 7017 Global Dr.\, Louisville\, KY\, 40258\, United States
ATTACH;FMTTYPE=image/jpeg:https://kentuckycruises.com/wp-content/uploads/2021/08/240240508_10219358068053473_3448841051512315165_n.jpg
GEO:38.1406825;-85.8881366
X-APPLE-STRUCTURED-LOCATION;VALUE=URI;X-ADDRESS=MGs Primetime Cafe 7017 Global Dr. Louisville KY 40258 United States;X-APPLE-RADIUS=500;X-TITLE=7017 Global Dr.:geo:-85.8881366,38.1406825
END:VEVENT
BEGIN:VEVENT
DTSTART;TZID=America/Kentucky/Louisville:20210919T150000
DTEND;TZID=America/Kentucky/Louisville:20210919T210000
DTSTAMP:20260420T183830
CREATED:20210822T231501Z
LAST-MODIFIED:20210822T232035Z
UID:10009986-1632063600-1632085200@kentuckycruises.com
SUMMARY:Cruise In at MG's
DESCRIPTION:CALLING ALL CAR/TRUCK CLUBS IN THE LOUISVILLE and surrounding areas. \nMGS PRIMETIME cafe would like to announce\, Starting this Sunday will be CRUISE INS starting at 3pm Eastern. \nOpen mic Stand up Comedy starts at 4pm inside stage. each Sunday will Feature a Car/Truck CLUB. Bikes and RatRods WELCOME. \nCome see us. and once we get past 20 Cars WE BUST THE LOCKS on a 70\,000 sq Ft blacktop parking lot with a 20’ outdoor Stage. If you have a Car club looking for a great SUNDAY hangout come on out. \n\n\n7017 Global Dr\, Louisville\, KY 40258 \nTurn off of Greenbelt can’t miss us!!! \nSee our Facebook page for updates. https://www.facebook.com/MGsPrimeTimeCafe
URL:https://kentuckycruises.com/event/cruise-in-at-mgs/2021-09-19/
LOCATION:MGs Primetime Cafe\, 7017 Global Dr.\, Louisville\, KY\, 40258\, United States
ATTACH;FMTTYPE=image/jpeg:https://kentuckycruises.com/wp-content/uploads/2021/08/240240508_10219358068053473_3448841051512315165_n.jpg
GEO:38.1406825;-85.8881366
X-APPLE-STRUCTURED-LOCATION;VALUE=URI;X-ADDRESS=MGs Primetime Cafe 7017 Global Dr. Louisville KY 40258 United States;X-APPLE-RADIUS=500;X-TITLE=7017 Global Dr.:geo:-85.8881366,38.1406825
END:VEVENT
BEGIN:VEVENT
DTSTART;TZID=America/Kentucky/Louisville:20210912T150000
DTEND;TZID=America/Kentucky/Louisville:20210912T210000
DTSTAMP:20260420T183830
CREATED:20210822T231501Z
LAST-MODIFIED:20210822T232035Z
UID:10009985-1631458800-1631480400@kentuckycruises.com
SUMMARY:Cruise In at MG's
DESCRIPTION:CALLING ALL CAR/TRUCK CLUBS IN THE LOUISVILLE and surrounding areas. \nMGS PRIMETIME cafe would like to announce\, Starting this Sunday will be CRUISE INS starting at 3pm Eastern. \nOpen mic Stand up Comedy starts at 4pm inside stage. each Sunday will Feature a Car/Truck CLUB. Bikes and RatRods WELCOME. \nCome see us. and once we get past 20 Cars WE BUST THE LOCKS on a 70\,000 sq Ft blacktop parking lot with a 20’ outdoor Stage. If you have a Car club looking for a great SUNDAY hangout come on out. \n\n\n7017 Global Dr\, Louisville\, KY 40258 \nTurn off of Greenbelt can’t miss us!!! \nSee our Facebook page for updates. https://www.facebook.com/MGsPrimeTimeCafe
URL:https://kentuckycruises.com/event/cruise-in-at-mgs/2021-09-12/
LOCATION:MGs Primetime Cafe\, 7017 Global Dr.\, Louisville\, KY\, 40258\, United States
ATTACH;FMTTYPE=image/jpeg:https://kentuckycruises.com/wp-content/uploads/2021/08/240240508_10219358068053473_3448841051512315165_n.jpg
GEO:38.1406825;-85.8881366
X-APPLE-STRUCTURED-LOCATION;VALUE=URI;X-ADDRESS=MGs Primetime Cafe 7017 Global Dr. Louisville KY 40258 United States;X-APPLE-RADIUS=500;X-TITLE=7017 Global Dr.:geo:-85.8881366,38.1406825
END:VEVENT
BEGIN:VEVENT
DTSTART;TZID=America/Kentucky/Louisville:20210905T150000
DTEND;TZID=America/Kentucky/Louisville:20210905T210000
DTSTAMP:20260420T183830
CREATED:20210822T231501Z
LAST-MODIFIED:20210822T232035Z
UID:10009984-1630854000-1630875600@kentuckycruises.com
SUMMARY:Cruise In at MG's
DESCRIPTION:CALLING ALL CAR/TRUCK CLUBS IN THE LOUISVILLE and surrounding areas. \nMGS PRIMETIME cafe would like to announce\, Starting this Sunday will be CRUISE INS starting at 3pm Eastern. \nOpen mic Stand up Comedy starts at 4pm inside stage. each Sunday will Feature a Car/Truck CLUB. Bikes and RatRods WELCOME. \nCome see us. and once we get past 20 Cars WE BUST THE LOCKS on a 70\,000 sq Ft blacktop parking lot with a 20’ outdoor Stage. If you have a Car club looking for a great SUNDAY hangout come on out. \n\n\n7017 Global Dr\, Louisville\, KY 40258 \nTurn off of Greenbelt can’t miss us!!! \nSee our Facebook page for updates. https://www.facebook.com/MGsPrimeTimeCafe
URL:https://kentuckycruises.com/event/cruise-in-at-mgs/2021-09-05/
LOCATION:MGs Primetime Cafe\, 7017 Global Dr.\, Louisville\, KY\, 40258\, United States
ATTACH;FMTTYPE=image/jpeg:https://kentuckycruises.com/wp-content/uploads/2021/08/240240508_10219358068053473_3448841051512315165_n.jpg
GEO:38.1406825;-85.8881366
X-APPLE-STRUCTURED-LOCATION;VALUE=URI;X-ADDRESS=MGs Primetime Cafe 7017 Global Dr. Louisville KY 40258 United States;X-APPLE-RADIUS=500;X-TITLE=7017 Global Dr.:geo:-85.8881366,38.1406825
END:VEVENT
BEGIN:VEVENT
DTSTART;TZID=America/Kentucky/Louisville:20210829T150000
DTEND;TZID=America/Kentucky/Louisville:20210829T210000
DTSTAMP:20260420T183830
CREATED:20210822T231501Z
LAST-MODIFIED:20210822T232035Z
UID:10009983-1630249200-1630270800@kentuckycruises.com
SUMMARY:Cruise In at MG's
DESCRIPTION:CALLING ALL CAR/TRUCK CLUBS IN THE LOUISVILLE and surrounding areas. \nMGS PRIMETIME cafe would like to announce\, Starting this Sunday will be CRUISE INS starting at 3pm Eastern. \nOpen mic Stand up Comedy starts at 4pm inside stage. each Sunday will Feature a Car/Truck CLUB. Bikes and RatRods WELCOME. \nCome see us. and once we get past 20 Cars WE BUST THE LOCKS on a 70\,000 sq Ft blacktop parking lot with a 20’ outdoor Stage. If you have a Car club looking for a great SUNDAY hangout come on out. \n\n\n7017 Global Dr\, Louisville\, KY 40258 \nTurn off of Greenbelt can’t miss us!!! \nSee our Facebook page for updates. https://www.facebook.com/MGsPrimeTimeCafe
URL:https://kentuckycruises.com/event/cruise-in-at-mgs/2021-08-29/
LOCATION:MGs Primetime Cafe\, 7017 Global Dr.\, Louisville\, KY\, 40258\, United States
ATTACH;FMTTYPE=image/jpeg:https://kentuckycruises.com/wp-content/uploads/2021/08/240240508_10219358068053473_3448841051512315165_n.jpg
GEO:38.1406825;-85.8881366
X-APPLE-STRUCTURED-LOCATION;VALUE=URI;X-ADDRESS=MGs Primetime Cafe 7017 Global Dr. Louisville KY 40258 United States;X-APPLE-RADIUS=500;X-TITLE=7017 Global Dr.:geo:-85.8881366,38.1406825
END:VEVENT
END:VCALENDAR