BEGIN:VCALENDAR
VERSION:2.0
PRODID:-//Kentucky Cruises - ECPv6.6.3//NONSGML v1.0//EN
CALSCALE:GREGORIAN
METHOD:PUBLISH
X-WR-CALNAME:Kentucky Cruises
X-ORIGINAL-URL:https://kentuckycruises.com
X-WR-CALDESC:Events for Kentucky Cruises
REFRESH-INTERVAL;VALUE=DURATION:PT1H
X-Robots-Tag:noindex
X-PUBLISHED-TTL:PT1H
BEGIN:VTIMEZONE
TZID:America/Kentucky/Louisville
BEGIN:DAYLIGHT
TZOFFSETFROM:-0500
TZOFFSETTO:-0400
TZNAME:EDT
DTSTART:20220313T070000
END:DAYLIGHT
BEGIN:STANDARD
TZOFFSETFROM:-0400
TZOFFSETTO:-0500
TZNAME:EST
DTSTART:20221106T060000
END:STANDARD
END:VTIMEZONE
BEGIN:VEVENT
DTSTART;TZID=America/Kentucky/Louisville:20220611T110000
DTEND;TZID=America/Kentucky/Louisville:20220611T150000
DTSTAMP:20260425T150153
CREATED:20220427T030608Z
LAST-MODIFIED:20220427T030608Z
UID:10008503-1654945200-1654959600@kentuckycruises.com
SUMMARY:Meadowgreen Appalachian Music Park Car Show/Cruise In
DESCRIPTION:
URL:https://kentuckycruises.com/event/meadowgreen-appalachian-music-park-car-show-cruise-in/
LOCATION:Meadowgreen Appalachian Music Park\, 313 Forge Mill Rd\,\, Clay City\, KY\, 40312\, United States
ATTACH;FMTTYPE=image/jpeg:https://kentuckycruises.com/wp-content/uploads/2022/04/278941461_7722152197796694_5809394825184910446_n.jpg
GEO:37.8494858;-83.9446757
X-APPLE-STRUCTURED-LOCATION;VALUE=URI;X-ADDRESS=Meadowgreen Appalachian Music Park 313 Forge Mill Rd Clay City KY 40312 United States;X-APPLE-RADIUS=500;X-TITLE=313 Forge Mill Rd\,:geo:-83.9446757,37.8494858
END:VEVENT
END:VCALENDAR