BEGIN:VCALENDAR
VERSION:2.0
PRODID:-//Kentucky Cruises - ECPv6.6.3//NONSGML v1.0//EN
CALSCALE:GREGORIAN
METHOD:PUBLISH
X-WR-CALNAME:Kentucky Cruises
X-ORIGINAL-URL:https://kentuckycruises.com
X-WR-CALDESC:Events for Kentucky Cruises
REFRESH-INTERVAL;VALUE=DURATION:PT1H
X-Robots-Tag:noindex
X-PUBLISHED-TTL:PT1H
BEGIN:VTIMEZONE
TZID:America/Kentucky/Louisville
BEGIN:DAYLIGHT
TZOFFSETFROM:-0500
TZOFFSETTO:-0400
TZNAME:EDT
DTSTART:20210314T070000
END:DAYLIGHT
BEGIN:STANDARD
TZOFFSETFROM:-0400
TZOFFSETTO:-0500
TZNAME:EST
DTSTART:20211107T060000
END:STANDARD
END:VTIMEZONE
BEGIN:VEVENT
DTSTART;TZID=America/Kentucky/Louisville:20211002T113000
DTEND;TZID=America/Kentucky/Louisville:20211002T170000
DTSTAMP:20260425T145905
CREATED:20210926T030316Z
LAST-MODIFIED:20210926T030434Z
UID:10010070-1633174200-1633194000@kentuckycruises.com
SUMMARY:McCreary County Airport Takeover and Parade of Cars!
DESCRIPTION:Meeting at McCreary Central High School \n\nhttps://www.facebook.com/events/243118277666195
URL:https://kentuckycruises.com/event/mccreary-county-airport-takeover-and-parade-of-cars/
LOCATION:McCreary Central High School\, 400 Raider Way Rd\, Stearns\, KY\, 42647\, United States
ATTACH;FMTTYPE=image/jpeg:https://kentuckycruises.com/wp-content/uploads/2021/09/242904735_419616809591808_1287324915292032752_n.jpg
GEO:36.7092205;-84.4649827
X-APPLE-STRUCTURED-LOCATION;VALUE=URI;X-ADDRESS=McCreary Central High School 400 Raider Way Rd Stearns KY 42647 United States;X-APPLE-RADIUS=500;X-TITLE=400 Raider Way Rd:geo:-84.4649827,36.7092205
END:VEVENT
END:VCALENDAR