BEGIN:VCALENDAR
VERSION:2.0
PRODID:-//Kentucky Cruises - ECPv6.6.3//NONSGML v1.0//EN
CALSCALE:GREGORIAN
METHOD:PUBLISH
X-ORIGINAL-URL:https://kentuckycruises.com
X-WR-CALDESC:Events for Kentucky Cruises
REFRESH-INTERVAL;VALUE=DURATION:PT1H
X-Robots-Tag:noindex
X-PUBLISHED-TTL:PT1H
BEGIN:VTIMEZONE
TZID:America/Kentucky/Louisville
BEGIN:DAYLIGHT
TZOFFSETFROM:-0500
TZOFFSETTO:-0400
TZNAME:EDT
DTSTART:20220313T070000
END:DAYLIGHT
BEGIN:STANDARD
TZOFFSETFROM:-0400
TZOFFSETTO:-0500
TZNAME:EST
DTSTART:20221106T060000
END:STANDARD
END:VTIMEZONE
BEGIN:VEVENT
DTSTART;TZID=America/Kentucky/Louisville:20220514T100000
DTEND;TZID=America/Kentucky/Louisville:20220514T160000
DTSTAMP:20260423T010926
CREATED:20220403T004043Z
LAST-MODIFIED:20220403T004043Z
UID:10010479-1652522400-1652544000@kentuckycruises.com
SUMMARY:Indians Auto Show
DESCRIPTION:
URL:https://kentuckycruises.com/event/indians-auto-show/
LOCATION:Madison Central Health Building\, 705 N 2nd St\,\, Richmond\, KY\, 40475\, United States
ATTACH;FMTTYPE=image/jpeg:https://kentuckycruises.com/wp-content/uploads/2022/04/277308220_5664083103618916_8259231195796016866_n.jpg
GEO:37.7548453;-84.2877861
X-APPLE-STRUCTURED-LOCATION;VALUE=URI;X-ADDRESS=Madison Central Health Building 705 N 2nd St Richmond KY 40475 United States;X-APPLE-RADIUS=500;X-TITLE=705 N 2nd St\,:geo:-84.2877861,37.7548453
END:VEVENT
END:VCALENDAR