BEGIN:VCALENDAR
VERSION:2.0
PRODID:-//Kentucky Cruises - ECPv6.6.3//NONSGML v1.0//EN
CALSCALE:GREGORIAN
METHOD:PUBLISH
X-WR-CALNAME:Kentucky Cruises
X-ORIGINAL-URL:https://kentuckycruises.com
X-WR-CALDESC:Events for Kentucky Cruises
REFRESH-INTERVAL;VALUE=DURATION:PT1H
X-Robots-Tag:noindex
X-PUBLISHED-TTL:PT1H
BEGIN:VTIMEZONE
TZID:America/Kentucky/Louisville
BEGIN:DAYLIGHT
TZOFFSETFROM:-0500
TZOFFSETTO:-0400
TZNAME:EDT
DTSTART:20210314T070000
END:DAYLIGHT
BEGIN:STANDARD
TZOFFSETFROM:-0400
TZOFFSETTO:-0500
TZNAME:EST
DTSTART:20211107T060000
END:STANDARD
BEGIN:DAYLIGHT
TZOFFSETFROM:-0500
TZOFFSETTO:-0400
TZNAME:EDT
DTSTART:20220313T070000
END:DAYLIGHT
BEGIN:STANDARD
TZOFFSETFROM:-0400
TZOFFSETTO:-0500
TZNAME:EST
DTSTART:20221106T060000
END:STANDARD
BEGIN:DAYLIGHT
TZOFFSETFROM:-0500
TZOFFSETTO:-0400
TZNAME:EDT
DTSTART:20230312T070000
END:DAYLIGHT
BEGIN:STANDARD
TZOFFSETFROM:-0400
TZOFFSETTO:-0500
TZNAME:EST
DTSTART:20231105T060000
END:STANDARD
END:VTIMEZONE
BEGIN:VEVENT
DTSTART;TZID=America/Kentucky/Louisville:20230916T100000
DTEND;TZID=America/Kentucky/Louisville:20230916T170000
DTSTAMP:20260425T183448
CREATED:20230520T042950Z
LAST-MODIFIED:20230520T042950Z
UID:10008913-1694858400-1694883600@kentuckycruises.com
SUMMARY:Pee Wee Car Show
DESCRIPTION:
URL:https://kentuckycruises.com/event/pee-wee-car-show/
LOCATION:M & H Tent Rentals\, 25 Twin Eagles Ln\, Lebanon\, KY\, 40033\, United States
ATTACH;FMTTYPE=image/jpeg:https://kentuckycruises.com/wp-content/uploads/2023/04/50607633333_304a78f38f_o.jpg
GEO:37.5370615;-85.3050989
X-APPLE-STRUCTURED-LOCATION;VALUE=URI;X-ADDRESS=M & H Tent Rentals 25 Twin Eagles Ln Lebanon KY 40033 United States;X-APPLE-RADIUS=500;X-TITLE=25 Twin Eagles Ln:geo:-85.3050989,37.5370615
END:VEVENT
BEGIN:VEVENT
DTSTART;TZID=America/Kentucky/Louisville:20210918T100000
DTEND;TZID=America/Kentucky/Louisville:20210918T170000
DTSTAMP:20260425T183448
CREATED:20210715T003941Z
LAST-MODIFIED:20210715T004020Z
UID:10007931-1631959200-1631984400@kentuckycruises.com
SUMMARY:Pee Wee Memorial Cruise In
DESCRIPTION:5th Annual \n$10 Entry \nSept. 18\n10AM – 5PM \nClick below to enlarge for details
URL:https://kentuckycruises.com/event/pee-wee-memorial-cruise-in/
LOCATION:M & H Tent Rentals\, 25 Twin Eagles Ln\, Lebanon\, KY\, 40033\, United States
ATTACH;FMTTYPE=image/jpeg:https://kentuckycruises.com/wp-content/uploads/2021/07/213628548_2971241299798336_8289056937363675491_n.jpg
GEO:37.5370615;-85.3050989
X-APPLE-STRUCTURED-LOCATION;VALUE=URI;X-ADDRESS=M & H Tent Rentals 25 Twin Eagles Ln Lebanon KY 40033 United States;X-APPLE-RADIUS=500;X-TITLE=25 Twin Eagles Ln:geo:-85.3050989,37.5370615
END:VEVENT
END:VCALENDAR