BEGIN:VCALENDAR
VERSION:2.0
PRODID:-//Kentucky Cruises - ECPv6.6.3//NONSGML v1.0//EN
CALSCALE:GREGORIAN
METHOD:PUBLISH
X-ORIGINAL-URL:https://kentuckycruises.com
X-WR-CALDESC:Events for Kentucky Cruises
REFRESH-INTERVAL;VALUE=DURATION:PT1H
X-Robots-Tag:noindex
X-PUBLISHED-TTL:PT1H
BEGIN:VTIMEZONE
TZID:America/Kentucky/Louisville
BEGIN:DAYLIGHT
TZOFFSETFROM:-0500
TZOFFSETTO:-0400
TZNAME:EDT
DTSTART:20210314T070000
END:DAYLIGHT
BEGIN:STANDARD
TZOFFSETFROM:-0400
TZOFFSETTO:-0500
TZNAME:EST
DTSTART:20211107T060000
END:STANDARD
END:VTIMEZONE
BEGIN:VEVENT
DTSTART;TZID=America/Kentucky/Louisville:20211002T090000
DTEND;TZID=America/Kentucky/Louisville:20211002T133000
DTSTAMP:20260424T103653
CREATED:20210831T214305Z
LAST-MODIFIED:20210917T223456Z
UID:10010019-1633165200-1633181400@kentuckycruises.com
SUMMARY:DSL Kindness Warrior Car Show
DESCRIPTION:Register your cool vehicle for a $21 donation to any walking Team (please select your Team within the link below) after donation is made please contact Bobbi Finch w/ shirt size. \nAll registered vehicles will receive a T-shirt & dash plaque while helping DSL \nPlease register as soon as possible to make sure we get your correct shirt size. \nDSL Kindness warrior Car show\nOctober 2nd\n9 -1\nLouisville waterfront\nVehicle will come in through the Joe’s Crab Shack parking lot.\nVehicle registration is a $21 donation to your favorite Walk Team. Entries will receive a DSL kindness warrior walk t-shirt & Dash plaque. All money will go to DSL.\nPick your favorite Team and come out and support DSL and have a fun filled day.\nwww.kwwalk.org\nPre registrations only by 9-25-21\nsorry no registrations day of show.\nPlease contact me with your shirt sizes\nhttps://www.facebook.com/events/366679028365815/ \nClick below to enlarge for details
URL:https://kentuckycruises.com/event/dsl-kindness-warrior-car-show/
LOCATION:Louisville Waterfront\, 131 River Rd\, Louisville\, KY\, 40202\, United States
ATTACH;FMTTYPE=image/jpeg:https://kentuckycruises.com/wp-content/uploads/2021/08/georgetown_lions_21xx.jpg
GEO:38.2596372;-85.7500628
X-APPLE-STRUCTURED-LOCATION;VALUE=URI;X-ADDRESS=Louisville Waterfront 131 River Rd Louisville KY 40202 United States;X-APPLE-RADIUS=500;X-TITLE=131 River Rd:geo:-85.7500628,38.2596372
END:VEVENT
END:VCALENDAR