BEGIN:VCALENDAR
VERSION:2.0
PRODID:-//Kentucky Cruises - ECPv6.6.3//NONSGML v1.0//EN
CALSCALE:GREGORIAN
METHOD:PUBLISH
X-WR-CALNAME:Kentucky Cruises
X-ORIGINAL-URL:https://kentuckycruises.com
X-WR-CALDESC:Events for Kentucky Cruises
REFRESH-INTERVAL;VALUE=DURATION:PT1H
X-Robots-Tag:noindex
X-PUBLISHED-TTL:PT1H
BEGIN:VTIMEZONE
TZID:America/Kentucky/Louisville
BEGIN:DAYLIGHT
TZOFFSETFROM:-0500
TZOFFSETTO:-0400
TZNAME:EDT
DTSTART:20210314T070000
END:DAYLIGHT
BEGIN:STANDARD
TZOFFSETFROM:-0400
TZOFFSETTO:-0500
TZNAME:EST
DTSTART:20211107T060000
END:STANDARD
END:VTIMEZONE
BEGIN:VEVENT
DTSTART;TZID=America/Kentucky/Louisville:20210917T070000
DTEND;TZID=America/Kentucky/Louisville:20210918T170000
DTSTAMP:20260421T103300
CREATED:20210915T191232Z
LAST-MODIFIED:20210915T191336Z
UID:10008080-1631862000-1631984400@kentuckycruises.com
SUMMARY:Hoosier Vintage Wheels Swap Meet & Show
DESCRIPTION:The event will feature used and new car parts and memorabilia from more than 500 vendors and an open car show. \nThere will also be a cruise-in on September 17. \nhttps://www.facebook.com/Hoosier-Vintage-Wheels-Swap-Meet-Show-1425441794431260/
URL:https://kentuckycruises.com/event/hoosier-vintage-wheels-swap-meet-show/
LOCATION:Johnson County  Fairgrounds\, 250 Fairground St\, Franklin\, IN\, 46131\, United States
ATTACH;FMTTYPE=image/jpeg:https://kentuckycruises.com/wp-content/uploads/2021/09/18620392_1655313751444062_4973172753147510712_n.jpg
GEO:39.482812;-86.0679148
X-APPLE-STRUCTURED-LOCATION;VALUE=URI;X-ADDRESS=Johnson County  Fairgrounds 250 Fairground St Franklin IN 46131 United States;X-APPLE-RADIUS=500;X-TITLE=250 Fairground St:geo:-86.0679148,39.482812
END:VEVENT
END:VCALENDAR