BEGIN:VCALENDAR
VERSION:2.0
PRODID:-//Kentucky Cruises - ECPv6.6.3//NONSGML v1.0//EN
CALSCALE:GREGORIAN
METHOD:PUBLISH
X-ORIGINAL-URL:https://kentuckycruises.com
X-WR-CALDESC:Events for Kentucky Cruises
REFRESH-INTERVAL;VALUE=DURATION:PT1H
X-Robots-Tag:noindex
X-PUBLISHED-TTL:PT1H
BEGIN:VTIMEZONE
TZID:America/Kentucky/Louisville
BEGIN:DAYLIGHT
TZOFFSETFROM:-0500
TZOFFSETTO:-0400
TZNAME:EDT
DTSTART:20210314T070000
END:DAYLIGHT
BEGIN:STANDARD
TZOFFSETFROM:-0400
TZOFFSETTO:-0500
TZNAME:EST
DTSTART:20211107T060000
END:STANDARD
BEGIN:DAYLIGHT
TZOFFSETFROM:-0500
TZOFFSETTO:-0400
TZNAME:EDT
DTSTART:20220313T070000
END:DAYLIGHT
BEGIN:STANDARD
TZOFFSETFROM:-0400
TZOFFSETTO:-0500
TZNAME:EST
DTSTART:20221106T060000
END:STANDARD
BEGIN:DAYLIGHT
TZOFFSETFROM:-0500
TZOFFSETTO:-0400
TZNAME:EDT
DTSTART:20230312T070000
END:DAYLIGHT
BEGIN:STANDARD
TZOFFSETFROM:-0400
TZOFFSETTO:-0500
TZNAME:EST
DTSTART:20231105T060000
END:STANDARD
END:VTIMEZONE
BEGIN:VEVENT
DTSTART;TZID=America/Kentucky/Louisville:20230610T080000
DTEND;TZID=America/Kentucky/Louisville:20230610T150000
DTSTAMP:20260419T192548
CREATED:20230513T023321Z
LAST-MODIFIED:20230513T023321Z
UID:10011248-1686384000-1686409200@kentuckycruises.com
SUMMARY:Love Doesn’t Count Chromosomes Car Show
DESCRIPTION:
URL:https://kentuckycruises.com/event/love-doesnt-count-chromosomes-car-show/
LOCATION:Jim Butner Auto Group\, 125 Lewis and Clark Pkwy W\, Clarksville\, IN\, 47129\, United States
ATTACH;FMTTYPE=image/jpeg:https://kentuckycruises.com/wp-content/uploads/2023/05/273992402_479252710361633_5435720673843696575_n.jpg
GEO:38.3071036;-85.7754478
X-APPLE-STRUCTURED-LOCATION;VALUE=URI;X-ADDRESS=Jim Butner Auto Group 125 Lewis and Clark Pkwy W Clarksville IN 47129 United States;X-APPLE-RADIUS=500;X-TITLE=125 Lewis and Clark Pkwy W:geo:-85.7754478,38.3071036
END:VEVENT
BEGIN:VEVENT
DTSTART;TZID=America/Kentucky/Louisville:20221001T180000
DTEND;TZID=America/Kentucky/Louisville:20221001T210000
DTSTAMP:20260419T192548
CREATED:20210428T214348Z
LAST-MODIFIED:20220211T033643Z
UID:10009446-1664647200-1664658000@kentuckycruises.com
SUMMARY:Butner Cruise In Night
DESCRIPTION:First Saturday of each month thru November \n6-9PM \nOpen to all makes and models.  Cars\,  Motorcycles and Trucks. \nStock\, Custom\, or Work in Progress. \nCome on out and hang out with some old and new friends. \nEmail any questions to teamlevidsl@outlook.com or on Facebook David Rainwater Jr. or Down Syndrome Car Show on Facebook. \nThank you and hope to see you there! \n 
URL:https://kentuckycruises.com/event/butner-cruise-in-night/2022-10-01/
LOCATION:Jim Butner Auto Group\, 125 Lewis and Clark Pkwy W\, Clarksville\, IN\, 47129\, United States
ATTACH;FMTTYPE=image/jpeg:https://kentuckycruises.com/wp-content/uploads/2021/08/71278866_391565371540114_4941703179373903872_n-1.jpg
GEO:38.3071036;-85.7754478
X-APPLE-STRUCTURED-LOCATION;VALUE=URI;X-ADDRESS=Jim Butner Auto Group 125 Lewis and Clark Pkwy W Clarksville IN 47129 United States;X-APPLE-RADIUS=500;X-TITLE=125 Lewis and Clark Pkwy W:geo:-85.7754478,38.3071036
END:VEVENT
BEGIN:VEVENT
DTSTART;TZID=America/Kentucky/Louisville:20220903T180000
DTEND;TZID=America/Kentucky/Louisville:20220903T210000
DTSTAMP:20260419T192548
CREATED:20210428T214348Z
LAST-MODIFIED:20220211T033643Z
UID:10009445-1662228000-1662238800@kentuckycruises.com
SUMMARY:Butner Cruise In Night
DESCRIPTION:First Saturday of each month thru November \n6-9PM \nOpen to all makes and models.  Cars\,  Motorcycles and Trucks. \nStock\, Custom\, or Work in Progress. \nCome on out and hang out with some old and new friends. \nEmail any questions to teamlevidsl@outlook.com or on Facebook David Rainwater Jr. or Down Syndrome Car Show on Facebook. \nThank you and hope to see you there! \n 
URL:https://kentuckycruises.com/event/butner-cruise-in-night/2022-09-03/
LOCATION:Jim Butner Auto Group\, 125 Lewis and Clark Pkwy W\, Clarksville\, IN\, 47129\, United States
ATTACH;FMTTYPE=image/jpeg:https://kentuckycruises.com/wp-content/uploads/2021/08/71278866_391565371540114_4941703179373903872_n-1.jpg
GEO:38.3071036;-85.7754478
X-APPLE-STRUCTURED-LOCATION;VALUE=URI;X-ADDRESS=Jim Butner Auto Group 125 Lewis and Clark Pkwy W Clarksville IN 47129 United States;X-APPLE-RADIUS=500;X-TITLE=125 Lewis and Clark Pkwy W:geo:-85.7754478,38.3071036
END:VEVENT
BEGIN:VEVENT
DTSTART;TZID=America/Kentucky/Louisville:20220806T180000
DTEND;TZID=America/Kentucky/Louisville:20220806T210000
DTSTAMP:20260419T192548
CREATED:20210428T214348Z
LAST-MODIFIED:20220211T033643Z
UID:10009444-1659808800-1659819600@kentuckycruises.com
SUMMARY:Butner Cruise In Night
DESCRIPTION:First Saturday of each month thru November \n6-9PM \nOpen to all makes and models.  Cars\,  Motorcycles and Trucks. \nStock\, Custom\, or Work in Progress. \nCome on out and hang out with some old and new friends. \nEmail any questions to teamlevidsl@outlook.com or on Facebook David Rainwater Jr. or Down Syndrome Car Show on Facebook. \nThank you and hope to see you there! \n 
URL:https://kentuckycruises.com/event/butner-cruise-in-night/2022-08-06/
LOCATION:Jim Butner Auto Group\, 125 Lewis and Clark Pkwy W\, Clarksville\, IN\, 47129\, United States
ATTACH;FMTTYPE=image/jpeg:https://kentuckycruises.com/wp-content/uploads/2021/08/71278866_391565371540114_4941703179373903872_n-1.jpg
GEO:38.3071036;-85.7754478
X-APPLE-STRUCTURED-LOCATION;VALUE=URI;X-ADDRESS=Jim Butner Auto Group 125 Lewis and Clark Pkwy W Clarksville IN 47129 United States;X-APPLE-RADIUS=500;X-TITLE=125 Lewis and Clark Pkwy W:geo:-85.7754478,38.3071036
END:VEVENT
BEGIN:VEVENT
DTSTART;TZID=America/Kentucky/Louisville:20220702T180000
DTEND;TZID=America/Kentucky/Louisville:20220702T210000
DTSTAMP:20260419T192548
CREATED:20210428T214348Z
LAST-MODIFIED:20220211T033643Z
UID:10009443-1656784800-1656795600@kentuckycruises.com
SUMMARY:Butner Cruise In Night
DESCRIPTION:First Saturday of each month thru November \n6-9PM \nOpen to all makes and models.  Cars\,  Motorcycles and Trucks. \nStock\, Custom\, or Work in Progress. \nCome on out and hang out with some old and new friends. \nEmail any questions to teamlevidsl@outlook.com or on Facebook David Rainwater Jr. or Down Syndrome Car Show on Facebook. \nThank you and hope to see you there! \n 
URL:https://kentuckycruises.com/event/butner-cruise-in-night/2022-07-02/
LOCATION:Jim Butner Auto Group\, 125 Lewis and Clark Pkwy W\, Clarksville\, IN\, 47129\, United States
ATTACH;FMTTYPE=image/jpeg:https://kentuckycruises.com/wp-content/uploads/2021/08/71278866_391565371540114_4941703179373903872_n-1.jpg
GEO:38.3071036;-85.7754478
X-APPLE-STRUCTURED-LOCATION;VALUE=URI;X-ADDRESS=Jim Butner Auto Group 125 Lewis and Clark Pkwy W Clarksville IN 47129 United States;X-APPLE-RADIUS=500;X-TITLE=125 Lewis and Clark Pkwy W:geo:-85.7754478,38.3071036
END:VEVENT
BEGIN:VEVENT
DTSTART;TZID=America/Kentucky/Louisville:20220604T180000
DTEND;TZID=America/Kentucky/Louisville:20220604T210000
DTSTAMP:20260419T192548
CREATED:20210428T214348Z
LAST-MODIFIED:20220211T033643Z
UID:10009442-1654365600-1654376400@kentuckycruises.com
SUMMARY:Butner Cruise In Night
DESCRIPTION:First Saturday of each month thru November \n6-9PM \nOpen to all makes and models.  Cars\,  Motorcycles and Trucks. \nStock\, Custom\, or Work in Progress. \nCome on out and hang out with some old and new friends. \nEmail any questions to teamlevidsl@outlook.com or on Facebook David Rainwater Jr. or Down Syndrome Car Show on Facebook. \nThank you and hope to see you there! \n 
URL:https://kentuckycruises.com/event/butner-cruise-in-night/2022-06-04/
LOCATION:Jim Butner Auto Group\, 125 Lewis and Clark Pkwy W\, Clarksville\, IN\, 47129\, United States
ATTACH;FMTTYPE=image/jpeg:https://kentuckycruises.com/wp-content/uploads/2021/08/71278866_391565371540114_4941703179373903872_n-1.jpg
GEO:38.3071036;-85.7754478
X-APPLE-STRUCTURED-LOCATION;VALUE=URI;X-ADDRESS=Jim Butner Auto Group 125 Lewis and Clark Pkwy W Clarksville IN 47129 United States;X-APPLE-RADIUS=500;X-TITLE=125 Lewis and Clark Pkwy W:geo:-85.7754478,38.3071036
END:VEVENT
BEGIN:VEVENT
DTSTART;TZID=America/Kentucky/Louisville:20220528T080000
DTEND;TZID=America/Kentucky/Louisville:20220528T170000
DTSTAMP:20260419T192548
CREATED:20220211T033329Z
LAST-MODIFIED:20220506T220458Z
UID:10008148-1653724800-1653757200@kentuckycruises.com
SUMMARY:Love Doesn’t Count Chromosomes Car Show
DESCRIPTION:4 Classes \, 2 Best of Show Classes \, Team Levi Award \, DSL Award \, Best Engine\, Interior & Paint \, Club Participation cars \, Trucks and Motorcycles . \nHot Wheels Drag Racing ( free Hot Wheels for the kids while supplies last ) power wheels \, custom wagons and Bicycles Welcome ( if we get 3 registered we will have trophies for those classes $10 registration. \nAlso Tot Rods a vehicle made out of cardboard or other material a child could wear . We try to make our events fun for the kids as well . \nAnd this year a swap meet a 10×20 space ( car length ) $25 must be automotive related Vehicles \, parts \, collectibles \, model car kits \, resins \, Hot Wheels ( diecast ) \, slot cars \, signs or home made automotive items . \nRoom is limited please contact myself or come out Saturday May 7th to Jim Butner Auto Group Cruise night to register for your space .  No YARD SALE ITEMS follow Team Levi on Facebook for more information \nhttps://www.facebook.com/events/300565082164982 \nJim Butner Auto Group\n125 W Lewis and Clark Pkwy\nClarksville\, IN 47129 \n \n \n 
URL:https://kentuckycruises.com/event/3rd-annual-love-doesnt-count-chromosomes-car-show/
LOCATION:Jim Butner Auto Group\, 125 Lewis and Clark Pkwy W\, Clarksville\, IN\, 47129\, United States
ATTACH;FMTTYPE=image/jpeg:https://kentuckycruises.com/wp-content/uploads/2022/02/273992402_479252710361633_5435720673843696575_n.jpg
GEO:38.3071036;-85.7754478
X-APPLE-STRUCTURED-LOCATION;VALUE=URI;X-ADDRESS=Jim Butner Auto Group 125 Lewis and Clark Pkwy W Clarksville IN 47129 United States;X-APPLE-RADIUS=500;X-TITLE=125 Lewis and Clark Pkwy W:geo:-85.7754478,38.3071036
END:VEVENT
BEGIN:VEVENT
DTSTART;TZID=America/Kentucky/Louisville:20220507T180000
DTEND;TZID=America/Kentucky/Louisville:20220507T210000
DTSTAMP:20260419T192548
CREATED:20210428T214348Z
LAST-MODIFIED:20220211T033643Z
UID:10009441-1651946400-1651957200@kentuckycruises.com
SUMMARY:Butner Cruise In Night
DESCRIPTION:First Saturday of each month thru November \n6-9PM \nOpen to all makes and models.  Cars\,  Motorcycles and Trucks. \nStock\, Custom\, or Work in Progress. \nCome on out and hang out with some old and new friends. \nEmail any questions to teamlevidsl@outlook.com or on Facebook David Rainwater Jr. or Down Syndrome Car Show on Facebook. \nThank you and hope to see you there! \n 
URL:https://kentuckycruises.com/event/butner-cruise-in-night/2022-05-07/
LOCATION:Jim Butner Auto Group\, 125 Lewis and Clark Pkwy W\, Clarksville\, IN\, 47129\, United States
ATTACH;FMTTYPE=image/jpeg:https://kentuckycruises.com/wp-content/uploads/2021/08/71278866_391565371540114_4941703179373903872_n-1.jpg
GEO:38.3071036;-85.7754478
X-APPLE-STRUCTURED-LOCATION;VALUE=URI;X-ADDRESS=Jim Butner Auto Group 125 Lewis and Clark Pkwy W Clarksville IN 47129 United States;X-APPLE-RADIUS=500;X-TITLE=125 Lewis and Clark Pkwy W:geo:-85.7754478,38.3071036
END:VEVENT
BEGIN:VEVENT
DTSTART;TZID=America/Kentucky/Louisville:20220402T180000
DTEND;TZID=America/Kentucky/Louisville:20220402T210000
DTSTAMP:20260419T192548
CREATED:20210428T214348Z
LAST-MODIFIED:20220211T033643Z
UID:10009440-1648922400-1648933200@kentuckycruises.com
SUMMARY:Butner Cruise In Night
DESCRIPTION:First Saturday of each month thru November \n6-9PM \nOpen to all makes and models.  Cars\,  Motorcycles and Trucks. \nStock\, Custom\, or Work in Progress. \nCome on out and hang out with some old and new friends. \nEmail any questions to teamlevidsl@outlook.com or on Facebook David Rainwater Jr. or Down Syndrome Car Show on Facebook. \nThank you and hope to see you there! \n 
URL:https://kentuckycruises.com/event/butner-cruise-in-night/2022-04-02/
LOCATION:Jim Butner Auto Group\, 125 Lewis and Clark Pkwy W\, Clarksville\, IN\, 47129\, United States
ATTACH;FMTTYPE=image/jpeg:https://kentuckycruises.com/wp-content/uploads/2021/08/71278866_391565371540114_4941703179373903872_n-1.jpg
GEO:38.3071036;-85.7754478
X-APPLE-STRUCTURED-LOCATION;VALUE=URI;X-ADDRESS=Jim Butner Auto Group 125 Lewis and Clark Pkwy W Clarksville IN 47129 United States;X-APPLE-RADIUS=500;X-TITLE=125 Lewis and Clark Pkwy W:geo:-85.7754478,38.3071036
END:VEVENT
BEGIN:VEVENT
DTSTART;TZID=America/Kentucky/Louisville:20211023T180000
DTEND;TZID=America/Kentucky/Louisville:20211023T210000
DTSTAMP:20260419T192548
CREATED:20210917T224720Z
LAST-MODIFIED:20210917T225042Z
UID:10008084-1635012000-1635022800@kentuckycruises.com
SUMMARY:Jim Butner Trunk or Treat
DESCRIPTION:Trunk or Treat Dash Plaque . Saturday October 23rd First 50 vehicles will receive one . \nPlan on coming out open to any type of vehicle doesn’t have to be a hot rod or show car so bring your daily driver decorate it up and pass out candy to the kids of the community. \nLast year we had around 800 kids and 67 vehicles dressed up and handing out candy . Decorate those vehicles show off your talent you and your vehicle design will be judged for top 3 trophies and may do a top 3 trophies for kids costumes. \n4-5:30 set up and trunk or treating starts at 6:00
URL:https://kentuckycruises.com/event/jim-butner-trunk-or-treat/
LOCATION:Jim Butner Auto Group\, 125 Lewis and Clark Pkwy W\, Clarksville\, IN\, 47129\, United States
ATTACH;FMTTYPE=image/jpeg:https://kentuckycruises.com/wp-content/uploads/2021/09/242032553_4278796872156010_5338126683864034331_n.jpg
GEO:38.3071036;-85.7754478
X-APPLE-STRUCTURED-LOCATION;VALUE=URI;X-ADDRESS=Jim Butner Auto Group 125 Lewis and Clark Pkwy W Clarksville IN 47129 United States;X-APPLE-RADIUS=500;X-TITLE=125 Lewis and Clark Pkwy W:geo:-85.7754478,38.3071036
END:VEVENT
BEGIN:VEVENT
DTSTART;TZID=America/Kentucky/Louisville:20211001T173000
DTEND;TZID=America/Kentucky/Louisville:20211001T210000
DTSTAMP:20260419T192548
CREATED:20210909T221220Z
LAST-MODIFIED:20211007T015447Z
UID:10010035-1633109400-1633122000@kentuckycruises.com
SUMMARY:Jim Butner Cruising for Johnathan
DESCRIPTION:Jim Butner Auto Group Cruise Night Friday October 1st. “ Cruising for Johnathan “ \nWe are going to honor a young man (17 years old ) that is fighting cancer . He is a Mustang lover but loves all automobiles . We are going to be doing a 50/50 for him. 6 for $5.00\, car length $20.00. More details to come. He is a local Clark County Kid so let’s show him some love and pack the lot. \nIf anyone has any items they would like to donate to do an auction please let us know anything would help. Thank you and hope to see some more new faces as we do month to month and old faces. \n**UPDATE – Jonathan’s Grandmother texted me earlier and his nurse told her that Jonathan is to weak to make the show.  I hate this for him and everyone that is coming out but I am going to do a Facebook live this way he can still be there.  Let’s still pack the lot for him and his family as this is to raise money to help his grandparents out with expenses . He is an amazing young man and was looking forward to coming. Take a minute and pray for him and maybe reach out to him tomorrow evening while I’m walking around live for him and his grandparents.  His car is still going to be at the lot for the Cruise in so please don’t let this stop you from showing up . Thank You and hope to see more vehicles on the lot than we have seen this year (hint; 146). Let’s show him some love. – David Rainwater Jr. \nIt’s too sad. So if anyone has any Mustang swag \, model car kits \, anything vehicle related that they would like to give him that would be highly appreciated. \nOPEN TO VEHICLES OF ALL TYPES DOESN’T HAVE TO BE A SHOW VEHICLE . \nWould really like to see some all out DRAG VEHICLES \, RACE VEHICLES \, EXOTIC VEHICLES & MOTORCYCLES \nFriday 5:30 -9pm \nJim Butner Auto Group\n125 West Lewis and Clark Parkway\nClarksville Indiana
URL:https://kentuckycruises.com/event/jim-butner-friday-night-cruise/
LOCATION:Jim Butner Auto Group\, 125 Lewis and Clark Pkwy W\, Clarksville\, IN\, 47129\, United States
ATTACH;FMTTYPE=image/jpeg:https://kentuckycruises.com/wp-content/uploads/2021/09/241390178_4257164624319235_7313631289357631323_n.jpg
GEO:38.3071036;-85.7754478
X-APPLE-STRUCTURED-LOCATION;VALUE=URI;X-ADDRESS=Jim Butner Auto Group 125 Lewis and Clark Pkwy W Clarksville IN 47129 United States;X-APPLE-RADIUS=500;X-TITLE=125 Lewis and Clark Pkwy W:geo:-85.7754478,38.3071036
END:VEVENT
BEGIN:VEVENT
DTSTART;TZID=America/Kentucky/Louisville:20210807T173000
DTEND;TZID=America/Kentucky/Louisville:20210807T210000
DTSTAMP:20260419T192548
CREATED:20210428T214348Z
LAST-MODIFIED:20210805T155851Z
UID:10009454-1628357400-1628370000@kentuckycruises.com
SUMMARY:Butner Cruise In Night
DESCRIPTION:Saturday August 7th 6-9 pm Jim Butner Auto Group Cruise in 125 West Lewis and Clark Parkway Clarksville \, Indiana 47129 \nwe Understand it’s Street Rod Nationals Weekend but hopefully we can get some sweet Street rods to come hang out . \nSo since it’s a big weekend we are going to do a BURNOUT BOX . ( controlled 45 seconds ) along with food trucks. \nThis is a free event \nFirst 50 vehicles will receive a dash plaque and as always the top pick of the night will be on next months dash plaque as well as receive a trophy as well as a trophy for the top burnout . \nSo bring those rides out . \nWe are planning on making this a yearly event. \n6-9PM \nOpen to all makes and models.  Cars\,  Motorcycles and Trucks. \nStock\, Custom\, or Work in Progress. \nCome on out and hang out with some old and new friends. \nEmail any questions to teamlevidsl@outlook.com or on Facebook David Rainwater Jr. or Down Syndrome Car Show on Facebook. \nThank you and hope to see you there! \nClick below to enlarge for details.
URL:https://kentuckycruises.com/event/butner-cruise-in-night-2021-08-07/
LOCATION:Jim Butner Auto Group\, 125 Lewis and Clark Pkwy W\, Clarksville\, IN\, 47129\, United States
ATTACH;FMTTYPE=image/jpeg:https://kentuckycruises.com/wp-content/uploads/2021/04/163281346_186335816627542_3243023845433786573_n.jpg
GEO:38.3071036;-85.7754478
X-APPLE-STRUCTURED-LOCATION;VALUE=URI;X-ADDRESS=Jim Butner Auto Group 125 Lewis and Clark Pkwy W Clarksville IN 47129 United States;X-APPLE-RADIUS=500;X-TITLE=125 Lewis and Clark Pkwy W:geo:-85.7754478,38.3071036
END:VEVENT
BEGIN:VEVENT
DTSTART;TZID=America/Kentucky/Louisville:20210522T080000
DTEND;TZID=America/Kentucky/Louisville:20210522T170000
DTSTAMP:20260419T192548
CREATED:20210428T195635Z
LAST-MODIFIED:20210428T195635Z
UID:10009493-1621670400-1621702800@kentuckycruises.com
SUMMARY:2nd Annual Love Doesn’t Count Chromosomes Car Show
DESCRIPTION:First 100 vehicles will receive a show T-shirt\, dash plaque and goody bag \nRegistration $25 from 8AM – Noon\nFree to public \nJudging starts at 10AM\nAwards at 3PM \nRAIN DATE JUNE 26th \nJim Butner Auto Group\n125 W Lewis and Clark Pkwy\nClarksville\, IN 47129
URL:https://kentuckycruises.com/event/2nd-annual-love-doesnt-count-chromosomes-car-show/
LOCATION:Jim Butner Auto Group\, 125 Lewis and Clark Pkwy W\, Clarksville\, IN\, 47129\, United States
ATTACH;FMTTYPE=image/jpeg:https://kentuckycruises.com/wp-content/uploads/2021/04/down_syndrome_21_new_date.jpg
GEO:38.3071036;-85.7754478
X-APPLE-STRUCTURED-LOCATION;VALUE=URI;X-ADDRESS=Jim Butner Auto Group 125 Lewis and Clark Pkwy W Clarksville IN 47129 United States;X-APPLE-RADIUS=500;X-TITLE=125 Lewis and Clark Pkwy W:geo:-85.7754478,38.3071036
END:VEVENT
END:VCALENDAR