BEGIN:VCALENDAR
VERSION:2.0
PRODID:-//Kentucky Cruises - ECPv6.6.3//NONSGML v1.0//EN
CALSCALE:GREGORIAN
METHOD:PUBLISH
X-WR-CALNAME:Kentucky Cruises
X-ORIGINAL-URL:https://kentuckycruises.com
X-WR-CALDESC:Events for Kentucky Cruises
REFRESH-INTERVAL;VALUE=DURATION:PT1H
X-Robots-Tag:noindex
X-PUBLISHED-TTL:PT1H
BEGIN:VTIMEZONE
TZID:America/Kentucky/Louisville
BEGIN:DAYLIGHT
TZOFFSETFROM:-0500
TZOFFSETTO:-0400
TZNAME:EDT
DTSTART:20210314T070000
END:DAYLIGHT
BEGIN:STANDARD
TZOFFSETFROM:-0400
TZOFFSETTO:-0500
TZNAME:EST
DTSTART:20211107T060000
END:STANDARD
END:VTIMEZONE
BEGIN:VEVENT
DTSTART;TZID=America/Kentucky/Louisville:20210925T120000
DTEND;TZID=America/Kentucky/Louisville:20210925T160000
DTSTAMP:20260423T013205
CREATED:20210913T205204Z
LAST-MODIFIED:20210913T205204Z
UID:10010049-1632571200-1632585600@kentuckycruises.com
SUMMARY:Jessamine Fall Festival Car Show
DESCRIPTION:Jessamine Fall Festival Classic Car Show\nSponsored by DJ Travelin Mic And Racheal Harrington\, NMLS 2086593 Guardian Savings Bank \nSaturday September 25th\, 12PM – 4PM. Car registration 12-2PM. \nLocation: Jessamine County Health Department 210 E Walnut St\, Nicholasville\, KY 40356 \nCar registration $15. First 50 cars registered will receive a goody bag with dash plaque. \nTop 30 and “Best of Show” trophy awards! \n50/50 split the pot raffle\, Silent Auction\, and food & drink vendors! \nBenefiting Jessamine County Homeless Shelter\, Phoenix Grace\, and Breaking Free Ministries. \nQuestions? Please contact Racheal at (859) 661-8595
URL:https://kentuckycruises.com/event/jessamine-fall-festival-car-show/
LOCATION:Jessamine County Health Department\, 210 E Walnut St\, Nicholasville\, KY\, 40356\, United States
ATTACH;FMTTYPE=image/jpeg:https://kentuckycruises.com/wp-content/uploads/2021/09/241998908_855323985177086_7291460902766306209_n.jpg
GEO:37.8807741;-84.5711048
X-APPLE-STRUCTURED-LOCATION;VALUE=URI;X-ADDRESS=Jessamine County Health Department 210 E Walnut St Nicholasville KY 40356 United States;X-APPLE-RADIUS=500;X-TITLE=210 E Walnut St:geo:-84.5711048,37.8807741
END:VEVENT
END:VCALENDAR