BEGIN:VCALENDAR
VERSION:2.0
PRODID:-//Kentucky Cruises - ECPv6.6.3//NONSGML v1.0//EN
CALSCALE:GREGORIAN
METHOD:PUBLISH
X-WR-CALNAME:Kentucky Cruises
X-ORIGINAL-URL:https://kentuckycruises.com
X-WR-CALDESC:Events for Kentucky Cruises
REFRESH-INTERVAL;VALUE=DURATION:PT1H
X-Robots-Tag:noindex
X-PUBLISHED-TTL:PT1H
BEGIN:VTIMEZONE
TZID:America/Kentucky/Louisville
BEGIN:DAYLIGHT
TZOFFSETFROM:-0500
TZOFFSETTO:-0400
TZNAME:EDT
DTSTART:20230312T070000
END:DAYLIGHT
BEGIN:STANDARD
TZOFFSETFROM:-0400
TZOFFSETTO:-0500
TZNAME:EST
DTSTART:20231105T060000
END:STANDARD
END:VTIMEZONE
BEGIN:VEVENT
DTSTART;TZID=America/Kentucky/Louisville:20230611T100000
DTEND;TZID=America/Kentucky/Louisville:20230611T160000
DTSTAMP:20260425T170313
CREATED:20230513T023745Z
LAST-MODIFIED:20230513T023745Z
UID:10011252-1686477600-1686499200@kentuckycruises.com
SUMMARY:Kentuckiana Farmer's Market Car Show
DESCRIPTION:
URL:https://kentuckycruises.com/event/kentuckiana-farmers-market-car-show/2023-06-11/
LOCATION:Jeffersonville High School\, 2315 Allison Ln #5878\, Jeffersonville\, IN\, 47130\, United States
ATTACH;FMTTYPE=image/jpeg:https://kentuckycruises.com/wp-content/uploads/2023/05/kentuckiana_charity_23.jpg
GEO:38.3175018;-85.7120739
X-APPLE-STRUCTURED-LOCATION;VALUE=URI;X-ADDRESS=Jeffersonville High School 2315 Allison Ln #5878 Jeffersonville IN 47130 United States;X-APPLE-RADIUS=500;X-TITLE=2315 Allison Ln #5878:geo:-85.7120739,38.3175018
END:VEVENT
BEGIN:VEVENT
DTSTART;TZID=America/Kentucky/Louisville:20230610T100000
DTEND;TZID=America/Kentucky/Louisville:20230610T180000
DTSTAMP:20260425T170313
CREATED:20230513T023745Z
LAST-MODIFIED:20230513T023745Z
UID:10011251-1686391200-1686420000@kentuckycruises.com
SUMMARY:Kentuckiana Farmer's Market Car Show
DESCRIPTION:
URL:https://kentuckycruises.com/event/kentuckiana-farmers-market-car-show/2023-06-10/
LOCATION:Jeffersonville High School\, 2315 Allison Ln #5878\, Jeffersonville\, IN\, 47130\, United States
ATTACH;FMTTYPE=image/jpeg:https://kentuckycruises.com/wp-content/uploads/2023/05/kentuckiana_charity_23.jpg
GEO:38.3175018;-85.7120739
X-APPLE-STRUCTURED-LOCATION;VALUE=URI;X-ADDRESS=Jeffersonville High School 2315 Allison Ln #5878 Jeffersonville IN 47130 United States;X-APPLE-RADIUS=500;X-TITLE=2315 Allison Ln #5878:geo:-85.7120739,38.3175018
END:VEVENT
END:VCALENDAR