BEGIN:VCALENDAR
VERSION:2.0
PRODID:-//Kentucky Cruises - ECPv6.6.3//NONSGML v1.0//EN
CALSCALE:GREGORIAN
METHOD:PUBLISH
X-WR-CALNAME:Kentucky Cruises
X-ORIGINAL-URL:https://kentuckycruises.com
X-WR-CALDESC:Events for Kentucky Cruises
REFRESH-INTERVAL;VALUE=DURATION:PT1H
X-Robots-Tag:noindex
X-PUBLISHED-TTL:PT1H
BEGIN:VTIMEZONE
TZID:America/Kentucky/Louisville
BEGIN:DAYLIGHT
TZOFFSETFROM:-0500
TZOFFSETTO:-0400
TZNAME:EDT
DTSTART:20230312T070000
END:DAYLIGHT
BEGIN:STANDARD
TZOFFSETFROM:-0400
TZOFFSETTO:-0500
TZNAME:EST
DTSTART:20231105T060000
END:STANDARD
END:VTIMEZONE
BEGIN:VEVENT
DTSTART;TZID=America/Kentucky/Louisville:20230909T100000
DTEND;TZID=America/Kentucky/Louisville:20230909T150000
DTSTAMP:20260422T055149
CREATED:20230520T041820Z
LAST-MODIFIED:20230520T041820Z
UID:10008910-1694253600-1694271600@kentuckycruises.com
SUMMARY:Car Show Fundraiser
DESCRIPTION:
URL:https://kentuckycruises.com/event/car-show-fundraiser/
LOCATION:Howard Steamboat Museum\, 1101 E Market St\,\, Jeffersonville\, IN\, 47130\, United States
ATTACH;FMTTYPE=image/jpeg:https://kentuckycruises.com/wp-content/uploads/2023/05/howard_steamboat_23.jpg
GEO:38.2782368;-85.7253566
X-APPLE-STRUCTURED-LOCATION;VALUE=URI;X-ADDRESS=Howard Steamboat Museum 1101 E Market St Jeffersonville IN 47130 United States;X-APPLE-RADIUS=500;X-TITLE=1101 E Market St\,:geo:-85.7253566,38.2782368
END:VEVENT
END:VCALENDAR