BEGIN:VCALENDAR
VERSION:2.0
PRODID:-//Kentucky Cruises - ECPv6.6.3//NONSGML v1.0//EN
CALSCALE:GREGORIAN
METHOD:PUBLISH
X-ORIGINAL-URL:https://kentuckycruises.com
X-WR-CALDESC:Events for Kentucky Cruises
REFRESH-INTERVAL;VALUE=DURATION:PT1H
X-Robots-Tag:noindex
X-PUBLISHED-TTL:PT1H
BEGIN:VTIMEZONE
TZID:America/Kentucky/Louisville
BEGIN:DAYLIGHT
TZOFFSETFROM:-0500
TZOFFSETTO:-0400
TZNAME:EDT
DTSTART:20220313T070000
END:DAYLIGHT
BEGIN:STANDARD
TZOFFSETFROM:-0400
TZOFFSETTO:-0500
TZNAME:EST
DTSTART:20221106T060000
END:STANDARD
END:VTIMEZONE
BEGIN:VEVENT
DTSTART;TZID=America/Kentucky/Louisville:20220625T120000
DTEND;TZID=America/Kentucky/Louisville:20220625T180000
DTSTAMP:20260422T173918
CREATED:20220211T233637Z
LAST-MODIFIED:20220211T234728Z
UID:10010177-1656158400-1656180000@kentuckycruises.com
SUMMARY:Somernites Cruise
DESCRIPTION:Somernites Cruise takes place each month on the 4th weekend\, April thru October in downtown Somerset\, KY. The event is best described as a classic car cruise but\, goes much further than that. Block parties\, Fun Run’s and ‘Cruisin The Strip are just a few of the many activities that participants and spectators may enjoy. Admission to Somernites Cruise is entirely FREE! \nhttps://www.facebook.com/SomernitesCruise/ \nThis month: \n“Back to the 50’s” Showcase (with best dressed prizes and maybe even a sock hop!) \n“Somernites Cruise Van-In” Cool Custom Van Display \nFriday Morning Meet & Greet\nPresented by Circle K\n(Friday June 24 — 10am-2pm)\nCircle K\, US Hwy. 27 Light #10 \nFriday Night Thunder\n(Friday June 24 — 5pm-9pm)\nSomerset Mall\, US Hwy. 27 Light #23 \nRattlesnake Run\nRattlesnake Run takes place at 2:30 pm on Friday. Leave from Somerset Mall. \nFun Run – TBA\nFun Run leaves from Hardee’s South on the Saturday morning of the cruise at 8:30am. Breakfast is provided for participants from 8-8:30am.
URL:https://kentuckycruises.com/event/somernites-cruise-80/2022-06-25/2/
LOCATION:Historic Downtown Somerset\, KY\, 100 Public Sq\, Somerset\, KY\, 42501\, United States
ATTACH;FMTTYPE=image/png:https://kentuckycruises.com/wp-content/uploads/2022/02/SNCLogo_NoBG-copy.png
GEO:37.0915036;-84.6036726
X-APPLE-STRUCTURED-LOCATION;VALUE=URI;X-ADDRESS=Historic Downtown Somerset KY 100 Public Sq Somerset KY 42501 United States;X-APPLE-RADIUS=500;X-TITLE=100 Public Sq:geo:-84.6036726,37.0915036
END:VEVENT
BEGIN:VEVENT
DTSTART;TZID=America/Kentucky/Louisville:20220625T080000
DTEND;TZID=America/Kentucky/Louisville:20220625T120000
DTSTAMP:20260422T173918
CREATED:20220211T233637Z
LAST-MODIFIED:20220211T234728Z
UID:10010176-1656144000-1656158400@kentuckycruises.com
SUMMARY:Somernites Cruise
DESCRIPTION:Somernites Cruise takes place each month on the 4th weekend\, April thru October in downtown Somerset\, KY. The event is best described as a classic car cruise but\, goes much further than that. Block parties\, Fun Run’s and ‘Cruisin The Strip are just a few of the many activities that participants and spectators may enjoy. Admission to Somernites Cruise is entirely FREE! \nhttps://www.facebook.com/SomernitesCruise/ \nThis month: \n“Back to the 50’s” Showcase (with best dressed prizes and maybe even a sock hop!) \n“Somernites Cruise Van-In” Cool Custom Van Display \nFriday Morning Meet & Greet\nPresented by Circle K\n(Friday June 24 — 10am-2pm)\nCircle K\, US Hwy. 27 Light #10 \nFriday Night Thunder\n(Friday June 24 — 5pm-9pm)\nSomerset Mall\, US Hwy. 27 Light #23 \nRattlesnake Run\nRattlesnake Run takes place at 2:30 pm on Friday. Leave from Somerset Mall. \nFun Run – TBA\nFun Run leaves from Hardee’s South on the Saturday morning of the cruise at 8:30am. Breakfast is provided for participants from 8-8:30am.
URL:https://kentuckycruises.com/event/somernites-cruise-80/2022-06-25/1/
LOCATION:Historic Downtown Somerset\, KY\, 100 Public Sq\, Somerset\, KY\, 42501\, United States
ATTACH;FMTTYPE=image/png:https://kentuckycruises.com/wp-content/uploads/2022/02/SNCLogo_NoBG-copy.png
GEO:37.0915036;-84.6036726
X-APPLE-STRUCTURED-LOCATION;VALUE=URI;X-ADDRESS=Historic Downtown Somerset KY 100 Public Sq Somerset KY 42501 United States;X-APPLE-RADIUS=500;X-TITLE=100 Public Sq:geo:-84.6036726,37.0915036
END:VEVENT
BEGIN:VEVENT
DTSTART;TZID=America/Kentucky/Louisville:20220624T170000
DTEND;TZID=America/Kentucky/Louisville:20220624T210000
DTSTAMP:20260422T173918
CREATED:20220211T233637Z
LAST-MODIFIED:20220211T234728Z
UID:10010175-1656090000-1656104400@kentuckycruises.com
SUMMARY:Somernites Cruise
DESCRIPTION:Somernites Cruise takes place each month on the 4th weekend\, April thru October in downtown Somerset\, KY. The event is best described as a classic car cruise but\, goes much further than that. Block parties\, Fun Run’s and ‘Cruisin The Strip are just a few of the many activities that participants and spectators may enjoy. Admission to Somernites Cruise is entirely FREE! \nhttps://www.facebook.com/SomernitesCruise/ \nThis month: \n“Back to the 50’s” Showcase (with best dressed prizes and maybe even a sock hop!) \n“Somernites Cruise Van-In” Cool Custom Van Display \nFriday Morning Meet & Greet\nPresented by Circle K\n(Friday June 24 — 10am-2pm)\nCircle K\, US Hwy. 27 Light #10 \nFriday Night Thunder\n(Friday June 24 — 5pm-9pm)\nSomerset Mall\, US Hwy. 27 Light #23 \nRattlesnake Run\nRattlesnake Run takes place at 2:30 pm on Friday. Leave from Somerset Mall. \nFun Run – TBA\nFun Run leaves from Hardee’s South on the Saturday morning of the cruise at 8:30am. Breakfast is provided for participants from 8-8:30am.
URL:https://kentuckycruises.com/event/somernites-cruise-80/2022-06-24/2/
LOCATION:Historic Downtown Somerset\, KY\, 100 Public Sq\, Somerset\, KY\, 42501\, United States
ATTACH;FMTTYPE=image/png:https://kentuckycruises.com/wp-content/uploads/2022/02/SNCLogo_NoBG-copy.png
GEO:37.0915036;-84.6036726
X-APPLE-STRUCTURED-LOCATION;VALUE=URI;X-ADDRESS=Historic Downtown Somerset KY 100 Public Sq Somerset KY 42501 United States;X-APPLE-RADIUS=500;X-TITLE=100 Public Sq:geo:-84.6036726,37.0915036
END:VEVENT
BEGIN:VEVENT
DTSTART;TZID=America/Kentucky/Louisville:20220624T100000
DTEND;TZID=America/Kentucky/Louisville:20220624T140000
DTSTAMP:20260422T173918
CREATED:20220211T233637Z
LAST-MODIFIED:20220211T234728Z
UID:10010174-1656064800-1656079200@kentuckycruises.com
SUMMARY:Somernites Cruise
DESCRIPTION:Somernites Cruise takes place each month on the 4th weekend\, April thru October in downtown Somerset\, KY. The event is best described as a classic car cruise but\, goes much further than that. Block parties\, Fun Run’s and ‘Cruisin The Strip are just a few of the many activities that participants and spectators may enjoy. Admission to Somernites Cruise is entirely FREE! \nhttps://www.facebook.com/SomernitesCruise/ \nThis month: \n“Back to the 50’s” Showcase (with best dressed prizes and maybe even a sock hop!) \n“Somernites Cruise Van-In” Cool Custom Van Display \nFriday Morning Meet & Greet\nPresented by Circle K\n(Friday June 24 — 10am-2pm)\nCircle K\, US Hwy. 27 Light #10 \nFriday Night Thunder\n(Friday June 24 — 5pm-9pm)\nSomerset Mall\, US Hwy. 27 Light #23 \nRattlesnake Run\nRattlesnake Run takes place at 2:30 pm on Friday. Leave from Somerset Mall. \nFun Run – TBA\nFun Run leaves from Hardee’s South on the Saturday morning of the cruise at 8:30am. Breakfast is provided for participants from 8-8:30am.
URL:https://kentuckycruises.com/event/somernites-cruise-80/2022-06-24/1/
LOCATION:Historic Downtown Somerset\, KY\, 100 Public Sq\, Somerset\, KY\, 42501\, United States
ATTACH;FMTTYPE=image/png:https://kentuckycruises.com/wp-content/uploads/2022/02/SNCLogo_NoBG-copy.png
GEO:37.0915036;-84.6036726
X-APPLE-STRUCTURED-LOCATION;VALUE=URI;X-ADDRESS=Historic Downtown Somerset KY 100 Public Sq Somerset KY 42501 United States;X-APPLE-RADIUS=500;X-TITLE=100 Public Sq:geo:-84.6036726,37.0915036
END:VEVENT
BEGIN:VEVENT
DTSTART;TZID=America/Kentucky/Louisville:20220528T120000
DTEND;TZID=America/Kentucky/Louisville:20220528T180000
DTSTAMP:20260422T173918
CREATED:20220211T233208Z
LAST-MODIFIED:20220211T234637Z
UID:10010172-1653739200-1653760800@kentuckycruises.com
SUMMARY:Somernites Cruise
DESCRIPTION:Somernites Cruise takes place each month on the 4th weekend\, April thru October in downtown Somerset\, KY. The event is best described as a classic car cruise but\, goes much further than that. Block parties\, Fun Run’s and ‘Cruisin The Strip are just a few of the many activities that participants and spectators may enjoy. Admission to Somernites Cruise is entirely FREE! \nhttps://www.facebook.com/SomernitesCruise/ \nThis month: \nMopar Mania Showcase (presented by Don Franklin Chrysler\, Dodge\, Ram\, Jeep) \n5th Annual “Circle the Wagons” (vintage station wagons) \nFriday Morning Meet & Greet\nPresented by Circle K\n(Friday May 27 — 10am-2pm)\nCircle K\, US Hwy. 27 Light #10 \nFriday Night Thunder\n(Friday May 27 — 5pm-9pm)\nSomerset Mall\, US Hwy. 27 Light #23 \nFun Run – TBA\nFun Run leaves from Hardee’s South on the Saturday morning of the cruise at 8:30am. Breakfast is provided for participants from 8-8:30am.
URL:https://kentuckycruises.com/event/somernites-cruise-79/2022-05-28/2/
LOCATION:Historic Downtown Somerset\, KY\, 100 Public Sq\, Somerset\, KY\, 42501\, United States
ATTACH;FMTTYPE=image/png:https://kentuckycruises.com/wp-content/uploads/2022/02/SNCLogo_NoBG-copy.png
GEO:37.0915036;-84.6036726
X-APPLE-STRUCTURED-LOCATION;VALUE=URI;X-ADDRESS=Historic Downtown Somerset KY 100 Public Sq Somerset KY 42501 United States;X-APPLE-RADIUS=500;X-TITLE=100 Public Sq:geo:-84.6036726,37.0915036
END:VEVENT
BEGIN:VEVENT
DTSTART;TZID=America/Kentucky/Louisville:20220528T080000
DTEND;TZID=America/Kentucky/Louisville:20220528T120000
DTSTAMP:20260422T173918
CREATED:20220211T233208Z
LAST-MODIFIED:20220211T234637Z
UID:10010171-1653724800-1653739200@kentuckycruises.com
SUMMARY:Somernites Cruise
DESCRIPTION:Somernites Cruise takes place each month on the 4th weekend\, April thru October in downtown Somerset\, KY. The event is best described as a classic car cruise but\, goes much further than that. Block parties\, Fun Run’s and ‘Cruisin The Strip are just a few of the many activities that participants and spectators may enjoy. Admission to Somernites Cruise is entirely FREE! \nhttps://www.facebook.com/SomernitesCruise/ \nThis month: \nMopar Mania Showcase (presented by Don Franklin Chrysler\, Dodge\, Ram\, Jeep) \n5th Annual “Circle the Wagons” (vintage station wagons) \nFriday Morning Meet & Greet\nPresented by Circle K\n(Friday May 27 — 10am-2pm)\nCircle K\, US Hwy. 27 Light #10 \nFriday Night Thunder\n(Friday May 27 — 5pm-9pm)\nSomerset Mall\, US Hwy. 27 Light #23 \nFun Run – TBA\nFun Run leaves from Hardee’s South on the Saturday morning of the cruise at 8:30am. Breakfast is provided for participants from 8-8:30am.
URL:https://kentuckycruises.com/event/somernites-cruise-79/2022-05-28/1/
LOCATION:Historic Downtown Somerset\, KY\, 100 Public Sq\, Somerset\, KY\, 42501\, United States
ATTACH;FMTTYPE=image/png:https://kentuckycruises.com/wp-content/uploads/2022/02/SNCLogo_NoBG-copy.png
GEO:37.0915036;-84.6036726
X-APPLE-STRUCTURED-LOCATION;VALUE=URI;X-ADDRESS=Historic Downtown Somerset KY 100 Public Sq Somerset KY 42501 United States;X-APPLE-RADIUS=500;X-TITLE=100 Public Sq:geo:-84.6036726,37.0915036
END:VEVENT
BEGIN:VEVENT
DTSTART;TZID=America/Kentucky/Louisville:20220527T170000
DTEND;TZID=America/Kentucky/Louisville:20220527T210000
DTSTAMP:20260422T173918
CREATED:20220211T233208Z
LAST-MODIFIED:20220211T234637Z
UID:10010170-1653670800-1653685200@kentuckycruises.com
SUMMARY:Somernites Cruise
DESCRIPTION:Somernites Cruise takes place each month on the 4th weekend\, April thru October in downtown Somerset\, KY. The event is best described as a classic car cruise but\, goes much further than that. Block parties\, Fun Run’s and ‘Cruisin The Strip are just a few of the many activities that participants and spectators may enjoy. Admission to Somernites Cruise is entirely FREE! \nhttps://www.facebook.com/SomernitesCruise/ \nThis month: \nMopar Mania Showcase (presented by Don Franklin Chrysler\, Dodge\, Ram\, Jeep) \n5th Annual “Circle the Wagons” (vintage station wagons) \nFriday Morning Meet & Greet\nPresented by Circle K\n(Friday May 27 — 10am-2pm)\nCircle K\, US Hwy. 27 Light #10 \nFriday Night Thunder\n(Friday May 27 — 5pm-9pm)\nSomerset Mall\, US Hwy. 27 Light #23 \nFun Run – TBA\nFun Run leaves from Hardee’s South on the Saturday morning of the cruise at 8:30am. Breakfast is provided for participants from 8-8:30am.
URL:https://kentuckycruises.com/event/somernites-cruise-79/2022-05-27/2/
LOCATION:Historic Downtown Somerset\, KY\, 100 Public Sq\, Somerset\, KY\, 42501\, United States
ATTACH;FMTTYPE=image/png:https://kentuckycruises.com/wp-content/uploads/2022/02/SNCLogo_NoBG-copy.png
GEO:37.0915036;-84.6036726
X-APPLE-STRUCTURED-LOCATION;VALUE=URI;X-ADDRESS=Historic Downtown Somerset KY 100 Public Sq Somerset KY 42501 United States;X-APPLE-RADIUS=500;X-TITLE=100 Public Sq:geo:-84.6036726,37.0915036
END:VEVENT
BEGIN:VEVENT
DTSTART;TZID=America/Kentucky/Louisville:20220527T100000
DTEND;TZID=America/Kentucky/Louisville:20220527T140000
DTSTAMP:20260422T173918
CREATED:20220211T233208Z
LAST-MODIFIED:20220211T234637Z
UID:10010169-1653645600-1653660000@kentuckycruises.com
SUMMARY:Somernites Cruise
DESCRIPTION:Somernites Cruise takes place each month on the 4th weekend\, April thru October in downtown Somerset\, KY. The event is best described as a classic car cruise but\, goes much further than that. Block parties\, Fun Run’s and ‘Cruisin The Strip are just a few of the many activities that participants and spectators may enjoy. Admission to Somernites Cruise is entirely FREE! \nhttps://www.facebook.com/SomernitesCruise/ \nThis month: \nMopar Mania Showcase (presented by Don Franklin Chrysler\, Dodge\, Ram\, Jeep) \n5th Annual “Circle the Wagons” (vintage station wagons) \nFriday Morning Meet & Greet\nPresented by Circle K\n(Friday May 27 — 10am-2pm)\nCircle K\, US Hwy. 27 Light #10 \nFriday Night Thunder\n(Friday May 27 — 5pm-9pm)\nSomerset Mall\, US Hwy. 27 Light #23 \nFun Run – TBA\nFun Run leaves from Hardee’s South on the Saturday morning of the cruise at 8:30am. Breakfast is provided for participants from 8-8:30am.
URL:https://kentuckycruises.com/event/somernites-cruise-79/2022-05-27/1/
LOCATION:Historic Downtown Somerset\, KY\, 100 Public Sq\, Somerset\, KY\, 42501\, United States
ATTACH;FMTTYPE=image/png:https://kentuckycruises.com/wp-content/uploads/2022/02/SNCLogo_NoBG-copy.png
GEO:37.0915036;-84.6036726
X-APPLE-STRUCTURED-LOCATION;VALUE=URI;X-ADDRESS=Historic Downtown Somerset KY 100 Public Sq Somerset KY 42501 United States;X-APPLE-RADIUS=500;X-TITLE=100 Public Sq:geo:-84.6036726,37.0915036
END:VEVENT
BEGIN:VEVENT
DTSTART;TZID=America/Kentucky/Louisville:20220423T120000
DTEND;TZID=America/Kentucky/Louisville:20220423T180000
DTSTAMP:20260422T173918
CREATED:20220211T232137Z
LAST-MODIFIED:20220211T233351Z
UID:10010121-1650715200-1650736800@kentuckycruises.com
SUMMARY:Somernites Cruise
DESCRIPTION:Somernites Cruise takes place each month on the 4th weekend\, April thru October in downtown Somerset\, KY. The event is best described as a classic car cruise but\, goes much further than that. Block parties\, Fun Run’s and ‘Cruisin The Strip are just a few of the many activities that participants and spectators may enjoy. Admission to Somernites Cruise is entirely FREE! \nhttps://www.facebook.com/SomernitesCruise/ \nThis month: \nOrphans Showcase \nCustom Jeep Display \nVintage Tractor Display \nFriday Morning Meet & Greet\nPresented by Circle K\n(Friday April 22 — 10am-2pm)\nCircle K\, US Hwy. 27 Light #10 \nFriday Night Thunder\n(Friday April 22 — 5pm-9pm)\nSomerset Mall\, US Hwy. 27 Light #23\n\nFun Run – Cumberland Falls\nFun Run leaves from Hardee’s South on the Saturday morning of the cruise at 8:30am. Breakfast is provided for participants from 8-8:30am.
URL:https://kentuckycruises.com/event/somernites-cruise-78/2022-04-23/2/
LOCATION:Historic Downtown Somerset\, KY\, 100 Public Sq\, Somerset\, KY\, 42501\, United States
ATTACH;FMTTYPE=image/png:https://kentuckycruises.com/wp-content/uploads/2022/02/SNCLogo_NoBG-copy.png
ORGANIZER;CN="Somernites Cruise%2C Inc.":MAILTO:somernitescruise@yahoo.com
GEO:37.0915036;-84.6036726
X-APPLE-STRUCTURED-LOCATION;VALUE=URI;X-ADDRESS=Historic Downtown Somerset KY 100 Public Sq Somerset KY 42501 United States;X-APPLE-RADIUS=500;X-TITLE=100 Public Sq:geo:-84.6036726,37.0915036
END:VEVENT
BEGIN:VEVENT
DTSTART;TZID=America/Kentucky/Louisville:20220423T080000
DTEND;TZID=America/Kentucky/Louisville:20220423T120000
DTSTAMP:20260422T173918
CREATED:20220211T232137Z
LAST-MODIFIED:20220211T233351Z
UID:10010120-1650700800-1650715200@kentuckycruises.com
SUMMARY:Somernites Cruise
DESCRIPTION:Somernites Cruise takes place each month on the 4th weekend\, April thru October in downtown Somerset\, KY. The event is best described as a classic car cruise but\, goes much further than that. Block parties\, Fun Run’s and ‘Cruisin The Strip are just a few of the many activities that participants and spectators may enjoy. Admission to Somernites Cruise is entirely FREE! \nhttps://www.facebook.com/SomernitesCruise/ \nThis month: \nOrphans Showcase \nCustom Jeep Display \nVintage Tractor Display \nFriday Morning Meet & Greet\nPresented by Circle K\n(Friday April 22 — 10am-2pm)\nCircle K\, US Hwy. 27 Light #10 \nFriday Night Thunder\n(Friday April 22 — 5pm-9pm)\nSomerset Mall\, US Hwy. 27 Light #23\n\nFun Run – Cumberland Falls\nFun Run leaves from Hardee’s South on the Saturday morning of the cruise at 8:30am. Breakfast is provided for participants from 8-8:30am.
URL:https://kentuckycruises.com/event/somernites-cruise-78/2022-04-23/1/
LOCATION:Historic Downtown Somerset\, KY\, 100 Public Sq\, Somerset\, KY\, 42501\, United States
ATTACH;FMTTYPE=image/png:https://kentuckycruises.com/wp-content/uploads/2022/02/SNCLogo_NoBG-copy.png
ORGANIZER;CN="Somernites Cruise%2C Inc.":MAILTO:somernitescruise@yahoo.com
GEO:37.0915036;-84.6036726
X-APPLE-STRUCTURED-LOCATION;VALUE=URI;X-ADDRESS=Historic Downtown Somerset KY 100 Public Sq Somerset KY 42501 United States;X-APPLE-RADIUS=500;X-TITLE=100 Public Sq:geo:-84.6036726,37.0915036
END:VEVENT
BEGIN:VEVENT
DTSTART;TZID=America/Kentucky/Louisville:20220422T170000
DTEND;TZID=America/Kentucky/Louisville:20220422T210000
DTSTAMP:20260422T173918
CREATED:20220211T232137Z
LAST-MODIFIED:20220211T233351Z
UID:10010119-1650646800-1650661200@kentuckycruises.com
SUMMARY:Somernites Cruise
DESCRIPTION:Somernites Cruise takes place each month on the 4th weekend\, April thru October in downtown Somerset\, KY. The event is best described as a classic car cruise but\, goes much further than that. Block parties\, Fun Run’s and ‘Cruisin The Strip are just a few of the many activities that participants and spectators may enjoy. Admission to Somernites Cruise is entirely FREE! \nhttps://www.facebook.com/SomernitesCruise/ \nThis month: \nOrphans Showcase \nCustom Jeep Display \nVintage Tractor Display \nFriday Morning Meet & Greet\nPresented by Circle K\n(Friday April 22 — 10am-2pm)\nCircle K\, US Hwy. 27 Light #10 \nFriday Night Thunder\n(Friday April 22 — 5pm-9pm)\nSomerset Mall\, US Hwy. 27 Light #23\n\nFun Run – Cumberland Falls\nFun Run leaves from Hardee’s South on the Saturday morning of the cruise at 8:30am. Breakfast is provided for participants from 8-8:30am.
URL:https://kentuckycruises.com/event/somernites-cruise-78/2022-04-22/2/
LOCATION:Historic Downtown Somerset\, KY\, 100 Public Sq\, Somerset\, KY\, 42501\, United States
ATTACH;FMTTYPE=image/png:https://kentuckycruises.com/wp-content/uploads/2022/02/SNCLogo_NoBG-copy.png
ORGANIZER;CN="Somernites Cruise%2C Inc.":MAILTO:somernitescruise@yahoo.com
GEO:37.0915036;-84.6036726
X-APPLE-STRUCTURED-LOCATION;VALUE=URI;X-ADDRESS=Historic Downtown Somerset KY 100 Public Sq Somerset KY 42501 United States;X-APPLE-RADIUS=500;X-TITLE=100 Public Sq:geo:-84.6036726,37.0915036
END:VEVENT
BEGIN:VEVENT
DTSTART;TZID=America/Kentucky/Louisville:20220422T100000
DTEND;TZID=America/Kentucky/Louisville:20220422T140000
DTSTAMP:20260422T173918
CREATED:20220211T232137Z
LAST-MODIFIED:20220211T233351Z
UID:10010118-1650621600-1650636000@kentuckycruises.com
SUMMARY:Somernites Cruise
DESCRIPTION:Somernites Cruise takes place each month on the 4th weekend\, April thru October in downtown Somerset\, KY. The event is best described as a classic car cruise but\, goes much further than that. Block parties\, Fun Run’s and ‘Cruisin The Strip are just a few of the many activities that participants and spectators may enjoy. Admission to Somernites Cruise is entirely FREE! \nhttps://www.facebook.com/SomernitesCruise/ \nThis month: \nOrphans Showcase \nCustom Jeep Display \nVintage Tractor Display \nFriday Morning Meet & Greet\nPresented by Circle K\n(Friday April 22 — 10am-2pm)\nCircle K\, US Hwy. 27 Light #10 \nFriday Night Thunder\n(Friday April 22 — 5pm-9pm)\nSomerset Mall\, US Hwy. 27 Light #23\n\nFun Run – Cumberland Falls\nFun Run leaves from Hardee’s South on the Saturday morning of the cruise at 8:30am. Breakfast is provided for participants from 8-8:30am.
URL:https://kentuckycruises.com/event/somernites-cruise-78/2022-04-22/1/
LOCATION:Historic Downtown Somerset\, KY\, 100 Public Sq\, Somerset\, KY\, 42501\, United States
ATTACH;FMTTYPE=image/png:https://kentuckycruises.com/wp-content/uploads/2022/02/SNCLogo_NoBG-copy.png
ORGANIZER;CN="Somernites Cruise%2C Inc.":MAILTO:somernitescruise@yahoo.com
GEO:37.0915036;-84.6036726
X-APPLE-STRUCTURED-LOCATION;VALUE=URI;X-ADDRESS=Historic Downtown Somerset KY 100 Public Sq Somerset KY 42501 United States;X-APPLE-RADIUS=500;X-TITLE=100 Public Sq:geo:-84.6036726,37.0915036
END:VEVENT
END:VCALENDAR