BEGIN:VCALENDAR
VERSION:2.0
PRODID:-//Kentucky Cruises - ECPv6.6.3//NONSGML v1.0//EN
CALSCALE:GREGORIAN
METHOD:PUBLISH
X-WR-CALNAME:Kentucky Cruises
X-ORIGINAL-URL:https://kentuckycruises.com
X-WR-CALDESC:Events for Kentucky Cruises
REFRESH-INTERVAL;VALUE=DURATION:PT1H
X-Robots-Tag:noindex
X-PUBLISHED-TTL:PT1H
BEGIN:VTIMEZONE
TZID:America/Kentucky/Louisville
BEGIN:DAYLIGHT
TZOFFSETFROM:-0500
TZOFFSETTO:-0400
TZNAME:EDT
DTSTART:20210314T070000
END:DAYLIGHT
BEGIN:STANDARD
TZOFFSETFROM:-0400
TZOFFSETTO:-0500
TZNAME:EST
DTSTART:20211107T060000
END:STANDARD
BEGIN:DAYLIGHT
TZOFFSETFROM:-0500
TZOFFSETTO:-0400
TZNAME:EDT
DTSTART:20220313T070000
END:DAYLIGHT
BEGIN:STANDARD
TZOFFSETFROM:-0400
TZOFFSETTO:-0500
TZNAME:EST
DTSTART:20221106T060000
END:STANDARD
BEGIN:DAYLIGHT
TZOFFSETFROM:-0500
TZOFFSETTO:-0400
TZNAME:EDT
DTSTART:20230312T070000
END:DAYLIGHT
BEGIN:STANDARD
TZOFFSETFROM:-0400
TZOFFSETTO:-0500
TZNAME:EST
DTSTART:20231105T060000
END:STANDARD
END:VTIMEZONE
BEGIN:VEVENT
DTSTART;TZID=America/Kentucky/Louisville:20230519T180000
DTEND;TZID=America/Kentucky/Louisville:20230519T203000
DTSTAMP:20260421T073204
CREATED:20230512T042345Z
LAST-MODIFIED:20230512T042345Z
UID:10011160-1684519200-1684528200@kentuckycruises.com
SUMMARY:Summer Cruise-In
DESCRIPTION:Clarksville Parks and Recreation
URL:https://kentuckycruises.com/event/summer-cruise-in-4/
LOCATION:Gateway Park\, 500 Little League Blvd\, Clarksville\, IN\, 47129\, United States
ATTACH;FMTTYPE=image/jpeg:https://kentuckycruises.com/wp-content/uploads/2023/05/gateway_park_23.jpg
GEO:38.3005588;-85.7582133
X-APPLE-STRUCTURED-LOCATION;VALUE=URI;X-ADDRESS=Gateway Park 500 Little League Blvd Clarksville IN 47129 United States;X-APPLE-RADIUS=500;X-TITLE=500 Little League Blvd:geo:-85.7582133,38.3005588
END:VEVENT
BEGIN:VEVENT
DTSTART;TZID=America/Kentucky/Louisville:20220520T180000
DTEND;TZID=America/Kentucky/Louisville:20220520T203000
DTSTAMP:20260421T073204
CREATED:20220501T040031Z
LAST-MODIFIED:20220501T040031Z
UID:10010637-1653069600-1653078600@kentuckycruises.com
SUMMARY:Summer Cruise In
DESCRIPTION:
URL:https://kentuckycruises.com/event/summer-cruise-in-3/
LOCATION:Gateway Park\, 500 Little League Blvd\, Clarksville\, IN\, 47129\, United States
ATTACH;FMTTYPE=image/jpeg:https://kentuckycruises.com/wp-content/uploads/2022/04/gateway_park_22.jpg
GEO:38.3005588;-85.7582133
X-APPLE-STRUCTURED-LOCATION;VALUE=URI;X-ADDRESS=Gateway Park 500 Little League Blvd Clarksville IN 47129 United States;X-APPLE-RADIUS=500;X-TITLE=500 Little League Blvd:geo:-85.7582133,38.3005588
END:VEVENT
BEGIN:VEVENT
DTSTART;TZID=America/Kentucky/Louisville:20210521T170000
DTEND;TZID=America/Kentucky/Louisville:20210521T190000
DTSTAMP:20260421T073204
CREATED:20210520T051745Z
LAST-MODIFIED:20210520T051745Z
UID:10009740-1621616400-1621623600@kentuckycruises.com
SUMMARY:Clarksville Summer Cruise In
DESCRIPTION:5 – 7PM\nFree to public \nGateway Park\n500 Little League Blvd\nClarksville\, IN 47129 \n\n\n\nClick flyer below for details.
URL:https://kentuckycruises.com/event/clarksville-summer-cruise-in/
LOCATION:Gateway Park\, 500 Little League Blvd\, Clarksville\, IN\, 47129\, United States
ATTACH;FMTTYPE=image/jpeg:https://kentuckycruises.com/wp-content/uploads/2021/05/188179833_10221094372003075_7036415187917125018_n.jpg
GEO:38.3005588;-85.7582133
X-APPLE-STRUCTURED-LOCATION;VALUE=URI;X-ADDRESS=Gateway Park 500 Little League Blvd Clarksville IN 47129 United States;X-APPLE-RADIUS=500;X-TITLE=500 Little League Blvd:geo:-85.7582133,38.3005588
END:VEVENT
BEGIN:VEVENT
DTSTART;TZID=America/Kentucky/Louisville:20210521T170000
DTEND;TZID=America/Kentucky/Louisville:20210521T190000
DTSTAMP:20260421T073204
CREATED:20210428T013656Z
LAST-MODIFIED:20210428T013656Z
UID:10007515-1621616400-1621623600@kentuckycruises.com
SUMMARY:Summer Cruise-In
DESCRIPTION:Join us for a night of cool rides and great music. \nWe are inviting owners of Classic Cars\, Muscle Cars\, Hot Rods\, and others to show off their rides in the Gateway Park parking lot. \nWhile you check out the rides\, we will have a DJ from Spin-Around Sound playing some of your favorite tunes from the 50’s\, 60’s and beyond. \nThere is no fee to participate\, and the first 150 participants will get a free dash plaque for their ride. \nDock Seafood will also be on hand selling food and drinks.
URL:https://kentuckycruises.com/event/summer-cruise-in-2/
LOCATION:Gateway Park\, 500 Little League Blvd\, Clarksville\, IN\, 47129\, United States
ATTACH;FMTTYPE=image/jpeg:https://kentuckycruises.com/wp-content/uploads/2021/04/161100678_3953813254705867_5934786381842187849_n.jpg
GEO:38.3005588;-85.7582133
X-APPLE-STRUCTURED-LOCATION;VALUE=URI;X-ADDRESS=Gateway Park 500 Little League Blvd Clarksville IN 47129 United States;X-APPLE-RADIUS=500;X-TITLE=500 Little League Blvd:geo:-85.7582133,38.3005588
END:VEVENT
END:VCALENDAR