BEGIN:VCALENDAR
VERSION:2.0
PRODID:-//Kentucky Cruises - ECPv6.6.3//NONSGML v1.0//EN
CALSCALE:GREGORIAN
METHOD:PUBLISH
X-WR-CALNAME:Kentucky Cruises
X-ORIGINAL-URL:https://kentuckycruises.com
X-WR-CALDESC:Events for Kentucky Cruises
REFRESH-INTERVAL;VALUE=DURATION:PT1H
X-Robots-Tag:noindex
X-PUBLISHED-TTL:PT1H
BEGIN:VTIMEZONE
TZID:America/Kentucky/Louisville
BEGIN:DAYLIGHT
TZOFFSETFROM:-0500
TZOFFSETTO:-0400
TZNAME:EDT
DTSTART:20220313T070000
END:DAYLIGHT
BEGIN:STANDARD
TZOFFSETFROM:-0400
TZOFFSETTO:-0500
TZNAME:EST
DTSTART:20221106T060000
END:STANDARD
END:VTIMEZONE
BEGIN:VEVENT
DTSTART;TZID=America/Kentucky/Louisville:20220423T110000
DTEND;TZID=America/Kentucky/Louisville:20220423T150000
DTSTAMP:20260425T225202
CREATED:20220310T032908Z
LAST-MODIFIED:20220310T033033Z
UID:10010346-1650711600-1650726000@kentuckycruises.com
SUMMARY:Friendship Baptist Church Car Show
DESCRIPTION:Registration 11-noon\, Show 11-3\, East Coast Eatz\, Indoor Restrooms\, Trophies \nhttps://www.facebook.com/events/1066431077548420
URL:https://kentuckycruises.com/event/friendship-baptist-church-car-show/
LOCATION:Friendship Baptist Church\, 8580 Cheviot Rd\,\, Cincinnati\, OH\, 45251\, United States
ATTACH;FMTTYPE=image/jpeg:https://kentuckycruises.com/wp-content/uploads/2022/03/275485916_10209553295907300_8173530992956935647_n.jpg
GEO:39.2276654;-84.5980959
X-APPLE-STRUCTURED-LOCATION;VALUE=URI;X-ADDRESS=Friendship Baptist Church 8580 Cheviot Rd Cincinnati OH 45251 United States;X-APPLE-RADIUS=500;X-TITLE=8580 Cheviot Rd\,:geo:-84.5980959,39.2276654
END:VEVENT
END:VCALENDAR