BEGIN:VCALENDAR
VERSION:2.0
PRODID:-//Kentucky Cruises - ECPv6.6.3//NONSGML v1.0//EN
CALSCALE:GREGORIAN
METHOD:PUBLISH
X-WR-CALNAME:Kentucky Cruises
X-ORIGINAL-URL:https://kentuckycruises.com
X-WR-CALDESC:Events for Kentucky Cruises
REFRESH-INTERVAL;VALUE=DURATION:PT1H
X-Robots-Tag:noindex
X-PUBLISHED-TTL:PT1H
BEGIN:VTIMEZONE
TZID:America/Kentucky/Louisville
BEGIN:DAYLIGHT
TZOFFSETFROM:-0500
TZOFFSETTO:-0400
TZNAME:EDT
DTSTART:20220313T070000
END:DAYLIGHT
BEGIN:STANDARD
TZOFFSETFROM:-0400
TZOFFSETTO:-0500
TZNAME:EST
DTSTART:20221106T060000
END:STANDARD
END:VTIMEZONE
BEGIN:VEVENT
DTSTART;TZID=America/Kentucky/Louisville:20220729T090000
DTEND;TZID=America/Kentucky/Louisville:20220730T170000
DTSTAMP:20260422T043846
CREATED:20210519T022807Z
LAST-MODIFIED:20220310T052405Z
UID:10009728-1659085200-1659200400@kentuckycruises.com
SUMMARY:Cruisin' the Heartland
DESCRIPTION:Join us the last weekend in July for Cruisin’ The Heartland with Jim’s Car Wash Express in Downtown Elizabethtown! \nCheck out over 2\,500 cruise cars from all over the country. You can take a stroll down memory lane\, enjoy food\, dancing and fun for the whole family! \nThis event was recognized as one of the top cruise-ins in the nation by Chevy Classics Magazine and the Best Car Show Cruise-in in Kentucky by Kentucky Living Magazine. \nMore info@ https://elizabethtownky.org/cruisin-the-heartland/ \nor www.facebook.com/EtownCityEvents \n \n  \n 
URL:https://kentuckycruises.com/event/cruisin-the-heartland-5/
LOCATION:Freeman Lake Park\, 1001 N Mulberry\, Elizabethtown\, KY\, 42701\, United States
ATTACH;FMTTYPE=image/jpeg:https://kentuckycruises.com/wp-content/uploads/2021/05/64639704_2307632485938795_5096025322868965376_n.jpg
GEO:37.7076421;-85.8396772
X-APPLE-STRUCTURED-LOCATION;VALUE=URI;X-ADDRESS=Freeman Lake Park 1001 N Mulberry Elizabethtown KY 42701 United States;X-APPLE-RADIUS=500;X-TITLE=1001 N Mulberry:geo:-85.8396772,37.7076421
END:VEVENT
END:VCALENDAR