BEGIN:VCALENDAR
VERSION:2.0
PRODID:-//Kentucky Cruises - ECPv6.6.3//NONSGML v1.0//EN
CALSCALE:GREGORIAN
METHOD:PUBLISH
X-WR-CALNAME:Kentucky Cruises
X-ORIGINAL-URL:https://kentuckycruises.com
X-WR-CALDESC:Events for Kentucky Cruises
REFRESH-INTERVAL;VALUE=DURATION:PT1H
X-Robots-Tag:noindex
X-PUBLISHED-TTL:PT1H
BEGIN:VTIMEZONE
TZID:America/Kentucky/Louisville
BEGIN:DAYLIGHT
TZOFFSETFROM:-0500
TZOFFSETTO:-0400
TZNAME:EDT
DTSTART:20220313T070000
END:DAYLIGHT
BEGIN:STANDARD
TZOFFSETFROM:-0400
TZOFFSETTO:-0500
TZNAME:EST
DTSTART:20221106T060000
END:STANDARD
END:VTIMEZONE
BEGIN:VEVENT
DTSTART;TZID=America/Kentucky/Louisville:20220730T190000
DTEND;TZID=America/Kentucky/Louisville:20220730T210000
DTSTAMP:20260421T045043
CREATED:20220728T023804Z
LAST-MODIFIED:20220728T023804Z
UID:10008665-1659207600-1659214800@kentuckycruises.com
SUMMARY:Hot Summer Nights Car Meet
DESCRIPTION:It’s time again to put some polish on those rides and come join us Saturday\, July 30th for the Hot Summer Nights Car Meet at Four Rivers Harley Davidson off Exit 11 in Paducah.\n\nAlways a huge variety of rides\, old and new. As always\, the main parking lot will be reserved for show and shine vehicles ONLY. General spectator parking will be available at the rear of the store. We will have a food vendor onsite – Mark Cope.\n\nWe will keep you posted through the weeks on any changes. Spread the word and we look forward to seeing everyone!!!\n\nhttps://www.facebook.com/events/3245060885764729
URL:https://kentuckycruises.com/event/hot-summer-nights-car-meet/
LOCATION:Four Rivers Harley-Davidson\, 3005 Old Husbands Rd\, Paducah\, KY\, 42003\, United States
ATTACH;FMTTYPE=image/jpeg:https://kentuckycruises.com/wp-content/uploads/2022/07/289073347_10159173292664888_3776518672720018205_n.jpg
GEO:37.0156028;-88.5982681
X-APPLE-STRUCTURED-LOCATION;VALUE=URI;X-ADDRESS=Four Rivers Harley-Davidson 3005 Old Husbands Rd Paducah KY 42003 United States;X-APPLE-RADIUS=500;X-TITLE=3005 Old Husbands Rd:geo:-88.5982681,37.0156028
END:VEVENT
END:VCALENDAR