BEGIN:VCALENDAR
VERSION:2.0
PRODID:-//Kentucky Cruises - ECPv6.6.3//NONSGML v1.0//EN
CALSCALE:GREGORIAN
METHOD:PUBLISH
X-ORIGINAL-URL:https://kentuckycruises.com
X-WR-CALDESC:Events for Kentucky Cruises
REFRESH-INTERVAL;VALUE=DURATION:PT1H
X-Robots-Tag:noindex
X-PUBLISHED-TTL:PT1H
BEGIN:VTIMEZONE
TZID:America/Kentucky/Louisville
BEGIN:DAYLIGHT
TZOFFSETFROM:-0500
TZOFFSETTO:-0400
TZNAME:EDT
DTSTART:20210314T070000
END:DAYLIGHT
BEGIN:STANDARD
TZOFFSETFROM:-0400
TZOFFSETTO:-0500
TZNAME:EST
DTSTART:20211107T060000
END:STANDARD
BEGIN:DAYLIGHT
TZOFFSETFROM:-0500
TZOFFSETTO:-0400
TZNAME:EDT
DTSTART:20220313T070000
END:DAYLIGHT
BEGIN:STANDARD
TZOFFSETFROM:-0400
TZOFFSETTO:-0500
TZNAME:EST
DTSTART:20221106T060000
END:STANDARD
END:VTIMEZONE
BEGIN:VEVENT
DTSTART;TZID=America/Kentucky/Louisville:20220514T080000
DTEND;TZID=America/Kentucky/Louisville:20220514T150000
DTSTAMP:20260421T074909
CREATED:20220420T034210Z
LAST-MODIFIED:20220420T034210Z
UID:10010545-1652515200-1652540400@kentuckycruises.com
SUMMARY:13th Annual Classic Car Show - Eddyville
DESCRIPTION:Eddyville\, KY – 13th Annual Classic Car Show at the Eddyville Mall Parking Lot. \nRegistration: 8:00am – Noon\, Awards at 3:00pm. \nSponsored by Chip Wynn Motors. Entry fee $15.00\, Door Prizes\, Music\, TOP 30 Awards. \nAll years\, cars\, trucks & motorcycle Welcome! \nFor more information Call Tom Ravellette 270-206-0398.
URL:https://kentuckycruises.com/event/13th-annual-classic-car-show-eddyville/
LOCATION:Eddyville Mall\, 385 Outlet Ave\,\, Eddyville\, KY\, 42038\, United States
ATTACH;FMTTYPE=image/jpeg:https://kentuckycruises.com/wp-content/uploads/2021/04/51242563532_3d7e371be5_o-scaled.jpg
GEO:37.0861153;-88.085946
X-APPLE-STRUCTURED-LOCATION;VALUE=URI;X-ADDRESS=Eddyville Mall 385 Outlet Ave Eddyville KY 42038 United States;X-APPLE-RADIUS=500;X-TITLE=385 Outlet Ave\,:geo:-88.085946,37.0861153
END:VEVENT
BEGIN:VEVENT
DTSTART;TZID=America/Kentucky/Louisville:20210515T080000
DTEND;TZID=America/Kentucky/Louisville:20210515T150000
DTSTAMP:20260421T074909
CREATED:20210515T055222Z
LAST-MODIFIED:20210515T055222Z
UID:10007777-1621065600-1621090800@kentuckycruises.com
SUMMARY:12th Annual Classic Car Show - Eddyville
DESCRIPTION:May 15th\n8AM – 3PM \nRegistration 8AM-Noon\nEntry fee $15 \nEddyville Mall Parking Lot\n385 Outlet Ave\nEddyville\, KY  42038 \nClick Flyer below for details. \n \n  \n 
URL:https://kentuckycruises.com/event/12th-annual-classic-car-show-eddyville/
LOCATION:Eddyville Mall\, 385 Outlet Ave\,\, Eddyville\, KY\, 42038\, United States
ATTACH;FMTTYPE=image/jpeg:https://kentuckycruises.com/wp-content/uploads/2021/05/1xx86099041_4293934517291769_6277394102079346485_n.jpg
GEO:37.0861153;-88.085946
X-APPLE-STRUCTURED-LOCATION;VALUE=URI;X-ADDRESS=Eddyville Mall 385 Outlet Ave Eddyville KY 42038 United States;X-APPLE-RADIUS=500;X-TITLE=385 Outlet Ave\,:geo:-88.085946,37.0861153
END:VEVENT
END:VCALENDAR