BEGIN:VCALENDAR
VERSION:2.0
PRODID:-//Kentucky Cruises - ECPv6.6.3//NONSGML v1.0//EN
CALSCALE:GREGORIAN
METHOD:PUBLISH
X-WR-CALNAME:Kentucky Cruises
X-ORIGINAL-URL:https://kentuckycruises.com
X-WR-CALDESC:Events for Kentucky Cruises
REFRESH-INTERVAL;VALUE=DURATION:PT1H
X-Robots-Tag:noindex
X-PUBLISHED-TTL:PT1H
BEGIN:VTIMEZONE
TZID:America/Kentucky/Louisville
BEGIN:DAYLIGHT
TZOFFSETFROM:-0500
TZOFFSETTO:-0400
TZNAME:EDT
DTSTART:20220313T070000
END:DAYLIGHT
BEGIN:STANDARD
TZOFFSETFROM:-0400
TZOFFSETTO:-0500
TZNAME:EST
DTSTART:20221106T060000
END:STANDARD
END:VTIMEZONE
BEGIN:VEVENT
DTSTART;TZID=America/Kentucky/Louisville:20220521T100000
DTEND;TZID=America/Kentucky/Louisville:20220521T160000
DTSTAMP:20260425T070315
CREATED:20220327T030310Z
LAST-MODIFIED:20220327T030310Z
UID:10010451-1653127200-1653148800@kentuckycruises.com
SUMMARY:Hot Rod Boogie Car Show
DESCRIPTION:The Hot Rod Boogie returns! Totally free car show and fundraiser for the Shriners Children’s hospital. No charge to attend the car show w/ vendor area. No charge to bring your car\, truck\, and motorcycle. To compete in the car show\, just make a suggested $25 donation to the Shriner’s Hospital and mail your receipt to delane@muddyroots.com Pre 72 rides only.\nMay 21st 10am-4pm at Eastside Bowl!!!\nThe Hot Rod Boogie is in the same parking lot as the Nashville Boogie Vintage Weekender\, which is a ticketed event with bands\, attractions\, and vintage vendors over 3 days\n\nhttps://www.facebook.com/events/3220265211592407
URL:https://kentuckycruises.com/event/hot-rod-boogie-car-show/
LOCATION:Eastside Bowl\, 1508 Gallatin Pike S\, Madison\, TN\, 37115\, United States
ATTACH;FMTTYPE=image/jpeg:https://kentuckycruises.com/wp-content/uploads/2022/03/276317346_1379466869182049_321341801004072382_n.jpg
GEO:36.2379477;-86.7263911
X-APPLE-STRUCTURED-LOCATION;VALUE=URI;X-ADDRESS=Eastside Bowl 1508 Gallatin Pike S Madison TN 37115 United States;X-APPLE-RADIUS=500;X-TITLE=1508 Gallatin Pike S:geo:-86.7263911,36.2379477
END:VEVENT
END:VCALENDAR