BEGIN:VCALENDAR
VERSION:2.0
PRODID:-//Kentucky Cruises - ECPv6.6.3//NONSGML v1.0//EN
CALSCALE:GREGORIAN
METHOD:PUBLISH
X-ORIGINAL-URL:https://kentuckycruises.com
X-WR-CALDESC:Events for Kentucky Cruises
REFRESH-INTERVAL;VALUE=DURATION:PT1H
X-Robots-Tag:noindex
X-PUBLISHED-TTL:PT1H
BEGIN:VTIMEZONE
TZID:America/Kentucky/Louisville
BEGIN:DAYLIGHT
TZOFFSETFROM:-0500
TZOFFSETTO:-0400
TZNAME:EDT
DTSTART:20220313T070000
END:DAYLIGHT
BEGIN:STANDARD
TZOFFSETFROM:-0400
TZOFFSETTO:-0500
TZNAME:EST
DTSTART:20221106T060000
END:STANDARD
END:VTIMEZONE
BEGIN:VEVENT
DTSTART;TZID=America/Kentucky/Louisville:20220430T110000
DTEND;TZID=America/Kentucky/Louisville:20220430T160000
DTSTAMP:20260421T063541
CREATED:20220322T185703Z
LAST-MODIFIED:20220322T190112Z
UID:10010418-1651316400-1651334400@kentuckycruises.com
SUMMARY:Community Spring Bazaar/Carnival & Car Show
DESCRIPTION:If You Are A Local Vendor Or Anyone Interested In Setting Up A Table For Their Yard Sale Items\, Contact Me At 606-310-3138 So I Can Include You In Our Advertisement! Set Up Is $10.00 For Each Table. \nOther Than Vendors ᴀɴᴅ ʏᴀʀᴅ Sᴀʟᴇs We Will Also Have: ʟɪᴠᴇ ɢᴏsᴘᴇʟ Sɪɴɢɪɴɢ ᴄᴀʀ Sʜᴏᴡ $𝟸𝟶 \nᴄᴀʀ ᴡᴀsʜ ʙʏ ᴇᴘᴋᴛ ʏᴏᴜᴛʜ Ғᴏᴏᴅ/ᴄᴏɴᴄᴇssɪᴏɴ Sɪʟᴇɴᴛ ᴀᴜᴄᴛɪᴏɴ Ɪᴛᴇᴍs ʜᴏᴍᴇᴍᴀᴅᴇ ᴘɪᴇ/ᴄᴀᴋᴇ ᴀᴜᴄᴛɪᴏɴ Ɪɴғʟᴀᴛᴀʙʟᴇ Sʟɪᴅᴇ Ғʀᴇᴇ ɢᴀᴍᴇs ᴀɴᴅ ᴘʀɪᴢᴇs Ғᴏʀ ᴋɪᴅs \nLooking Forward To A Day Of Fellowship With ᴏᴜʀ Community! \nɢᴇᴛ ᴛʜᴇ ᴡᴏʀᴅ ᴏᴜᴛ ᴀɴᴅ ᴄᴏᴍᴇ ʙᴇ ᴡɪᴛʜ ᴜs. ᴀʟʟ ᴘʀᴏᴄᴇᴇᴅs Sᴜᴘᴘᴏʀᴛ ᴇᴘᴋᴛ ʏᴏᴜᴛʜ ᴍinistry!
URL:https://kentuckycruises.com/event/community-spring-bazaar-carnival-car-show/
LOCATION:East Pine Knot Tabernacle Church of God\, 1 Fed Stephens Rd\, Pine Knot\, KY\, 42635\, United States
ATTACH;FMTTYPE=image/jpeg:https://kentuckycruises.com/wp-content/uploads/2022/03/276303676_7857073044318373_5782850652846115515_n.jpg
GEO:36.6705148;-84.393528
X-APPLE-STRUCTURED-LOCATION;VALUE=URI;X-ADDRESS=East Pine Knot Tabernacle Church of God 1 Fed Stephens Rd Pine Knot KY 42635 United States;X-APPLE-RADIUS=500;X-TITLE=1 Fed Stephens Rd:geo:-84.393528,36.6705148
END:VEVENT
END:VCALENDAR