BEGIN:VCALENDAR
VERSION:2.0
PRODID:-//Kentucky Cruises - ECPv6.6.3//NONSGML v1.0//EN
CALSCALE:GREGORIAN
METHOD:PUBLISH
X-ORIGINAL-URL:https://kentuckycruises.com
X-WR-CALDESC:Events for Kentucky Cruises
REFRESH-INTERVAL;VALUE=DURATION:PT1H
X-Robots-Tag:noindex
X-PUBLISHED-TTL:PT1H
BEGIN:VTIMEZONE
TZID:America/Kentucky/Louisville
BEGIN:DAYLIGHT
TZOFFSETFROM:-0500
TZOFFSETTO:-0400
TZNAME:EDT
DTSTART:20230312T070000
END:DAYLIGHT
BEGIN:STANDARD
TZOFFSETFROM:-0400
TZOFFSETTO:-0500
TZNAME:EST
DTSTART:20231105T060000
END:STANDARD
BEGIN:DAYLIGHT
TZOFFSETFROM:-0500
TZOFFSETTO:-0400
TZNAME:EDT
DTSTART:20240310T070000
END:DAYLIGHT
BEGIN:STANDARD
TZOFFSETFROM:-0400
TZOFFSETTO:-0500
TZNAME:EST
DTSTART:20241103T060000
END:STANDARD
BEGIN:DAYLIGHT
TZOFFSETFROM:-0500
TZOFFSETTO:-0400
TZNAME:EDT
DTSTART:20250309T070000
END:DAYLIGHT
BEGIN:STANDARD
TZOFFSETFROM:-0400
TZOFFSETTO:-0500
TZNAME:EST
DTSTART:20251102T060000
END:STANDARD
END:VTIMEZONE
BEGIN:VEVENT
DTSTART;TZID=America/Kentucky/Louisville:20250426T100000
DTEND;TZID=America/Kentucky/Louisville:20250426T150000
DTSTAMP:20260425T150153
CREATED:20250417T225845Z
LAST-MODIFIED:20250417T225845Z
UID:10012005-1745661600-1745679600@kentuckycruises.com
SUMMARY:Cub Scout Pack 45 Car Show
DESCRIPTION:Open to the public. Vehicles of all kinds on exhibit.\n\n$25 per vehicle to register your vehicle for exhibition. To register your vehicle for show\, click  https://docs.google.com/…/1zUvfZJ005fFq3fpK…/viewform….  or register in-person on the day of from 10AM-1PM.  On-site judging and awards presented at 2PM.\n\nThank you for your support of Pack 45!
URL:https://kentuckycruises.com/event/cub-scout-pack-45-car-show-2/
LOCATION:East Jessamine High School\, 815 Sulphur Well Rd\,\, Nicholasville\, KY\, 40356\, United States
ATTACH;FMTTYPE=image/jpeg:https://kentuckycruises.com/wp-content/uploads/2024/03/60970598_10215595928345420_3463382630160924672_n.jpg
ORGANIZER;CN="Cub Scouts Pack 45":MAILTO:dmflagg09@gmail.com
GEO:37.8758904;-84.5530128
X-APPLE-STRUCTURED-LOCATION;VALUE=URI;X-ADDRESS=East Jessamine High School 815 Sulphur Well Rd Nicholasville KY 40356 United States;X-APPLE-RADIUS=500;X-TITLE=815 Sulphur Well Rd\,:geo:-84.5530128,37.8758904
END:VEVENT
BEGIN:VEVENT
DTSTART;TZID=America/Kentucky/Louisville:20230429T100000
DTEND;TZID=America/Kentucky/Louisville:20230429T150000
DTSTAMP:20260425T150153
CREATED:20230326T045627Z
LAST-MODIFIED:20230326T045627Z
UID:10011070-1682762400-1682780400@kentuckycruises.com
SUMMARY:Cub Scout Pack 45 Car Show
DESCRIPTION:
URL:https://kentuckycruises.com/event/cub-scout-pack-45-car-show/
LOCATION:East Jessamine High School\, 815 Sulphur Well Rd\,\, Nicholasville\, KY\, 40356\, United States
ATTACH;FMTTYPE=image/jpeg:https://kentuckycruises.com/wp-content/uploads/2023/03/pack_45_23.jpg
GEO:37.8758904;-84.5530128
X-APPLE-STRUCTURED-LOCATION;VALUE=URI;X-ADDRESS=East Jessamine High School 815 Sulphur Well Rd Nicholasville KY 40356 United States;X-APPLE-RADIUS=500;X-TITLE=815 Sulphur Well Rd\,:geo:-84.5530128,37.8758904
END:VEVENT
END:VCALENDAR