BEGIN:VCALENDAR
VERSION:2.0
PRODID:-//Kentucky Cruises - ECPv6.6.3//NONSGML v1.0//EN
CALSCALE:GREGORIAN
METHOD:PUBLISH
X-ORIGINAL-URL:https://kentuckycruises.com
X-WR-CALDESC:Events for Kentucky Cruises
REFRESH-INTERVAL;VALUE=DURATION:PT1H
X-Robots-Tag:noindex
X-PUBLISHED-TTL:PT1H
BEGIN:VTIMEZONE
TZID:America/Kentucky/Louisville
BEGIN:DAYLIGHT
TZOFFSETFROM:-0500
TZOFFSETTO:-0400
TZNAME:EDT
DTSTART:20220313T070000
END:DAYLIGHT
BEGIN:STANDARD
TZOFFSETFROM:-0400
TZOFFSETTO:-0500
TZNAME:EST
DTSTART:20221106T060000
END:STANDARD
END:VTIMEZONE
BEGIN:VEVENT
DTSTART;TZID=America/Kentucky/Louisville:20220813T110000
DTEND;TZID=America/Kentucky/Louisville:20220813T140000
DTSTAMP:20260421T090228
CREATED:20220712T213608Z
LAST-MODIFIED:20220712T213608Z
UID:10010787-1660388400-1660399200@kentuckycruises.com
SUMMARY:Hot Rods for Hope
DESCRIPTION:
URL:https://kentuckycruises.com/event/hot-rods-for-hope/
LOCATION:Drop In Center\, 1845 KY-15\, Hazard\, KY\, 41701\, United States
ATTACH;FMTTYPE=image/jpeg:https://kentuckycruises.com/wp-content/uploads/2022/07/292162597_7611140478960298_1894716591994661918_n.jpg
GEO:37.2363447;-83.1832591
X-APPLE-STRUCTURED-LOCATION;VALUE=URI;X-ADDRESS=Drop In Center 1845 KY-15 Hazard KY 41701 United States;X-APPLE-RADIUS=500;X-TITLE=1845 KY-15:geo:-83.1832591,37.2363447
END:VEVENT
END:VCALENDAR