BEGIN:VCALENDAR
VERSION:2.0
PRODID:-//Kentucky Cruises - ECPv6.6.3//NONSGML v1.0//EN
CALSCALE:GREGORIAN
METHOD:PUBLISH
X-WR-CALNAME:Kentucky Cruises
X-ORIGINAL-URL:https://kentuckycruises.com
X-WR-CALDESC:Events for Kentucky Cruises
REFRESH-INTERVAL;VALUE=DURATION:PT1H
X-Robots-Tag:noindex
X-PUBLISHED-TTL:PT1H
BEGIN:VTIMEZONE
TZID:America/Kentucky/Louisville
BEGIN:DAYLIGHT
TZOFFSETFROM:-0500
TZOFFSETTO:-0400
TZNAME:EDT
DTSTART:20210314T070000
END:DAYLIGHT
BEGIN:STANDARD
TZOFFSETFROM:-0400
TZOFFSETTO:-0500
TZNAME:EST
DTSTART:20211107T060000
END:STANDARD
BEGIN:DAYLIGHT
TZOFFSETFROM:-0500
TZOFFSETTO:-0400
TZNAME:EDT
DTSTART:20220313T070000
END:DAYLIGHT
BEGIN:STANDARD
TZOFFSETFROM:-0400
TZOFFSETTO:-0500
TZNAME:EST
DTSTART:20221106T060000
END:STANDARD
BEGIN:DAYLIGHT
TZOFFSETFROM:-0500
TZOFFSETTO:-0400
TZNAME:EDT
DTSTART:20230312T070000
END:DAYLIGHT
BEGIN:STANDARD
TZOFFSETFROM:-0400
TZOFFSETTO:-0500
TZNAME:EST
DTSTART:20231105T060000
END:STANDARD
BEGIN:DAYLIGHT
TZOFFSETFROM:-0500
TZOFFSETTO:-0400
TZNAME:EDT
DTSTART:20240310T070000
END:DAYLIGHT
BEGIN:STANDARD
TZOFFSETFROM:-0400
TZOFFSETTO:-0500
TZNAME:EST
DTSTART:20241103T060000
END:STANDARD
BEGIN:DAYLIGHT
TZOFFSETFROM:-0500
TZOFFSETTO:-0400
TZNAME:EDT
DTSTART:20250309T070000
END:DAYLIGHT
BEGIN:STANDARD
TZOFFSETFROM:-0400
TZOFFSETTO:-0500
TZNAME:EST
DTSTART:20251102T060000
END:STANDARD
END:VTIMEZONE
BEGIN:VEVENT
DTSTART;TZID=America/Kentucky/Louisville:20250524T080000
DTEND;TZID=America/Kentucky/Louisville:20250524T160000
DTSTAMP:20260421T074458
CREATED:20250222T212159Z
LAST-MODIFIED:20250222T212159Z
UID:10011999-1748073600-1748102400@kentuckycruises.com
SUMMARY:Rumble on the River
DESCRIPTION:Rumble on the River is set to Roar into Madison\, Indiana’s Iconic Riverfront \n\n\n\nJoin CASA of Jefferson County and Visit Madison\, Indiana on Saturday\, May 24\, 2025 for this free event! Whether you’re showing off your prized vehicle\, spending time with family\, or simply soaking up the atmosphere of a vibrant community event\, the Rumble on the River Car Show promises something for everyone—from classic cars and custom builds\, bikes and trucks to food vendors\, live music\, and a chance to mingle with fellow car enthusiasts who share a passion for innovation and history on wheels. \n\n\n\n\n\n\nPre-registration opens March 1st – May 10th $20 | Day of Show $25  \nOver 50 Trophies | Guaranteed dash plaque with pre-registration | 50/50 Drawing \nLive Music | Food Trucks | Raffle | Madison Fun Factory Corn Hole Tournament \nEnter thru Jefferson off Main Street  \nRiverboat Inn & Suites is the official hotel for the car show! Book early to be close to all the action! 812.265.2361 or bookmadisonindiana@gmail.com www.riverboatinnandsuites.com \nFollow Rumble on the River on FB for more info! \nProceeds benefit CASA of Jefferson County!
URL:https://kentuckycruises.com/event/rumble-on-the-river/
LOCATION:Downtown Madison IN\, KY\, United States
ORGANIZER;CN="CASA of Jefferson County%2C Indiana":MAILTO:whitney@childadvocatesjc.net
END:VEVENT
BEGIN:VEVENT
DTSTART;TZID=America/Kentucky/Louisville:20211022T180000
DTEND;TZID=America/Kentucky/Louisville:20211022T210000
DTSTAMP:20260421T074458
CREATED:20210429T014739Z
LAST-MODIFIED:20210429T014739Z
UID:10009523-1634925600-1634936400@kentuckycruises.com
SUMMARY:Madtown Car Club Cruise-in
DESCRIPTION:4th Friday each month \n6-9PM \nOn the banks of the Mighty Ohio River in downtown Historic Madison Indiana \nFind us on Facebook at Madtown Car Club \n 
URL:https://kentuckycruises.com/event/madtown-car-club-cruise-in/2021-10-22/
LOCATION:Downtown Madison IN\, KY\, United States
ATTACH;FMTTYPE=image/jpeg:https://kentuckycruises.com/wp-content/uploads/2021/04/100667118_10223679616681567_249090433672544256_n.jpg
END:VEVENT
BEGIN:VEVENT
DTSTART;TZID=America/Kentucky/Louisville:20210924T180000
DTEND;TZID=America/Kentucky/Louisville:20210924T210000
DTSTAMP:20260421T074458
CREATED:20210429T014739Z
LAST-MODIFIED:20210429T014739Z
UID:10009522-1632506400-1632517200@kentuckycruises.com
SUMMARY:Madtown Car Club Cruise-in
DESCRIPTION:4th Friday each month \n6-9PM \nOn the banks of the Mighty Ohio River in downtown Historic Madison Indiana \nFind us on Facebook at Madtown Car Club \n 
URL:https://kentuckycruises.com/event/madtown-car-club-cruise-in/2021-09-24/
LOCATION:Downtown Madison IN\, KY\, United States
ATTACH;FMTTYPE=image/jpeg:https://kentuckycruises.com/wp-content/uploads/2021/04/100667118_10223679616681567_249090433672544256_n.jpg
END:VEVENT
BEGIN:VEVENT
DTSTART;TZID=America/Kentucky/Louisville:20210827T180000
DTEND;TZID=America/Kentucky/Louisville:20210827T210000
DTSTAMP:20260421T074458
CREATED:20210429T014739Z
LAST-MODIFIED:20210429T014739Z
UID:10009521-1630087200-1630098000@kentuckycruises.com
SUMMARY:Madtown Car Club Cruise-in
DESCRIPTION:4th Friday each month \n6-9PM \nOn the banks of the Mighty Ohio River in downtown Historic Madison Indiana \nFind us on Facebook at Madtown Car Club \n 
URL:https://kentuckycruises.com/event/madtown-car-club-cruise-in/2021-08-27/
LOCATION:Downtown Madison IN\, KY\, United States
ATTACH;FMTTYPE=image/jpeg:https://kentuckycruises.com/wp-content/uploads/2021/04/100667118_10223679616681567_249090433672544256_n.jpg
END:VEVENT
BEGIN:VEVENT
DTSTART;TZID=America/Kentucky/Louisville:20210723T180000
DTEND;TZID=America/Kentucky/Louisville:20210723T210000
DTSTAMP:20260421T074458
CREATED:20210429T014739Z
LAST-MODIFIED:20210429T014739Z
UID:10009520-1627063200-1627074000@kentuckycruises.com
SUMMARY:Madtown Car Club Cruise-in
DESCRIPTION:4th Friday each month \n6-9PM \nOn the banks of the Mighty Ohio River in downtown Historic Madison Indiana \nFind us on Facebook at Madtown Car Club \n 
URL:https://kentuckycruises.com/event/madtown-car-club-cruise-in/2021-07-23/
LOCATION:Downtown Madison IN\, KY\, United States
ATTACH;FMTTYPE=image/jpeg:https://kentuckycruises.com/wp-content/uploads/2021/04/100667118_10223679616681567_249090433672544256_n.jpg
END:VEVENT
BEGIN:VEVENT
DTSTART;TZID=America/Kentucky/Louisville:20210625T180000
DTEND;TZID=America/Kentucky/Louisville:20210625T210000
DTSTAMP:20260421T074458
CREATED:20210429T014739Z
LAST-MODIFIED:20210429T014739Z
UID:10009519-1624644000-1624654800@kentuckycruises.com
SUMMARY:Madtown Car Club Cruise-in
DESCRIPTION:4th Friday each month \n6-9PM \nOn the banks of the Mighty Ohio River in downtown Historic Madison Indiana \nFind us on Facebook at Madtown Car Club \n 
URL:https://kentuckycruises.com/event/madtown-car-club-cruise-in/2021-06-25/
LOCATION:Downtown Madison IN\, KY\, United States
ATTACH;FMTTYPE=image/jpeg:https://kentuckycruises.com/wp-content/uploads/2021/04/100667118_10223679616681567_249090433672544256_n.jpg
END:VEVENT
BEGIN:VEVENT
DTSTART;TZID=America/Kentucky/Louisville:20210528T180000
DTEND;TZID=America/Kentucky/Louisville:20210528T210000
DTSTAMP:20260421T074458
CREATED:20210429T014739Z
LAST-MODIFIED:20210429T014739Z
UID:10009518-1622224800-1622235600@kentuckycruises.com
SUMMARY:Madtown Car Club Cruise-in
DESCRIPTION:4th Friday each month \n6-9PM \nOn the banks of the Mighty Ohio River in downtown Historic Madison Indiana \nFind us on Facebook at Madtown Car Club \n 
URL:https://kentuckycruises.com/event/madtown-car-club-cruise-in/2021-05-28/
LOCATION:Downtown Madison IN\, KY\, United States
ATTACH;FMTTYPE=image/jpeg:https://kentuckycruises.com/wp-content/uploads/2021/04/100667118_10223679616681567_249090433672544256_n.jpg
END:VEVENT
BEGIN:VEVENT
DTSTART;TZID=America/Kentucky/Louisville:20210528T080000
DTEND;TZID=America/Kentucky/Louisville:20210529T163000
DTSTAMP:20260421T074458
CREATED:20210429T015316Z
LAST-MODIFIED:20210429T015532Z
UID:10009517-1622188800-1622305800@kentuckycruises.com
SUMMARY:Riverfront Run Car Show
DESCRIPTION:8am-4:30pm  Rain or Shine \nOver 150 trophies\, open show\, cars\, trucks and motorcycles. \n\n\nVeteran’s Memorial service at noon.\n$20 to register a car.\nFood\, music & fun! \n812-599-6635 \n8am-4:30pm  Rain or Shine \nwww.riverfrontruncarshow.com
URL:https://kentuckycruises.com/event/riverfront-run-car-show/
LOCATION:Downtown Madison IN\, KY\, United States
ATTACH;FMTTYPE=image/jpeg:https://kentuckycruises.com/wp-content/uploads/2021/04/Riverfront-Run-Car-Show-Slide-2021-1024x590-1.jpg
END:VEVENT
END:VCALENDAR