BEGIN:VCALENDAR
VERSION:2.0
PRODID:-//Kentucky Cruises - ECPv6.6.3//NONSGML v1.0//EN
CALSCALE:GREGORIAN
METHOD:PUBLISH
X-WR-CALNAME:Kentucky Cruises
X-ORIGINAL-URL:https://kentuckycruises.com
X-WR-CALDESC:Events for Kentucky Cruises
REFRESH-INTERVAL;VALUE=DURATION:PT1H
X-Robots-Tag:noindex
X-PUBLISHED-TTL:PT1H
BEGIN:VTIMEZONE
TZID:America/Kentucky/Louisville
BEGIN:DAYLIGHT
TZOFFSETFROM:-0500
TZOFFSETTO:-0400
TZNAME:EDT
DTSTART:20210314T070000
END:DAYLIGHT
BEGIN:STANDARD
TZOFFSETFROM:-0400
TZOFFSETTO:-0500
TZNAME:EST
DTSTART:20211107T060000
END:STANDARD
BEGIN:DAYLIGHT
TZOFFSETFROM:-0500
TZOFFSETTO:-0400
TZNAME:EDT
DTSTART:20220313T070000
END:DAYLIGHT
BEGIN:STANDARD
TZOFFSETFROM:-0400
TZOFFSETTO:-0500
TZNAME:EST
DTSTART:20221106T060000
END:STANDARD
END:VTIMEZONE
BEGIN:VEVENT
DTSTART;TZID=America/Kentucky/Louisville:20220521T090000
DTEND;TZID=America/Kentucky/Louisville:20220521T150000
DTSTAMP:20260421T001830
CREATED:20220215T061153Z
LAST-MODIFIED:20220215T061315Z
UID:10008182-1653123600-1653145200@kentuckycruises.com
SUMMARY:Sundown on Depot
DESCRIPTION:7th Annual Sundown on Depot May 21st\, 2022 in Historic Downtown Greeneville\, TN. \nThis event is open to street rods\, customs\, classics\, muscle cars\, trucks\, low riders\, custom bikes and more. \nDash plaques to first 200 registered vehicles. The event is held in conjunction with the annual Iris Festival and all proceeds from the show benefit Holston Home for Children. \nNew entry and exit points this year for better traffic control entering and leaving the event site. \nWe would like to take this time to thank all of our sponsors\, this event could not take place without your help. \nFor more info call 423-552-8376 \nhttps://www.facebook.com/events/272373011485560/
URL:https://kentuckycruises.com/event/sundown-on-depot-2/
LOCATION:Downtown Greeneville TN\, Greeneville\, TN\, 37743\, United States
ATTACH;FMTTYPE=image/jpeg:https://kentuckycruises.com/wp-content/uploads/2022/02/271842976_449117520267889_3709320536353470388_n.jpg
GEO:36.1602643;-82.8331795
END:VEVENT
BEGIN:VEVENT
DTSTART;TZID=America/Kentucky/Louisville:20210515T100000
DTEND;TZID=America/Kentucky/Louisville:20210515T160000
DTSTAMP:20260421T001830
CREATED:20210511T155243Z
LAST-MODIFIED:20210513T202148Z
UID:10007760-1621072800-1621094400@kentuckycruises.com
SUMMARY:Sundown on Depot
DESCRIPTION:Sundown On Depot week is here! Make plans to attend this Saturday May 15. \nSundown on Depot is a benefit automotive event held in conjunction with the Annual Iris Festival in historic downtown Greeneville\, Tennessee. Open to all cars\, trucks and custom motorcycles. \nEntrance off Summer Street just like before and truck only parking area like before. We will again be doing the Harrison’s Rod and Custom “Squarebody Pick”. \nBlack Label Coatings will also bring one of their powder coated works of art down for their pick\, and there will be some other really cool handmade trophies for the show. \nPlease share and bring your friends. \nYou can stage in the Save-A-Lot parking lot on Summer Street and ride in/park together. \nDO NOT MISS this show. \nClick on flyers below for details.
URL:https://kentuckycruises.com/event/sundown-on-depot/
LOCATION:Downtown Greeneville TN\, Greeneville\, TN\, 37743\, United States
ATTACH;FMTTYPE=image/jpeg:https://kentuckycruises.com/wp-content/uploads/2021/05/183983998_767151250828303_115062966360221627_n.jpg
GEO:36.1602643;-82.8331795
END:VEVENT
END:VCALENDAR