BEGIN:VCALENDAR
VERSION:2.0
PRODID:-//Kentucky Cruises - ECPv6.6.3//NONSGML v1.0//EN
CALSCALE:GREGORIAN
METHOD:PUBLISH
X-ORIGINAL-URL:https://kentuckycruises.com
X-WR-CALDESC:Events for Kentucky Cruises
REFRESH-INTERVAL;VALUE=DURATION:PT1H
X-Robots-Tag:noindex
X-PUBLISHED-TTL:PT1H
BEGIN:VTIMEZONE
TZID:America/Kentucky/Louisville
BEGIN:DAYLIGHT
TZOFFSETFROM:-0500
TZOFFSETTO:-0400
TZNAME:EDT
DTSTART:20220313T070000
END:DAYLIGHT
BEGIN:STANDARD
TZOFFSETFROM:-0400
TZOFFSETTO:-0500
TZNAME:EST
DTSTART:20221106T060000
END:STANDARD
BEGIN:DAYLIGHT
TZOFFSETFROM:-0500
TZOFFSETTO:-0400
TZNAME:EDT
DTSTART:20230312T070000
END:DAYLIGHT
BEGIN:STANDARD
TZOFFSETFROM:-0400
TZOFFSETTO:-0500
TZNAME:EST
DTSTART:20231105T060000
END:STANDARD
END:VTIMEZONE
BEGIN:VEVENT
DTSTART;TZID=America/Kentucky/Louisville:20230915T200000
DTEND;TZID=America/Kentucky/Louisville:20230916T000000
DTSTAMP:20260425T134646
CREATED:20230516T063826Z
LAST-MODIFIED:20230517T003912Z
UID:10011266-1694808000-1694822400@kentuckycruises.com
SUMMARY:Cruisin on Main Street
DESCRIPTION:Car show and Cruisin’ season is upon us!!!! We with Grave Yard Relics car club are looking to revive cruising on Main Street in Historic downtown Campbellsville KY.\nThis is an open public event free to anyone with a nice ride that would like to join us in cruising up and down this legendary piece of asphalt.\nPlease come make some laps with us! There are plenty of places to eat and ample parking around the Main Street area! \nJuly 21st is correct\, NOT July 24th as indicated on flyer.
URL:https://kentuckycruises.com/event/cruisin-on-main-street-3/2023-09-15/
LOCATION:Downtown – Campbellsville\, E Main St\, Campbellsville\, KY\, 42718\, United States
ATTACH;FMTTYPE=image/jpeg:https://kentuckycruises.com/wp-content/uploads/2023/05/347255235_259243599888237_7514446734536205240_n.jpg
GEO:37.3418552;-85.3423414
X-APPLE-STRUCTURED-LOCATION;VALUE=URI;X-ADDRESS=Downtown – Campbellsville E Main St Campbellsville KY 42718 United States;X-APPLE-RADIUS=500;X-TITLE=E Main St:geo:-85.3423414,37.3418552
END:VEVENT
BEGIN:VEVENT
DTSTART;TZID=America/Kentucky/Louisville:20230818T200000
DTEND;TZID=America/Kentucky/Louisville:20230819T000000
DTSTAMP:20260425T134646
CREATED:20230516T063826Z
LAST-MODIFIED:20230517T003912Z
UID:10011265-1692388800-1692403200@kentuckycruises.com
SUMMARY:Cruisin on Main Street
DESCRIPTION:Car show and Cruisin’ season is upon us!!!! We with Grave Yard Relics car club are looking to revive cruising on Main Street in Historic downtown Campbellsville KY.\nThis is an open public event free to anyone with a nice ride that would like to join us in cruising up and down this legendary piece of asphalt.\nPlease come make some laps with us! There are plenty of places to eat and ample parking around the Main Street area! \nJuly 21st is correct\, NOT July 24th as indicated on flyer.
URL:https://kentuckycruises.com/event/cruisin-on-main-street-3/2023-08-18/
LOCATION:Downtown – Campbellsville\, E Main St\, Campbellsville\, KY\, 42718\, United States
ATTACH;FMTTYPE=image/jpeg:https://kentuckycruises.com/wp-content/uploads/2023/05/347255235_259243599888237_7514446734536205240_n.jpg
GEO:37.3418552;-85.3423414
X-APPLE-STRUCTURED-LOCATION;VALUE=URI;X-ADDRESS=Downtown – Campbellsville E Main St Campbellsville KY 42718 United States;X-APPLE-RADIUS=500;X-TITLE=E Main St:geo:-85.3423414,37.3418552
END:VEVENT
BEGIN:VEVENT
DTSTART;TZID=America/Kentucky/Louisville:20230721T200000
DTEND;TZID=America/Kentucky/Louisville:20230722T000000
DTSTAMP:20260425T134646
CREATED:20230516T063826Z
LAST-MODIFIED:20230517T003912Z
UID:10011264-1689969600-1689984000@kentuckycruises.com
SUMMARY:Cruisin on Main Street
DESCRIPTION:Car show and Cruisin’ season is upon us!!!! We with Grave Yard Relics car club are looking to revive cruising on Main Street in Historic downtown Campbellsville KY.\nThis is an open public event free to anyone with a nice ride that would like to join us in cruising up and down this legendary piece of asphalt.\nPlease come make some laps with us! There are plenty of places to eat and ample parking around the Main Street area! \nJuly 21st is correct\, NOT July 24th as indicated on flyer.
URL:https://kentuckycruises.com/event/cruisin-on-main-street-3/2023-07-21/
LOCATION:Downtown – Campbellsville\, E Main St\, Campbellsville\, KY\, 42718\, United States
ATTACH;FMTTYPE=image/jpeg:https://kentuckycruises.com/wp-content/uploads/2023/05/347255235_259243599888237_7514446734536205240_n.jpg
GEO:37.3418552;-85.3423414
X-APPLE-STRUCTURED-LOCATION;VALUE=URI;X-ADDRESS=Downtown – Campbellsville E Main St Campbellsville KY 42718 United States;X-APPLE-RADIUS=500;X-TITLE=E Main St:geo:-85.3423414,37.3418552
END:VEVENT
BEGIN:VEVENT
DTSTART;TZID=America/Kentucky/Louisville:20230616T200000
DTEND;TZID=America/Kentucky/Louisville:20230617T000000
DTSTAMP:20260425T134646
CREATED:20230516T063826Z
LAST-MODIFIED:20230517T003912Z
UID:10011263-1686945600-1686960000@kentuckycruises.com
SUMMARY:Cruisin on Main Street
DESCRIPTION:Car show and Cruisin’ season is upon us!!!! We with Grave Yard Relics car club are looking to revive cruising on Main Street in Historic downtown Campbellsville KY.\nThis is an open public event free to anyone with a nice ride that would like to join us in cruising up and down this legendary piece of asphalt.\nPlease come make some laps with us! There are plenty of places to eat and ample parking around the Main Street area! \nJuly 21st is correct\, NOT July 24th as indicated on flyer.
URL:https://kentuckycruises.com/event/cruisin-on-main-street-3/2023-06-16/
LOCATION:Downtown – Campbellsville\, E Main St\, Campbellsville\, KY\, 42718\, United States
ATTACH;FMTTYPE=image/jpeg:https://kentuckycruises.com/wp-content/uploads/2023/05/347255235_259243599888237_7514446734536205240_n.jpg
GEO:37.3418552;-85.3423414
X-APPLE-STRUCTURED-LOCATION;VALUE=URI;X-ADDRESS=Downtown – Campbellsville E Main St Campbellsville KY 42718 United States;X-APPLE-RADIUS=500;X-TITLE=E Main St:geo:-85.3423414,37.3418552
END:VEVENT
BEGIN:VEVENT
DTSTART;TZID=America/Kentucky/Louisville:20230519T200000
DTEND;TZID=America/Kentucky/Louisville:20230520T000000
DTSTAMP:20260425T134646
CREATED:20230516T063826Z
LAST-MODIFIED:20230517T003912Z
UID:10011262-1684526400-1684540800@kentuckycruises.com
SUMMARY:Cruisin on Main Street
DESCRIPTION:Car show and Cruisin’ season is upon us!!!! We with Grave Yard Relics car club are looking to revive cruising on Main Street in Historic downtown Campbellsville KY.\nThis is an open public event free to anyone with a nice ride that would like to join us in cruising up and down this legendary piece of asphalt.\nPlease come make some laps with us! There are plenty of places to eat and ample parking around the Main Street area! \nJuly 21st is correct\, NOT July 24th as indicated on flyer.
URL:https://kentuckycruises.com/event/cruisin-on-main-street-3/2023-05-19/
LOCATION:Downtown – Campbellsville\, E Main St\, Campbellsville\, KY\, 42718\, United States
ATTACH;FMTTYPE=image/jpeg:https://kentuckycruises.com/wp-content/uploads/2023/05/347255235_259243599888237_7514446734536205240_n.jpg
GEO:37.3418552;-85.3423414
X-APPLE-STRUCTURED-LOCATION;VALUE=URI;X-ADDRESS=Downtown – Campbellsville E Main St Campbellsville KY 42718 United States;X-APPLE-RADIUS=500;X-TITLE=E Main St:geo:-85.3423414,37.3418552
END:VEVENT
BEGIN:VEVENT
DTSTART;TZID=America/Kentucky/Louisville:20220916T180000
DTEND;TZID=America/Kentucky/Louisville:20220916T233000
DTSTAMP:20260425T134646
CREATED:20220311T235208Z
LAST-MODIFIED:20220311T235208Z
UID:10010358-1663351200-1663371000@kentuckycruises.com
SUMMARY:Cruisin on Main Street
DESCRIPTION:Car show and Cruisin’ season is upon us!!!! We with Grave Yard Relics car club are looking to revive cruising on Main Street in Historic downtown Campbellsville KY.\nThis is an open public event free to anyone with a nice ride that would like to join us in cruising up and down this legendary piece of asphalt.\nIt’s been a while since we have had this street lined with car and trucks enjoying the cruising lanes.\nPlease come make some laps with us! There are plenty of places to eat and ample parking around the Main Street area! \n \n 
URL:https://kentuckycruises.com/event/cruisin-on-main-street-2/2022-09-16/
LOCATION:Downtown – Campbellsville\, E Main St\, Campbellsville\, KY\, 42718\, United States
ATTACH;FMTTYPE=image/jpeg:https://kentuckycruises.com/wp-content/uploads/2022/03/275519421_5759372570744973_7724661437479022361_n.jpg
GEO:37.3418552;-85.3423414
X-APPLE-STRUCTURED-LOCATION;VALUE=URI;X-ADDRESS=Downtown – Campbellsville E Main St Campbellsville KY 42718 United States;X-APPLE-RADIUS=500;X-TITLE=E Main St:geo:-85.3423414,37.3418552
END:VEVENT
BEGIN:VEVENT
DTSTART;TZID=America/Kentucky/Louisville:20220520T180000
DTEND;TZID=America/Kentucky/Louisville:20220520T233000
DTSTAMP:20260425T134646
CREATED:20220311T235208Z
LAST-MODIFIED:20220311T235208Z
UID:10010357-1653069600-1653089400@kentuckycruises.com
SUMMARY:Cruisin on Main Street
DESCRIPTION:Car show and Cruisin’ season is upon us!!!! We with Grave Yard Relics car club are looking to revive cruising on Main Street in Historic downtown Campbellsville KY.\nThis is an open public event free to anyone with a nice ride that would like to join us in cruising up and down this legendary piece of asphalt.\nIt’s been a while since we have had this street lined with car and trucks enjoying the cruising lanes.\nPlease come make some laps with us! There are plenty of places to eat and ample parking around the Main Street area! \n \n 
URL:https://kentuckycruises.com/event/cruisin-on-main-street-2/2022-05-20/
LOCATION:Downtown – Campbellsville\, E Main St\, Campbellsville\, KY\, 42718\, United States
ATTACH;FMTTYPE=image/jpeg:https://kentuckycruises.com/wp-content/uploads/2022/03/275519421_5759372570744973_7724661437479022361_n.jpg
GEO:37.3418552;-85.3423414
X-APPLE-STRUCTURED-LOCATION;VALUE=URI;X-ADDRESS=Downtown – Campbellsville E Main St Campbellsville KY 42718 United States;X-APPLE-RADIUS=500;X-TITLE=E Main St:geo:-85.3423414,37.3418552
END:VEVENT
BEGIN:VEVENT
DTSTART;TZID=America/Kentucky/Louisville:20220415T180000
DTEND;TZID=America/Kentucky/Louisville:20220415T233000
DTSTAMP:20260425T134646
CREATED:20220311T235208Z
LAST-MODIFIED:20220311T235208Z
UID:10010356-1650045600-1650065400@kentuckycruises.com
SUMMARY:Cruisin on Main Street
DESCRIPTION:Car show and Cruisin’ season is upon us!!!! We with Grave Yard Relics car club are looking to revive cruising on Main Street in Historic downtown Campbellsville KY.\nThis is an open public event free to anyone with a nice ride that would like to join us in cruising up and down this legendary piece of asphalt.\nIt’s been a while since we have had this street lined with car and trucks enjoying the cruising lanes.\nPlease come make some laps with us! There are plenty of places to eat and ample parking around the Main Street area! \n \n 
URL:https://kentuckycruises.com/event/cruisin-on-main-street-2/2022-04-15/
LOCATION:Downtown – Campbellsville\, E Main St\, Campbellsville\, KY\, 42718\, United States
ATTACH;FMTTYPE=image/jpeg:https://kentuckycruises.com/wp-content/uploads/2022/03/275519421_5759372570744973_7724661437479022361_n.jpg
GEO:37.3418552;-85.3423414
X-APPLE-STRUCTURED-LOCATION;VALUE=URI;X-ADDRESS=Downtown – Campbellsville E Main St Campbellsville KY 42718 United States;X-APPLE-RADIUS=500;X-TITLE=E Main St:geo:-85.3423414,37.3418552
END:VEVENT
END:VCALENDAR