BEGIN:VCALENDAR
VERSION:2.0
PRODID:-//Kentucky Cruises - ECPv6.6.3//NONSGML v1.0//EN
CALSCALE:GREGORIAN
METHOD:PUBLISH
X-WR-CALNAME:Kentucky Cruises
X-ORIGINAL-URL:https://kentuckycruises.com
X-WR-CALDESC:Events for Kentucky Cruises
REFRESH-INTERVAL;VALUE=DURATION:PT1H
X-Robots-Tag:noindex
X-PUBLISHED-TTL:PT1H
BEGIN:VTIMEZONE
TZID:America/Chicago
BEGIN:DAYLIGHT
TZOFFSETFROM:-0600
TZOFFSETTO:-0500
TZNAME:CDT
DTSTART:20220313T080000
END:DAYLIGHT
BEGIN:STANDARD
TZOFFSETFROM:-0500
TZOFFSETTO:-0600
TZNAME:CST
DTSTART:20221106T070000
END:STANDARD
END:VTIMEZONE
BEGIN:VEVENT
DTSTART;TZID=America/Chicago:20220423T083000
DTEND;TZID=America/Chicago:20220423T120000
DTSTAMP:20260422T042702
CREATED:20220416T031525Z
LAST-MODIFIED:20220416T031525Z
UID:10008465-1650702600-1650715200@kentuckycruises.com
SUMMARY:Crossroads Tire and Auto Truck Show
DESCRIPTION:
URL:https://kentuckycruises.com/event/crossroads-tire-and-auto-truck-show/
LOCATION:Crossroads Tire and Auto Repair\, 2347 KY-80\, Russell Springs\, KY\, 42642\, United States
ATTACH;FMTTYPE=image/jpeg:https://kentuckycruises.com/wp-content/uploads/2022/04/278185484_3056494217947146_4572825338457541333_n.jpg
GEO:37.0733734;-85.0481277
X-APPLE-STRUCTURED-LOCATION;VALUE=URI;X-ADDRESS=Crossroads Tire and Auto Repair 2347 KY-80 Russell Springs KY 42642 United States;X-APPLE-RADIUS=500;X-TITLE=2347 KY-80:geo:-85.0481277,37.0733734
END:VEVENT
END:VCALENDAR