BEGIN:VCALENDAR
VERSION:2.0
PRODID:-//Kentucky Cruises - ECPv6.6.3//NONSGML v1.0//EN
CALSCALE:GREGORIAN
METHOD:PUBLISH
X-ORIGINAL-URL:https://kentuckycruises.com
X-WR-CALDESC:Events for Kentucky Cruises
REFRESH-INTERVAL;VALUE=DURATION:PT1H
X-Robots-Tag:noindex
X-PUBLISHED-TTL:PT1H
BEGIN:VTIMEZONE
TZID:America/Kentucky/Louisville
BEGIN:DAYLIGHT
TZOFFSETFROM:-0500
TZOFFSETTO:-0400
TZNAME:EDT
DTSTART:20210314T070000
END:DAYLIGHT
BEGIN:STANDARD
TZOFFSETFROM:-0400
TZOFFSETTO:-0500
TZNAME:EST
DTSTART:20211107T060000
END:STANDARD
END:VTIMEZONE
BEGIN:VEVENT
DTSTART;TZID=America/Kentucky/Louisville:20210904T120000
DTEND;TZID=America/Kentucky/Louisville:20210904T220000
DTSTAMP:20260424T182009
CREATED:20210801T155356Z
LAST-MODIFIED:20210801T155606Z
UID:10009934-1630756800-1630792800@kentuckycruises.com
SUMMARY:Dixie Fest Cruise
DESCRIPTION:Cowboys and Angels Country Store & Farm Supplies\n10836 North Wilderness Road Berea KY. \nOne Of Our Most Popular And Attended Events ! Dixie Fest ! \nSaturday September 4th ! \nAppearance By The General Lee And Civil War Reenactors ! \nNew This Year Also A Cruise In Starting At 12:00PM ! \nOld Fashioned Country Style Cooking And More ! 10836 North Wilderness Rd Berea KY 40403 ! \nCome On Down And Have Some Great Fun With Us \nFor more Information please call (606) 392-6855 or Find them on Facebook at Cowboys and Angels Country Store & Farm Supplies. \nClick flyer below for details. \n \n \n 
URL:https://kentuckycruises.com/event/dixie-fest/
LOCATION:Cowboys and Angels Country Store & Farm Supplies\, 10836 N Wilderness Rd\, Berea\, KY\, 40403\, United States
ATTACH;FMTTYPE=image/jpeg:https://kentuckycruises.com/wp-content/uploads/2021/08/225591878_215959790535947_5569651563865364189_n.jpg
GEO:37.4980405;-84.3240051
X-APPLE-STRUCTURED-LOCATION;VALUE=URI;X-ADDRESS=Cowboys and Angels Country Store & Farm Supplies 10836 N Wilderness Rd Berea KY 40403 United States;X-APPLE-RADIUS=500;X-TITLE=10836 N Wilderness Rd:geo:-84.3240051,37.4980405
END:VEVENT
BEGIN:VEVENT
DTSTART;TZID=America/Kentucky/Louisville:20210731T100000
DTEND;TZID=America/Kentucky/Louisville:20210731T130000
DTSTAMP:20260424T182009
CREATED:20210727T033719Z
LAST-MODIFIED:20210727T033719Z
UID:10007968-1627725600-1627736400@kentuckycruises.com
SUMMARY:Cowboys and Angels Cars and Coffee
DESCRIPTION:Saturday @10AM \nCowboys and Angels Country Store & Farm Supplies\n10836 North Wilderness Road\nBerea KY. \nFor more Information please call (606) 392-6855 or Find them on Facebook at Cowboys and Angels Country Store & Farm Supplies. \nClick flyer below for details.
URL:https://kentuckycruises.com/event/cowboys-and-angels-cars-and-coffee/
LOCATION:Cowboys and Angels Country Store & Farm Supplies\, 10836 N Wilderness Rd\, Berea\, KY\, 40403\, United States
ATTACH;FMTTYPE=image/jpeg:https://kentuckycruises.com/wp-content/uploads/2021/04/51242563532_3d7e371be5_o-scaled.jpg
GEO:37.4980405;-84.3240051
X-APPLE-STRUCTURED-LOCATION;VALUE=URI;X-ADDRESS=Cowboys and Angels Country Store & Farm Supplies 10836 N Wilderness Rd Berea KY 40403 United States;X-APPLE-RADIUS=500;X-TITLE=10836 N Wilderness Rd:geo:-84.3240051,37.4980405
END:VEVENT
BEGIN:VEVENT
DTSTART;TZID=America/Kentucky/Louisville:20210725T130000
DTEND;TZID=America/Kentucky/Louisville:20210725T210000
DTSTAMP:20260424T182009
CREATED:20210506T165458Z
LAST-MODIFIED:20210801T161045Z
UID:10009705-1627218000-1627246800@kentuckycruises.com
SUMMARY:Cowboys and Angels Sunday Cruise
DESCRIPTION:Cowboys and Angels Country Store & Farm Supplies\n10836 North Wilderness Road Berea KY. \nFourth Sunday of each month thru October \nStarts at 1PM \nDoor Prizes\, Raffle\, Music and More.  Vendors welcome at no charge. \nFor more Information please call (606) 392-6855 or Find them on Facebook at Cowboys and Angels Country Store & Farm Supplies. \nClick flyer below for details.
URL:https://kentuckycruises.com/event/cowboys-and-angels-sunday-cruise/2021-07-25/
LOCATION:Cowboys and Angels Country Store & Farm Supplies\, 10836 N Wilderness Rd\, Berea\, KY\, 40403\, United States
ATTACH;FMTTYPE=image/jpeg:https://kentuckycruises.com/wp-content/uploads/2021/05/178349568_144061697725757_2224367152911162914_n.jpg
GEO:37.4980405;-84.3240051
X-APPLE-STRUCTURED-LOCATION;VALUE=URI;X-ADDRESS=Cowboys and Angels Country Store & Farm Supplies 10836 N Wilderness Rd Berea KY 40403 United States;X-APPLE-RADIUS=500;X-TITLE=10836 N Wilderness Rd:geo:-84.3240051,37.4980405
END:VEVENT
BEGIN:VEVENT
DTSTART;TZID=America/Kentucky/Louisville:20210716T180000
DTEND;TZID=America/Kentucky/Louisville:20210716T220000
DTSTAMP:20260424T182009
CREATED:20210429T054125Z
LAST-MODIFIED:20210805T225552Z
UID:10009530-1626458400-1626472800@kentuckycruises.com
SUMMARY:Cowboys and Angels Cruise Night
DESCRIPTION:Friday @ 6PM \nTop 10 Awarded To Old School\, New School And Overall ! \nCowboys and Angels Country Store & Farm Supplies\n10836 North Wilderness Road\nBerea KY. \nFriday night 6PM and Saturday night at 4:30PM \nDoor Prizes\, Raffle\, Music and More \nFor more Information please call (606) 392-6855 or Find them on Facebook at Cowboys and Angels Country Store & Farm Supplies. \nClick flyer below for details.
URL:https://kentuckycruises.com/event/cowboys-and-angels-cruise-night-2021-06-18/2021-07-16/
LOCATION:Cowboys and Angels Country Store & Farm Supplies\, 10836 N Wilderness Rd\, Berea\, KY\, 40403\, United States
ATTACH;FMTTYPE=image/jpeg:https://kentuckycruises.com/wp-content/uploads/2021/04/196492008_178915470907046_6078221030901435996_n.jpg
GEO:37.4980405;-84.3240051
X-APPLE-STRUCTURED-LOCATION;VALUE=URI;X-ADDRESS=Cowboys and Angels Country Store & Farm Supplies 10836 N Wilderness Rd Berea KY 40403 United States;X-APPLE-RADIUS=500;X-TITLE=10836 N Wilderness Rd:geo:-84.3240051,37.4980405
END:VEVENT
BEGIN:VEVENT
DTSTART;TZID=America/Kentucky/Louisville:20210619T163000
DTEND;TZID=America/Kentucky/Louisville:20210619T220000
DTSTAMP:20260424T182009
CREATED:20210611T164353Z
LAST-MODIFIED:20210801T161133Z
UID:10009818-1624120200-1624140000@kentuckycruises.com
SUMMARY:Cowboys and Angels Cruise Night
DESCRIPTION:Saturday @ 4:30PM \nTop 10 Awarded To Old School\, New School And Overall ! \nCowboys and Angels Country Store & Farm Supplies\n10836 North Wilderness Road\nBerea KY. \nFriday night 6PM and Saturday night at 4:30PM \nDoor Prizes\, Raffle\, Music and More \nFor more Information please call (606) 392-6855 or Find them on Facebook at Cowboys and Angels Country Store & Farm Supplies. \nClick flyer below for details.
URL:https://kentuckycruises.com/event/cowboys-and-angels-cruise-night/2021-06-19/
LOCATION:Cowboys and Angels Country Store & Farm Supplies\, 10836 N Wilderness Rd\, Berea\, KY\, 40403\, United States
ATTACH;FMTTYPE=image/jpeg:https://kentuckycruises.com/wp-content/uploads/2021/04/196492008_178915470907046_6078221030901435996_n.jpg
GEO:37.4980405;-84.3240051
X-APPLE-STRUCTURED-LOCATION;VALUE=URI;X-ADDRESS=Cowboys and Angels Country Store & Farm Supplies 10836 N Wilderness Rd Berea KY 40403 United States;X-APPLE-RADIUS=500;X-TITLE=10836 N Wilderness Rd:geo:-84.3240051,37.4980405
END:VEVENT
BEGIN:VEVENT
DTSTART;TZID=America/Kentucky/Louisville:20210618T180000
DTEND;TZID=America/Kentucky/Louisville:20210618T220000
DTSTAMP:20260424T182009
CREATED:20210429T054125Z
LAST-MODIFIED:20210805T225552Z
UID:10009529-1624039200-1624053600@kentuckycruises.com
SUMMARY:Cowboys and Angels Cruise Night
DESCRIPTION:Friday @ 6PM \nTop 10 Awarded To Old School\, New School And Overall ! \nCowboys and Angels Country Store & Farm Supplies\n10836 North Wilderness Road\nBerea KY. \nFriday night 6PM and Saturday night at 4:30PM \nDoor Prizes\, Raffle\, Music and More \nFor more Information please call (606) 392-6855 or Find them on Facebook at Cowboys and Angels Country Store & Farm Supplies. \nClick flyer below for details.
URL:https://kentuckycruises.com/event/cowboys-and-angels-cruise-night-2021-06-18/2021-06-18/
LOCATION:Cowboys and Angels Country Store & Farm Supplies\, 10836 N Wilderness Rd\, Berea\, KY\, 40403\, United States
ATTACH;FMTTYPE=image/jpeg:https://kentuckycruises.com/wp-content/uploads/2021/04/196492008_178915470907046_6078221030901435996_n.jpg
GEO:37.4980405;-84.3240051
X-APPLE-STRUCTURED-LOCATION;VALUE=URI;X-ADDRESS=Cowboys and Angels Country Store & Farm Supplies 10836 N Wilderness Rd Berea KY 40403 United States;X-APPLE-RADIUS=500;X-TITLE=10836 N Wilderness Rd:geo:-84.3240051,37.4980405
END:VEVENT
BEGIN:VEVENT
DTSTART;TZID=America/Kentucky/Louisville:20210528T180000
DTEND;TZID=America/Kentucky/Louisville:20210528T200000
DTSTAMP:20260424T182009
CREATED:20210428T045710Z
LAST-MODIFIED:20210515T051404Z
UID:10009277-1622224800-1622232000@kentuckycruises.com
SUMMARY:Cowboys and Angels Cruise Night
DESCRIPTION:Cowboys and Angels Country Store & Farm Supplies \nFriday May 7th and Saturday May 8th \n10836 North Wilderness Road Berea KY. \nThe second Friday and Saturday nights of each month thru October \nFriday night 6PM and Saturday night at 5PM \nDoor Prizes\, Raffle\, Music and More \nFor more Information please call (606) 392-6855 or Find them on Facebook at Cowboys and Angels Country Store & Farm Supplies.
URL:https://kentuckycruises.com/event/cowboy-and-angels-cruise-night/2021-05-28/
LOCATION:Cowboys and Angels Country Store & Farm Supplies\, 10836 N Wilderness Rd\, Berea\, KY\, 40403\, United States
ATTACH;FMTTYPE=image/jpeg:https://kentuckycruises.com/wp-content/uploads/2021/04/179483216_292121799074631_6648167825267799828_n.jpg
GEO:37.4980405;-84.3240051
X-APPLE-STRUCTURED-LOCATION;VALUE=URI;X-ADDRESS=Cowboys and Angels Country Store & Farm Supplies 10836 N Wilderness Rd Berea KY 40403 United States;X-APPLE-RADIUS=500;X-TITLE=10836 N Wilderness Rd:geo:-84.3240051,37.4980405
END:VEVENT
BEGIN:VEVENT
DTSTART;TZID=America/Kentucky/Louisville:20210523T130000
DTEND;TZID=America/Kentucky/Louisville:20210523T210000
DTSTAMP:20260424T182009
CREATED:20210506T165458Z
LAST-MODIFIED:20210801T161045Z
UID:10009704-1621774800-1621803600@kentuckycruises.com
SUMMARY:Cowboys and Angels Sunday Cruise
DESCRIPTION:Cowboys and Angels Country Store & Farm Supplies\n10836 North Wilderness Road Berea KY. \nFourth Sunday of each month thru October \nStarts at 1PM \nDoor Prizes\, Raffle\, Music and More.  Vendors welcome at no charge. \nFor more Information please call (606) 392-6855 or Find them on Facebook at Cowboys and Angels Country Store & Farm Supplies. \nClick flyer below for details.
URL:https://kentuckycruises.com/event/cowboys-and-angels-sunday-cruise/2021-05-23/
LOCATION:Cowboys and Angels Country Store & Farm Supplies\, 10836 N Wilderness Rd\, Berea\, KY\, 40403\, United States
ATTACH;FMTTYPE=image/jpeg:https://kentuckycruises.com/wp-content/uploads/2021/05/178349568_144061697725757_2224367152911162914_n.jpg
GEO:37.4980405;-84.3240051
X-APPLE-STRUCTURED-LOCATION;VALUE=URI;X-ADDRESS=Cowboys and Angels Country Store & Farm Supplies 10836 N Wilderness Rd Berea KY 40403 United States;X-APPLE-RADIUS=500;X-TITLE=10836 N Wilderness Rd:geo:-84.3240051,37.4980405
END:VEVENT
BEGIN:VEVENT
DTSTART;TZID=America/Kentucky/Louisville:20210515T170000
DTEND;TZID=America/Kentucky/Louisville:20210515T220000
DTSTAMP:20260424T182009
CREATED:20210428T045710Z
LAST-MODIFIED:20210515T053811Z
UID:10009278-1621098000-1621116000@kentuckycruises.com
SUMMARY:Cowboys and Angels Cruise Night
DESCRIPTION:Cowboys and Angels Country Store & Farm Supplies\n10836 North Wilderness Road\nBerea KY 40403 \nApparently KY Cruisers Has Us Set Up For A Cruise This Weekend And Didn’t Know It LOL. \nSo Last Minute Cruise Tomorrow Night ! Saturday May 15th At 5:00PM -10:00PM ! \nHave Trophies For Best Cruise And More ! Come On Down And Be With Us ! \nCowboys & Angels Country Store ! Full Service Kitchen For All Eats And Drinks ! \nMusic\, 50/50 Jackpots And More ! \nFor more Information please call (606) 392-6855 or Find them on Facebook at Cowboys and Angels Country Store & Farm Supplies.
URL:https://kentuckycruises.com/event/cowboy-and-angels-cruise-night-2021-05-15/
LOCATION:Cowboys and Angels Country Store & Farm Supplies\, 10836 N Wilderness Rd\, Berea\, KY\, 40403\, United States
ATTACH;FMTTYPE=image/jpeg:https://kentuckycruises.com/wp-content/uploads/2021/04/184290101_158824399582820_7605014114865960367_n.jpg
GEO:37.4980405;-84.3240051
X-APPLE-STRUCTURED-LOCATION;VALUE=URI;X-ADDRESS=Cowboys and Angels Country Store & Farm Supplies 10836 N Wilderness Rd Berea KY 40403 United States;X-APPLE-RADIUS=500;X-TITLE=10836 N Wilderness Rd:geo:-84.3240051,37.4980405
END:VEVENT
BEGIN:VEVENT
DTSTART;TZID=America/Kentucky/Louisville:20210508T170000
DTEND;TZID=America/Kentucky/Louisville:20210508T200000
DTSTAMP:20260424T182009
CREATED:20210428T045710Z
LAST-MODIFIED:20210515T051404Z
UID:10009276-1620493200-1620504000@kentuckycruises.com
SUMMARY:Cowboys and Angels Cruise Night
DESCRIPTION:Cowboys and Angels Country Store & Farm Supplies \nFriday May 7th and Saturday May 8th \n10836 North Wilderness Road Berea KY. \nThe second Friday and Saturday nights of each month thru October \nFriday night 6PM and Saturday night at 5PM \nDoor Prizes\, Raffle\, Music and More \nFor more Information please call (606) 392-6855 or Find them on Facebook at Cowboys and Angels Country Store & Farm Supplies.
URL:https://kentuckycruises.com/event/cowboy-and-angels-cruise-night/2021-05-08/
LOCATION:Cowboys and Angels Country Store & Farm Supplies\, 10836 N Wilderness Rd\, Berea\, KY\, 40403\, United States
ATTACH;FMTTYPE=image/jpeg:https://kentuckycruises.com/wp-content/uploads/2021/04/179483216_292121799074631_6648167825267799828_n.jpg
GEO:37.4980405;-84.3240051
X-APPLE-STRUCTURED-LOCATION;VALUE=URI;X-ADDRESS=Cowboys and Angels Country Store & Farm Supplies 10836 N Wilderness Rd Berea KY 40403 United States;X-APPLE-RADIUS=500;X-TITLE=10836 N Wilderness Rd:geo:-84.3240051,37.4980405
END:VEVENT
BEGIN:VEVENT
DTSTART;TZID=America/Kentucky/Louisville:20210507T180000
DTEND;TZID=America/Kentucky/Louisville:20210507T200000
DTSTAMP:20260424T182009
CREATED:20210428T045710Z
LAST-MODIFIED:20210515T051404Z
UID:10009275-1620410400-1620417600@kentuckycruises.com
SUMMARY:Cowboys and Angels Cruise Night
DESCRIPTION:Cowboys and Angels Country Store & Farm Supplies \nFriday May 7th and Saturday May 8th \n10836 North Wilderness Road Berea KY. \nThe second Friday and Saturday nights of each month thru October \nFriday night 6PM and Saturday night at 5PM \nDoor Prizes\, Raffle\, Music and More \nFor more Information please call (606) 392-6855 or Find them on Facebook at Cowboys and Angels Country Store & Farm Supplies.
URL:https://kentuckycruises.com/event/cowboy-and-angels-cruise-night/2021-05-07/
LOCATION:Cowboys and Angels Country Store & Farm Supplies\, 10836 N Wilderness Rd\, Berea\, KY\, 40403\, United States
ATTACH;FMTTYPE=image/jpeg:https://kentuckycruises.com/wp-content/uploads/2021/04/179483216_292121799074631_6648167825267799828_n.jpg
GEO:37.4980405;-84.3240051
X-APPLE-STRUCTURED-LOCATION;VALUE=URI;X-ADDRESS=Cowboys and Angels Country Store & Farm Supplies 10836 N Wilderness Rd Berea KY 40403 United States;X-APPLE-RADIUS=500;X-TITLE=10836 N Wilderness Rd:geo:-84.3240051,37.4980405
END:VEVENT
BEGIN:VEVENT
DTSTART;TZID=America/Kentucky/Louisville:20210425T130000
DTEND;TZID=America/Kentucky/Louisville:20210425T210000
DTSTAMP:20260424T182009
CREATED:20210506T165458Z
LAST-MODIFIED:20210801T161045Z
UID:10009703-1619355600-1619384400@kentuckycruises.com
SUMMARY:Cowboys and Angels Sunday Cruise
DESCRIPTION:Cowboys and Angels Country Store & Farm Supplies\n10836 North Wilderness Road Berea KY. \nFourth Sunday of each month thru October \nStarts at 1PM \nDoor Prizes\, Raffle\, Music and More.  Vendors welcome at no charge. \nFor more Information please call (606) 392-6855 or Find them on Facebook at Cowboys and Angels Country Store & Farm Supplies. \nClick flyer below for details.
URL:https://kentuckycruises.com/event/cowboys-and-angels-sunday-cruise/2021-04-25/
LOCATION:Cowboys and Angels Country Store & Farm Supplies\, 10836 N Wilderness Rd\, Berea\, KY\, 40403\, United States
ATTACH;FMTTYPE=image/jpeg:https://kentuckycruises.com/wp-content/uploads/2021/05/178349568_144061697725757_2224367152911162914_n.jpg
GEO:37.4980405;-84.3240051
X-APPLE-STRUCTURED-LOCATION;VALUE=URI;X-ADDRESS=Cowboys and Angels Country Store & Farm Supplies 10836 N Wilderness Rd Berea KY 40403 United States;X-APPLE-RADIUS=500;X-TITLE=10836 N Wilderness Rd:geo:-84.3240051,37.4980405
END:VEVENT
END:VCALENDAR